BEGIN:VCALENDAR
VERSION:2.0
PRODID:-//Camas Football - ECPv6.15.3//NONSGML v1.0//EN
CALSCALE:GREGORIAN
METHOD:PUBLISH
X-WR-CALNAME:Camas Football
X-ORIGINAL-URL:https://camasfootball.com
X-WR-CALDESC:Events for Camas Football
REFRESH-INTERVAL;VALUE=DURATION:PT1H
X-Robots-Tag:noindex
X-PUBLISHED-TTL:PT1H
BEGIN:VTIMEZONE
TZID:America/Los_Angeles
BEGIN:DAYLIGHT
TZOFFSETFROM:-0800
TZOFFSETTO:-0700
TZNAME:PDT
DTSTART:20260308T100000
END:DAYLIGHT
BEGIN:STANDARD
TZOFFSETFROM:-0700
TZOFFSETTO:-0800
TZNAME:PST
DTSTART:20261101T090000
END:STANDARD
END:VTIMEZONE
BEGIN:VEVENT
DTSTART;TZID=America/Los_Angeles:20261201T154500
DTEND;TZID=America/Los_Angeles:20261201T181500
DTSTAMP:20260423T162833
CREATED:20260216T031744Z
LAST-MODIFIED:20260216T031744Z
UID:4590-1796139900-1796148900@camasfootball.com
SUMMARY:Practice
DESCRIPTION:Tuesday Varsity/J.V. Practice \nFull Pac
URL:https://camasfootball.com/event/practice-147/
LOCATION:Cardon Field\, 26900 SE 15th St.\, Camas\, Washington\, 98607
CATEGORIES:Varsity Practice,Varsity/JV Schedule
END:VEVENT
BEGIN:VEVENT
DTSTART;TZID=America/Los_Angeles:20261202T154500
DTEND;TZID=America/Los_Angeles:20261202T181500
DTSTAMP:20260423T162833
CREATED:20260216T033021Z
LAST-MODIFIED:20260216T033021Z
UID:4605-1796226300-1796235300@camasfootball.com
SUMMARY:Practice
DESCRIPTION:Wednesday Varsity/J.V. Practice \nFull Pac
URL:https://camasfootball.com/event/practice-161/
LOCATION:Cardon Field\, 26900 SE 15th St.\, Camas\, Washington\, 98607
CATEGORIES:Varsity Practice,Varsity/JV Schedule
END:VEVENT
BEGIN:VEVENT
DTSTART;TZID=America/Los_Angeles:20261203T154500
DTEND;TZID=America/Los_Angeles:20261203T181500
DTSTAMP:20260423T162833
CREATED:20260216T034510Z
LAST-MODIFIED:20260216T034510Z
UID:4634-1796312700-1796321700@camasfootball.com
SUMMARY:Practice
DESCRIPTION:Thursday Varsity/J.V. Practice \nFull Pac
URL:https://camasfootball.com/event/practice-175/
LOCATION:Cardon Field\, 26900 SE 15th St.\, Camas\, Washington\, 98607
CATEGORIES:Varsity Practice,Varsity/JV Schedule
END:VEVENT
BEGIN:VEVENT
DTSTART;TZID=America/Los_Angeles:20261204T153000
DTEND;TZID=America/Los_Angeles:20261204T174500
DTSTAMP:20260423T162833
CREATED:20260216T035110Z
LAST-MODIFIED:20260216T035110Z
UID:4651-1796398200-1796406300@camasfootball.com
SUMMARY:Practice
DESCRIPTION:Friday Varsity/J.V. Practice \n1/2 Pac
URL:https://camasfootball.com/event/practice-178/
LOCATION:Cardon Field\, 26900 SE 15th St.\, Camas\, Washington\, 98607
CATEGORIES:Varsity Practice,Varsity/JV Schedule
END:VEVENT
BEGIN:VEVENT
DTSTART;TZID=America/Los_Angeles:20261205T190000
DTEND;TZID=America/Los_Angeles:20261205T220000
DTSTAMP:20260423T162833
CREATED:20260216T013829Z
LAST-MODIFIED:20260216T013829Z
UID:4529-1796497200-1796508000@camasfootball.com
SUMMARY:Varsity Game WIAA State Championship Game
DESCRIPTION:Varsity\, WIAA 4A State Championship Game
URL:https://camasfootball.com/event/varsity-game-wiaa-state-championship-game-2026/
LOCATION:Husky Stadium\, 3800 Montlake Blvd NE\, Seattle\, Washington\, 98105
CATEGORIES:Football Games,Varsity/JV Schedule
END:VEVENT
END:VCALENDAR