BEGIN:VCALENDAR
VERSION:2.0
PRODID:-//Camas Football - ECPv6.15.3//NONSGML v1.0//EN
CALSCALE:GREGORIAN
METHOD:PUBLISH
X-WR-CALNAME:Camas Football
X-ORIGINAL-URL:https://camasfootball.com
X-WR-CALDESC:Events for Camas Football
REFRESH-INTERVAL;VALUE=DURATION:PT1H
X-Robots-Tag:noindex
X-PUBLISHED-TTL:PT1H
BEGIN:VTIMEZONE
TZID:America/Los_Angeles
BEGIN:DAYLIGHT
TZOFFSETFROM:-0800
TZOFFSETTO:-0700
TZNAME:PDT
DTSTART:20250309T100000
END:DAYLIGHT
BEGIN:STANDARD
TZOFFSETFROM:-0700
TZOFFSETTO:-0800
TZNAME:PST
DTSTART:20251102T090000
END:STANDARD
END:VTIMEZONE
BEGIN:VEVENT
DTSTART;TZID=America/Los_Angeles:20250113T183000
DTEND;TZID=America/Los_Angeles:20250113T203000
DTSTAMP:20260424T014224
CREATED:20240224T004423Z
LAST-MODIFIED:20250321T203423Z
UID:1249-1736793000-1736800200@camasfootball.com
SUMMARY:#Team_116 Annual Celebration
DESCRIPTION:Join us as we celebrate the end of the 2024 football season and all that Team 116 accomplished including winning the 4A GSHL Championship and a 13-1 season that included a trip to the WIAA 4A State Championship game.
URL:https://camasfootball.com/event/team_116-annual-celebration/
LOCATION:North Commons\, 26900 SE 15th St.\, Camas\, Washington\, 98607
CATEGORIES:Varsity/JV Schedule
END:VEVENT
BEGIN:VEVENT
DTSTART;VALUE=DATE:20250127
DTEND;VALUE=DATE:20250128
DTSTAMP:20260424T014224
CREATED:20250204T173259Z
LAST-MODIFIED:20250321T203428Z
UID:2495-1737936000-1738022399@camasfootball.com
SUMMARY:No School
DESCRIPTION:
URL:https://camasfootball.com/event/no-school-3/
LOCATION:Washington
CATEGORIES:Frosh Calendar,Varsity/JV Schedule
END:VEVENT
BEGIN:VEVENT
DTSTART;TZID=America/Los_Angeles:20250128T071500
DTEND;TZID=America/Los_Angeles:20250128T081500
DTSTAMP:20260424T014224
CREATED:20250204T171941Z
LAST-MODIFIED:20250321T203434Z
UID:2449-1738048500-1738052100@camasfootball.com
SUMMARY:Champions Hour
DESCRIPTION:Champions Hour\n7:00 AM – 8:15 AM\n(Weight Room) \nChampions are build in the weight room! \n 
URL:https://camasfootball.com/event/champions-hour/
LOCATION:Camas Weight Room\, 26900 SE 15th St.\, Camas\, Washington\, 98607
CATEGORIES:Champions Hour,Varsity/JV Schedule
END:VEVENT
BEGIN:VEVENT
DTSTART;TZID=America/Los_Angeles:20250129T070000
DTEND;TZID=America/Los_Angeles:20250129T081500
DTSTAMP:20260424T014224
CREATED:20250204T171345Z
LAST-MODIFIED:20250321T203437Z
UID:2438-1738134000-1738138500@camasfootball.com
SUMMARY:SAQ Pass #1
DESCRIPTION:Speed Agility Quickness Pass #1\n7:00 AM – 8:15 AM\n(Field House)
URL:https://camasfootball.com/event/saq-pass-1-2/
LOCATION:Field House\, 26900 SE 15th St.\, Camas\, Washington\, 98607
CATEGORIES:Speed Agility Quickness,Varsity/JV Schedule
END:VEVENT
BEGIN:VEVENT
DTSTART;TZID=America/Los_Angeles:20250130T071500
DTEND;TZID=America/Los_Angeles:20250130T081500
DTSTAMP:20260424T014224
CREATED:20250204T172152Z
LAST-MODIFIED:20250321T203222Z
UID:2451-1738221300-1738224900@camasfootball.com
SUMMARY:Champions Hour
DESCRIPTION:Champions Hour\n7:00 AM – 8:15 AM\n(Weight Room) \nChampions are build in the weight room!
URL:https://camasfootball.com/event/champions-hour-2/
LOCATION:Camas Weight Room\, 26900 SE 15th St.\, Camas\, Washington\, 98607
CATEGORIES:Champions Hour,Varsity/JV Schedule
END:VEVENT
BEGIN:VEVENT
DTSTART;TZID=America/Los_Angeles:20250131T071500
DTEND;TZID=America/Los_Angeles:20250131T081500
DTSTAMP:20260424T014224
CREATED:20250204T172230Z
LAST-MODIFIED:20250321T203225Z
UID:2452-1738307700-1738311300@camasfootball.com
SUMMARY:Champions Hour
DESCRIPTION:Champions Hour\n7:15 AM – 8:15 AM\n(Weight Room) \nChampions are build in the weight room!
URL:https://camasfootball.com/event/champions-hour-3/
LOCATION:Camas Weight Room\, 26900 SE 15th St.\, Camas\, Washington\, 98607
CATEGORIES:Champions Hour,Varsity/JV Schedule
END:VEVENT
END:VCALENDAR