BEGIN:VCALENDAR
VERSION:2.0
PRODID:-//Camas Football - ECPv6.15.3//NONSGML v1.0//EN
CALSCALE:GREGORIAN
METHOD:PUBLISH
X-ORIGINAL-URL:https://camasfootball.com
X-WR-CALDESC:Events for Camas Football
REFRESH-INTERVAL;VALUE=DURATION:PT1H
X-Robots-Tag:noindex
X-PUBLISHED-TTL:PT1H
BEGIN:VTIMEZONE
TZID:America/Los_Angeles
BEGIN:DAYLIGHT
TZOFFSETFROM:-0800
TZOFFSETTO:-0700
TZNAME:PDT
DTSTART:20250309T100000
END:DAYLIGHT
BEGIN:STANDARD
TZOFFSETFROM:-0700
TZOFFSETTO:-0800
TZNAME:PST
DTSTART:20251102T090000
END:STANDARD
END:VTIMEZONE
BEGIN:VEVENT
DTSTART;TZID=America/Los_Angeles:20250508T160000
DTEND;TZID=America/Los_Angeles:20250508T174500
DTSTAMP:20260425T080459
CREATED:20250320T170230Z
LAST-MODIFIED:20250320T170230Z
UID:3264-1746720000-1746726300@camasfootball.com
SUMMARY:Liberty (Practice)
DESCRIPTION:Liberty Middle School Football  \nPractice
URL:https://camasfootball.com/event/liberty-practice-19/
LOCATION:Liberty Middle School\, 1612 NE Garfield St\, Camas\, 98607\, United States
CATEGORIES:Middle School
END:VEVENT
BEGIN:VEVENT
DTSTART;TZID=America/Los_Angeles:20250508T160000
DTEND;TZID=America/Los_Angeles:20250508T174500
DTSTAMP:20260425T080459
CREATED:20250327T191753Z
LAST-MODIFIED:20250327T191753Z
UID:3401-1746720000-1746726300@camasfootball.com
SUMMARY:Skyridge (Practice)
DESCRIPTION:Skyridge Middle School Football  \nPractice
URL:https://camasfootball.com/event/skyridge-practice-20/
LOCATION:Skyridge Middle School\, 5220 NW Parker St\, Camas\, WA\, 98607\, United States
CATEGORIES:Middle School
END:VEVENT
BEGIN:VEVENT
DTSTART;TZID=America/Los_Angeles:20250508T190000
DTEND;TZID=America/Los_Angeles:20250508T200000
DTSTAMP:20260425T080459
CREATED:20250204T195907Z
LAST-MODIFIED:20250324T211134Z
UID:2548-1746730800-1746734400@camasfootball.com
SUMMARY:#Team_117 Parent/Player Info Meeting
DESCRIPTION:Team 117 parent and player information meeting regarding Summer 2025 schedule. \nNorth Commons
URL:https://camasfootball.com/event/team_117-parent-player-info-meeting/
LOCATION:North Commons\, 26900 SE 15th St.\, Camas\, Washington\, 98607
CATEGORIES:Frosh Calendar,Parent Meeting,Varsity/JV Schedule
END:VEVENT
BEGIN:VEVENT
DTSTART;TZID=America/Los_Angeles:20250509T071500
DTEND;TZID=America/Los_Angeles:20250509T081500
DTSTAMP:20260425T080459
CREATED:20250205T002120Z
LAST-MODIFIED:20250505T153305Z
UID:2672-1746774900-1746778500@camasfootball.com
SUMMARY:Champions Hour #CamasFast
DESCRIPTION:Champions Hour – #CamasFast Training with New Athlete\n7:15 AM – 8:15 AM \n(Field House) \nChampions are build in the weight room!
URL:https://camasfootball.com/event/champions-hour-54/
LOCATION:Field House\, 26900 SE 15th St.\, Camas\, Washington\, 98607
CATEGORIES:Champions Hour,Varsity/JV Schedule
END:VEVENT
BEGIN:VEVENT
DTSTART;TZID=America/Los_Angeles:20250509T160000
DTEND;TZID=America/Los_Angeles:20250509T174500
DTSTAMP:20260425T080459
CREATED:20250327T191815Z
LAST-MODIFIED:20250327T191815Z
UID:3402-1746806400-1746812700@camasfootball.com
SUMMARY:Skyridge (Practice)
DESCRIPTION:Skyridge Middle School Football  \nPractice
URL:https://camasfootball.com/event/skyridge-practice-21/
LOCATION:Skyridge Middle School\, 5220 NW Parker St\, Camas\, WA\, 98607\, United States
CATEGORIES:Middle School
END:VEVENT
BEGIN:VEVENT
DTSTART;TZID=America/Los_Angeles:20250512T071500
DTEND;TZID=America/Los_Angeles:20250512T081500
DTSTAMP:20260425T080459
CREATED:20250205T002136Z
LAST-MODIFIED:20250512T175934Z
UID:2673-1747034100-1747037700@camasfootball.com
SUMMARY:Champions Hour
DESCRIPTION:Champions Hour\n7:15 AM – 8:15 AM\n(Weight Room) \nChampions are build in the weight room!
URL:https://camasfootball.com/event/champions-hour-55/
LOCATION:Camas Weight Room\, 26900 SE 15th St.\, Camas\, Washington\, 98607
CATEGORIES:Champions Hour,Varsity/JV Schedule
END:VEVENT
BEGIN:VEVENT
DTSTART;TZID=America/Los_Angeles:20250512T160000
DTEND;TZID=America/Los_Angeles:20250512T174500
DTSTAMP:20260425T080459
CREATED:20250320T170250Z
LAST-MODIFIED:20250320T170250Z
UID:3265-1747065600-1747071900@camasfootball.com
SUMMARY:Liberty (Practice)
DESCRIPTION:Liberty Middle School Football  \nPractice
URL:https://camasfootball.com/event/liberty-practice-20/
LOCATION:Liberty Middle School\, 1612 NE Garfield St\, Camas\, 98607\, United States
CATEGORIES:Middle School
END:VEVENT
BEGIN:VEVENT
DTSTART;TZID=America/Los_Angeles:20250512T160000
DTEND;TZID=America/Los_Angeles:20250512T174500
DTSTAMP:20260425T080459
CREATED:20250327T191840Z
LAST-MODIFIED:20250327T191840Z
UID:3403-1747065600-1747071900@camasfootball.com
SUMMARY:Skyridge (Practice)
DESCRIPTION:Skyridge Middle School Football  \nPractice
URL:https://camasfootball.com/event/skyridge-practice-22/
LOCATION:Skyridge Middle School\, 5220 NW Parker St\, Camas\, WA\, 98607\, United States
CATEGORIES:Middle School
END:VEVENT
BEGIN:VEVENT
DTSTART;TZID=America/Los_Angeles:20250513T071500
DTEND;TZID=America/Los_Angeles:20250513T081500
DTSTAMP:20260425T080459
CREATED:20250205T002156Z
LAST-MODIFIED:20250321T202300Z
UID:2674-1747120500-1747124100@camasfootball.com
SUMMARY:Champions Hour
DESCRIPTION:Champions Hour\n7:15 AM – 8:15 AM\n(Weight Room) \nChampions are build in the weight room!
URL:https://camasfootball.com/event/champions-hour-56/
LOCATION:Camas Weight Room\, 26900 SE 15th St.\, Camas\, Washington\, 98607
CATEGORIES:Champions Hour,Varsity/JV Schedule
END:VEVENT
BEGIN:VEVENT
DTSTART;TZID=America/Los_Angeles:20250513T170000
DTEND;TZID=America/Los_Angeles:20250513T190000
DTSTAMP:20260425T080459
CREATED:20250327T202358Z
LAST-MODIFIED:20250327T202429Z
UID:3444-1747155600-1747162800@camasfootball.com
SUMMARY:#4 Skyridge at Covington
DESCRIPTION:Skyridge Middle School Football  \nGame 4:  Skyridge at Covington
URL:https://camasfootball.com/event/4-skyridge-at-covington/
LOCATION:Covington Middle School\, 11200 NE Rosewood Ave\, Vancouver\, WA\, 98662\, United States
CATEGORIES:Middle School
END:VEVENT
BEGIN:VEVENT
DTSTART;TZID=America/Los_Angeles:20250513T190000
DTEND;TZID=America/Los_Angeles:20250513T210000
DTSTAMP:20260425T080459
CREATED:20250320T165421Z
LAST-MODIFIED:20250327T203217Z
UID:3250-1747162800-1747170000@camasfootball.com
SUMMARY:#4 Wy'East at Liberty (Doc Harris Stadium)
DESCRIPTION:Liberty Middle School Football  \nGame 4: Wy’East at Liberty (Doc Harris Stadium)
URL:https://camasfootball.com/event/4-wyeast-at-liberty-doc/
LOCATION:Doc Harris Stadium\, 841 NE 22nd Ave.\, Camas\, Washington\, 98607
CATEGORIES:Middle School
END:VEVENT
BEGIN:VEVENT
DTSTART;TZID=America/Los_Angeles:20250514T070000
DTEND;TZID=America/Los_Angeles:20250514T081500
DTSTAMP:20260425T080459
CREATED:20250204T193123Z
LAST-MODIFIED:20250321T201944Z
UID:2543-1747206000-1747210500@camasfootball.com
SUMMARY:SAQ Pass #15
DESCRIPTION:Speed Agility Quickness Pass #15\n7:00 AM – 8:15 AM\n(Field House)
URL:https://camasfootball.com/event/saq-pass-15/
LOCATION:Field House\, 26900 SE 15th St.\, Camas\, Washington\, 98607
CATEGORIES:Speed Agility Quickness,Varsity/JV Schedule
END:VEVENT
BEGIN:VEVENT
DTSTART;TZID=America/Los_Angeles:20250514T160000
DTEND;TZID=America/Los_Angeles:20250514T174500
DTSTAMP:20260425T080459
CREATED:20250320T170312Z
LAST-MODIFIED:20250320T170312Z
UID:3266-1747238400-1747244700@camasfootball.com
SUMMARY:Liberty (Practice)
DESCRIPTION:Liberty Middle School Football  \nPractice
URL:https://camasfootball.com/event/liberty-practice-21/
LOCATION:Liberty Middle School\, 1612 NE Garfield St\, Camas\, 98607\, United States
CATEGORIES:Middle School
END:VEVENT
BEGIN:VEVENT
DTSTART;TZID=America/Los_Angeles:20250514T160000
DTEND;TZID=America/Los_Angeles:20250514T174500
DTSTAMP:20260425T080459
CREATED:20250327T191903Z
LAST-MODIFIED:20250327T191903Z
UID:3404-1747238400-1747244700@camasfootball.com
SUMMARY:Skyridge (Practice)
DESCRIPTION:Skyridge Middle School Football  \nPractice
URL:https://camasfootball.com/event/skyridge-practice-23/
LOCATION:Skyridge Middle School\, 5220 NW Parker St\, Camas\, WA\, 98607\, United States
CATEGORIES:Middle School
END:VEVENT
BEGIN:VEVENT
DTSTART;TZID=America/Los_Angeles:20250515T071500
DTEND;TZID=America/Los_Angeles:20250515T081500
DTSTAMP:20260425T080459
CREATED:20250205T002216Z
LAST-MODIFIED:20250321T202001Z
UID:2675-1747293300-1747296900@camasfootball.com
SUMMARY:Champions Hour
DESCRIPTION:Champions Hour\n7:15 AM – 8:15 AM\n(Weight Room) \nChampions are build in the weight room!
URL:https://camasfootball.com/event/champions-hour-57/
LOCATION:Camas Weight Room\, 26900 SE 15th St.\, Camas\, Washington\, 98607
CATEGORIES:Champions Hour,Varsity/JV Schedule
END:VEVENT
BEGIN:VEVENT
DTSTART;TZID=America/Los_Angeles:20250515T160000
DTEND;TZID=America/Los_Angeles:20250515T174500
DTSTAMP:20260425T080459
CREATED:20250320T170338Z
LAST-MODIFIED:20250320T170338Z
UID:3267-1747324800-1747331100@camasfootball.com
SUMMARY:Liberty (Practice)
DESCRIPTION:Liberty Middle School Football  \nPractice
URL:https://camasfootball.com/event/liberty-practice-22/
LOCATION:Liberty Middle School\, 1612 NE Garfield St\, Camas\, 98607\, United States
CATEGORIES:Middle School
END:VEVENT
BEGIN:VEVENT
DTSTART;TZID=America/Los_Angeles:20250515T160000
DTEND;TZID=America/Los_Angeles:20250515T174500
DTSTAMP:20260425T080459
CREATED:20250327T191922Z
LAST-MODIFIED:20250327T191922Z
UID:3405-1747324800-1747331100@camasfootball.com
SUMMARY:Skyridge (Practice)
DESCRIPTION:Skyridge Middle School Football  \nPractice
URL:https://camasfootball.com/event/skyridge-practice-24/
LOCATION:Skyridge Middle School\, 5220 NW Parker St\, Camas\, WA\, 98607\, United States
CATEGORIES:Middle School
END:VEVENT
BEGIN:VEVENT
DTSTART;TZID=America/Los_Angeles:20250516T071500
DTEND;TZID=America/Los_Angeles:20250516T081500
DTSTAMP:20260425T080459
CREATED:20250205T002233Z
LAST-MODIFIED:20250505T153316Z
UID:2676-1747379700-1747383300@camasfootball.com
SUMMARY:Champions Hour #CamasFast
DESCRIPTION:Champions Hour – #CamasFast Training with New Athlete\n7:15 AM – 8:15 AM \n(Field House) \nChampions are build in the weight room!
URL:https://camasfootball.com/event/champions-hour-58/
LOCATION:Field House\, 26900 SE 15th St.\, Camas\, Washington\, 98607
CATEGORIES:Champions Hour,Varsity/JV Schedule
END:VEVENT
BEGIN:VEVENT
DTSTART;TZID=America/Los_Angeles:20250516T160000
DTEND;TZID=America/Los_Angeles:20250516T180000
DTSTAMP:20260425T080459
CREATED:20250320T165829Z
LAST-MODIFIED:20250320T165955Z
UID:3258-1747411200-1747418400@camasfootball.com
SUMMARY:#5 Liberty at Shahala
DESCRIPTION:Liberty Middle School Football  \nGame 5:  Liberty at Shahala (Union High School)
URL:https://camasfootball.com/event/2-liberty-at-shahala/
LOCATION:Union High School\, 6201 NW Friberg-Strunk St\, Vancouver\, WA\, 98607\, United States
CATEGORIES:Middle School
END:VEVENT
BEGIN:VEVENT
DTSTART;TZID=America/Los_Angeles:20250516T190000
DTEND;TZID=America/Los_Angeles:20250516T210000
DTSTAMP:20260425T080459
CREATED:20250327T202532Z
LAST-MODIFIED:20250425T184547Z
UID:3447-1747422000-1747429200@camasfootball.com
SUMMARY:#5 Cascade at Skyridge (Cardon Field)
DESCRIPTION:Skyridge Middle School Football  \nGame 1: Cascade at Skyridge (Doc Harris)
URL:https://camasfootball.com/event/5-cascade-at-skyridge-cardon-field/
LOCATION:Doc Harris Stadium\, 841 NE 22nd Ave.\, Camas\, Washington\, 98607
CATEGORIES:Middle School
END:VEVENT
BEGIN:VEVENT
DTSTART;TZID=America/Los_Angeles:20250519T071500
DTEND;TZID=America/Los_Angeles:20250519T081500
DTSTAMP:20260425T080459
CREATED:20250205T002255Z
LAST-MODIFIED:20250321T202006Z
UID:2677-1747638900-1747642500@camasfootball.com
SUMMARY:Champions Hour
DESCRIPTION:Champions Hour\n7:15 AM – 8:15 AM\n(Weight Room) \nChampions are build in the weight room!
URL:https://camasfootball.com/event/champions-hour-59/
LOCATION:Camas Weight Room\, 26900 SE 15th St.\, Camas\, Washington\, 98607
CATEGORIES:Champions Hour,Varsity/JV Schedule
END:VEVENT
BEGIN:VEVENT
DTSTART;TZID=America/Los_Angeles:20250519T160000
DTEND;TZID=America/Los_Angeles:20250519T174500
DTSTAMP:20260425T080459
CREATED:20250320T170359Z
LAST-MODIFIED:20250320T170359Z
UID:3268-1747670400-1747676700@camasfootball.com
SUMMARY:Liberty (Practice)
DESCRIPTION:Liberty Middle School Football  \nPractice
URL:https://camasfootball.com/event/liberty-practice-23/
LOCATION:Liberty Middle School\, 1612 NE Garfield St\, Camas\, 98607\, United States
CATEGORIES:Middle School
END:VEVENT
BEGIN:VEVENT
DTSTART;TZID=America/Los_Angeles:20250519T160000
DTEND;TZID=America/Los_Angeles:20250519T174500
DTSTAMP:20260425T080459
CREATED:20250327T192057Z
LAST-MODIFIED:20250327T192057Z
UID:3406-1747670400-1747676700@camasfootball.com
SUMMARY:Skyridge (Practice)
DESCRIPTION:Skyridge Middle School Football  \nPractice
URL:https://camasfootball.com/event/skyridge-practice-25/
LOCATION:Skyridge Middle School\, 5220 NW Parker St\, Camas\, WA\, 98607\, United States
CATEGORIES:Middle School
END:VEVENT
BEGIN:VEVENT
DTSTART;TZID=America/Los_Angeles:20250520T071500
DTEND;TZID=America/Los_Angeles:20250520T081500
DTSTAMP:20260425T080459
CREATED:20250205T002311Z
LAST-MODIFIED:20250321T202036Z
UID:2678-1747725300-1747728900@camasfootball.com
SUMMARY:Champions Hour
DESCRIPTION:Champions Hour\n7:15 AM – 8:15 AM\n(Weight Room) \nChampions are build in the weight room!
URL:https://camasfootball.com/event/champions-hour-60/
LOCATION:Camas Weight Room\, 26900 SE 15th St.\, Camas\, Washington\, 98607
CATEGORIES:Champions Hour,Varsity/JV Schedule
END:VEVENT
BEGIN:VEVENT
DTSTART;TZID=America/Los_Angeles:20250520T170000
DTEND;TZID=America/Los_Angeles:20250520T190000
DTSTAMP:20260425T080459
CREATED:20250327T203132Z
LAST-MODIFIED:20250408T180047Z
UID:3449-1747760400-1747767600@camasfootball.com
SUMMARY:#6 Skyridge at Shahala (Union)
DESCRIPTION:Skyridge Middle School Football  \nGame 6:  Skyridge at Shahala (Union High School)
URL:https://camasfootball.com/event/5-skyridge-at-shahala-union/
LOCATION:Union High School\, 6201 NW Friberg-Strunk St\, Vancouver\, WA\, 98607\, United States
CATEGORIES:Middle School
END:VEVENT
BEGIN:VEVENT
DTSTART;TZID=America/Los_Angeles:20250520T190000
DTEND;TZID=America/Los_Angeles:20250520T210000
DTSTAMP:20260425T080459
CREATED:20250320T165534Z
LAST-MODIFIED:20250327T203221Z
UID:3252-1747767600-1747774800@camasfootball.com
SUMMARY:#6 Cascade at Liberty (Doc Harris Stadium)
DESCRIPTION:Liberty Middle School Football  \nGame 6: Cascade at Liberty (Doc Harris Stadium)
URL:https://camasfootball.com/event/6-cascade-at-liberty-doc/
LOCATION:Doc Harris Stadium\, 841 NE 22nd Ave.\, Camas\, Washington\, 98607
CATEGORIES:Middle School
END:VEVENT
BEGIN:VEVENT
DTSTART;TZID=America/Los_Angeles:20250521T070000
DTEND;TZID=America/Los_Angeles:20250521T081500
DTSTAMP:20260425T080459
CREATED:20250204T193157Z
LAST-MODIFIED:20250321T202050Z
UID:2544-1747810800-1747815300@camasfootball.com
SUMMARY:SAQ Pass #16
DESCRIPTION:Speed Agility Quickness Pass #16\n7:00 AM – 8:15 AM\n(Field House)
URL:https://camasfootball.com/event/saq-pass-16/
LOCATION:Field House\, 26900 SE 15th St.\, Camas\, Washington\, 98607
CATEGORIES:Speed Agility Quickness,Varsity/JV Schedule
END:VEVENT
BEGIN:VEVENT
DTSTART;TZID=America/Los_Angeles:20250521T160000
DTEND;TZID=America/Los_Angeles:20250521T174500
DTSTAMP:20260425T080459
CREATED:20250320T170417Z
LAST-MODIFIED:20250320T170417Z
UID:3269-1747843200-1747849500@camasfootball.com
SUMMARY:Liberty (Practice)
DESCRIPTION:Liberty Middle School Football  \nPractice
URL:https://camasfootball.com/event/liberty-practice-24/
LOCATION:Liberty Middle School\, 1612 NE Garfield St\, Camas\, 98607\, United States
CATEGORIES:Middle School
END:VEVENT
BEGIN:VEVENT
DTSTART;TZID=America/Los_Angeles:20250521T160000
DTEND;TZID=America/Los_Angeles:20250521T174500
DTSTAMP:20260425T080459
CREATED:20250327T192120Z
LAST-MODIFIED:20250327T192120Z
UID:3407-1747843200-1747849500@camasfootball.com
SUMMARY:Skyridge (Practice)
DESCRIPTION:Skyridge Middle School Football  \nPractice
URL:https://camasfootball.com/event/skyridge-practice-26/
LOCATION:Skyridge Middle School\, 5220 NW Parker St\, Camas\, WA\, 98607\, United States
CATEGORIES:Middle School
END:VEVENT
BEGIN:VEVENT
DTSTART;TZID=America/Los_Angeles:20250522T071500
DTEND;TZID=America/Los_Angeles:20250522T081500
DTSTAMP:20260425T080459
CREATED:20250205T002327Z
LAST-MODIFIED:20250321T202058Z
UID:2679-1747898100-1747901700@camasfootball.com
SUMMARY:Champions Hour
DESCRIPTION:Champions Hour\n7:15 AM – 8:15 AM\n(Weight Room) \nChampions are build in the weight room!
URL:https://camasfootball.com/event/champions-hour-61/
LOCATION:Camas Weight Room\, 26900 SE 15th St.\, Camas\, Washington\, 98607
CATEGORIES:Champions Hour,Varsity/JV Schedule
END:VEVENT
END:VCALENDAR