BEGIN:VCALENDAR
VERSION:2.0
PRODID:-//Camas Football - ECPv6.15.3//NONSGML v1.0//EN
CALSCALE:GREGORIAN
METHOD:PUBLISH
X-WR-CALNAME:Camas Football
X-ORIGINAL-URL:https://camasfootball.com
X-WR-CALDESC:Events for Camas Football
REFRESH-INTERVAL;VALUE=DURATION:PT1H
X-Robots-Tag:noindex
X-PUBLISHED-TTL:PT1H
BEGIN:VTIMEZONE
TZID:America/Los_Angeles
BEGIN:DAYLIGHT
TZOFFSETFROM:-0800
TZOFFSETTO:-0700
TZNAME:PDT
DTSTART:20240310T100000
END:DAYLIGHT
BEGIN:STANDARD
TZOFFSETFROM:-0700
TZOFFSETTO:-0800
TZNAME:PST
DTSTART:20241103T090000
END:STANDARD
END:VTIMEZONE
BEGIN:VEVENT
DTSTART;TZID=America/Los_Angeles:20240416T190000
DTEND;TZID=America/Los_Angeles:20240416T200000
DTSTAMP:20260425T045858
CREATED:20240222T043205Z
LAST-MODIFIED:20240418T164831Z
UID:746-1713294000-1713297600@camasfootball.com
SUMMARY:#Team_116 Parent/Player Info Meeting
DESCRIPTION:Team 116 parent and player information meeting regarding Summer 2024 schedule. \nNorth Commons
URL:https://camasfootball.com/event/team_116-parent-player-info-meeting/
LOCATION:North Commons\, 26900 SE 15th St.\, Camas\, Washington\, 98607
CATEGORIES:Frosh Calendar,Parent Meeting
END:VEVENT
BEGIN:VEVENT
DTSTART;TZID=America/Los_Angeles:20240414T163000
DTEND;TZID=America/Los_Angeles:20240414T173000
DTSTAMP:20260425T045858
CREATED:20240223T070500Z
LAST-MODIFIED:20240308T035939Z
UID:926-1713112200-1713115800@camasfootball.com
SUMMARY:#ToTheTop Youth Football Skills Camp - Grade: 5-7 Week 1
DESCRIPTION:#ToTheTop Youth Football Skills Camp – Week 1 \n4th – 7th Grade\, Code: 3043-24\nQB & RB Focus \nThis camp is for beginner to intermediate level youth football players. Join in the fun as we instruct and practice the basics of football position specific skills with some of SW WA best high school players! This traditional “Big Guys – Little Guys” Camp will focus mostly on position specific fundaments in a manner that will not only be enjoyable\, but will undoubtedly translate into a fun and successful venture into youth football. Bring a water bottle and wear athletic attire (athletic shoes or molded cleats). \nThe camp will be coached by members of the CHS 2024 High School football program\, with director oversight from Camas Head Football Coach Adam Mathieson and members of the CHS football Coaching staff. \n$99 for all 6 Weeks \nThis is a 6 week camp that meets every Sunday from April 14 through May 19.
URL:https://camasfootball.com/event/tothetop-youth-football-skills-camp-grade-5-7-week-1/
LOCATION:Field House\, 26900 SE 15th St.\, Camas\, Washington\, 98607
CATEGORIES:Youth Football Camp
END:VEVENT
BEGIN:VEVENT
DTSTART;TZID=America/Los_Angeles:20240414T150000
DTEND;TZID=America/Los_Angeles:20240414T160000
DTSTAMP:20260425T045858
CREATED:20240222T044627Z
LAST-MODIFIED:20240308T035927Z
UID:752-1713106800-1713110400@camasfootball.com
SUMMARY:#ToTheTop Youth Football Skills Camp - Grade: 2-4 Week 1
DESCRIPTION:#ToTheTop Youth Football Skills Camp – Week 1 \n2nd – 4th Grade\, Code: 3042-24\nQB & RB Focus \nThis camp is for beginner to intermediate level youth football players. Join in the fun as we instruct and practice the basics of football position specific skills with some of SW WA best high school players! This traditional “Big Guys – Little Guys” Camp will focus mostly on position specific fundaments in a manner that will not only be enjoyable\, but will undoubtedly translate into a fun and successful venture into youth football. Bring a water bottle and wear athletic attire (athletic shoes or molded cleats). \nThe camp will be coached by members of the CHS 2024 High School football program\, with director oversight from Camas Head Football Coach Adam Mathieson and members of the CHS football Coaching staff. \n$99 for all 6 Weeks \nThis is a 6 week camp that meets every Sunday from April 14 through May 19.
URL:https://camasfootball.com/event/tothetop-youth-football-skills-camp-week-1/
LOCATION:Field House\, 26900 SE 15th St.\, Camas\, Washington\, 98607
CATEGORIES:Youth Football Camp
END:VEVENT
BEGIN:VEVENT
DTSTART;VALUE=DATE:20240413
DTEND;VALUE=DATE:20240414
DTSTAMP:20260425T045858
CREATED:20240223T103834Z
LAST-MODIFIED:20240307T061746Z
UID:1000-1712966400-1713052799@camasfootball.com
SUMMARY:University of Oregon Coaches Clinic
DESCRIPTION:University of Oregon Coaches Clinic \nApril 11-13
URL:https://camasfootball.com/event/university-of-oregon-coaches-clinic-2/
LOCATION:Washington
END:VEVENT
BEGIN:VEVENT
DTSTART;VALUE=DATE:20240412
DTEND;VALUE=DATE:20240413
DTSTAMP:20260425T045858
CREATED:20240222T042255Z
LAST-MODIFIED:20240307T061739Z
UID:735-1712880000-1712966399@camasfootball.com
SUMMARY:University of Oregon Coaches Clinic
DESCRIPTION:University of Oregon Coaches Clinic \nApril 11-13
URL:https://camasfootball.com/event/university-of-oregon-coaches-clinic/
LOCATION:Washington
END:VEVENT
BEGIN:VEVENT
DTSTART;VALUE=DATE:20240411
DTEND;VALUE=DATE:20240412
DTSTAMP:20260425T045858
CREATED:20240223T103840Z
LAST-MODIFIED:20240307T061721Z
UID:1001-1712793600-1712879999@camasfootball.com
SUMMARY:University of Oregon Coaches Clinic
DESCRIPTION:University of Oregon Coaches Clinic \nApril 11-13
URL:https://camasfootball.com/event/university-of-oregon-coaches-clinic-3/
LOCATION:Washington
END:VEVENT
BEGIN:VEVENT
DTSTART;TZID=America/Los_Angeles:20240410T070000
DTEND;TZID=America/Los_Angeles:20240410T081500
DTSTAMP:20260425T045858
CREATED:20240222T042439Z
LAST-MODIFIED:20240308T035919Z
UID:739-1712732400-1712736900@camasfootball.com
SUMMARY:SAQ Pass #8
DESCRIPTION:Speed Agility Quickness Pass #8\n7:00 AM – 8:15 AM\n(Field House)
URL:https://camasfootball.com/event/saq-pass-8/
LOCATION:Field House\, 26900 SE 15th St.\, Camas\, Washington\, 98607
CATEGORIES:Speed Agility Quickness
END:VEVENT
BEGIN:VEVENT
DTSTART;VALUE=DATE:20240405
DTEND;VALUE=DATE:20240406
DTSTAMP:20260425T045858
CREATED:20240223T103009Z
LAST-MODIFIED:20240418T164701Z
UID:988-1712275200-1712361599@camasfootball.com
SUMMARY:Spring Break
DESCRIPTION:Spring Break April 1 – April 5
URL:https://camasfootball.com/event/spring-break-5/
LOCATION:Washington
CATEGORIES:Frosh Calendar,Spring Break
END:VEVENT
BEGIN:VEVENT
DTSTART;VALUE=DATE:20240404
DTEND;VALUE=DATE:20240405
DTSTAMP:20260425T045858
CREATED:20240223T102959Z
LAST-MODIFIED:20240418T164816Z
UID:987-1712188800-1712275199@camasfootball.com
SUMMARY:Spring Break
DESCRIPTION:Spring Break April 1 – April 5
URL:https://camasfootball.com/event/spring-break-4/
LOCATION:Washington
CATEGORIES:Frosh Calendar,Spring Break
END:VEVENT
BEGIN:VEVENT
DTSTART;VALUE=DATE:20240403
DTEND;VALUE=DATE:20240404
DTSTAMP:20260425T045858
CREATED:20240223T102947Z
LAST-MODIFIED:20240418T164716Z
UID:986-1712102400-1712188799@camasfootball.com
SUMMARY:Spring Break
DESCRIPTION:Spring Break April 1 – April 5
URL:https://camasfootball.com/event/spring-break-3/
LOCATION:Washington
CATEGORIES:Frosh Calendar,Spring Break
END:VEVENT
BEGIN:VEVENT
DTSTART;VALUE=DATE:20240402
DTEND;VALUE=DATE:20240403
DTSTAMP:20260425T045858
CREATED:20240223T102936Z
LAST-MODIFIED:20240418T164712Z
UID:985-1712016000-1712102399@camasfootball.com
SUMMARY:Spring Break
DESCRIPTION:Spring Break April 1 – April 5
URL:https://camasfootball.com/event/spring-break-2/
LOCATION:Washington
CATEGORIES:Frosh Calendar,Spring Break
END:VEVENT
BEGIN:VEVENT
DTSTART;VALUE=DATE:20240401
DTEND;VALUE=DATE:20240402
DTSTAMP:20260425T045858
CREATED:20240222T042339Z
LAST-MODIFIED:20240418T164708Z
UID:737-1711929600-1712015999@camasfootball.com
SUMMARY:Spring Break
DESCRIPTION:Spring Break April 1 – April 5
URL:https://camasfootball.com/event/spring-break/
LOCATION:Washington
CATEGORIES:Frosh Calendar,Spring Break
END:VEVENT
BEGIN:VEVENT
DTSTART;TZID=America/Los_Angeles:20240327T070000
DTEND;TZID=America/Los_Angeles:20240327T081500
DTSTAMP:20260425T045858
CREATED:20240222T041347Z
LAST-MODIFIED:20240308T035826Z
UID:731-1711522800-1711527300@camasfootball.com
SUMMARY:SAQ Pass #7
DESCRIPTION:Speed Agility Quickness Pass #7\n7:00 AM – 8:15 AM\n(Field House)
URL:https://camasfootball.com/event/saq-pass-7/
LOCATION:Field House\, 26900 SE 15th St.\, Camas\, Washington\, 98607
CATEGORIES:Speed Agility Quickness
END:VEVENT
BEGIN:VEVENT
DTSTART;TZID=America/Los_Angeles:20240320T070000
DTEND;TZID=America/Los_Angeles:20240320T081500
DTSTAMP:20260425T045858
CREATED:20240222T041313Z
LAST-MODIFIED:20240308T035821Z
UID:729-1710918000-1710922500@camasfootball.com
SUMMARY:SAQ Pass #6
DESCRIPTION:Speed Agility Quickness Pass #6\n7:00 AM – 8:15 AM\n(Field House)
URL:https://camasfootball.com/event/saq-pass-6/
LOCATION:Field House\, 26900 SE 15th St.\, Camas\, Washington\, 98607
CATEGORIES:Speed Agility Quickness
END:VEVENT
BEGIN:VEVENT
DTSTART;TZID=America/Los_Angeles:20240313T070000
DTEND;TZID=America/Los_Angeles:20240313T081500
DTSTAMP:20260425T045858
CREATED:20240222T041248Z
LAST-MODIFIED:20240308T035816Z
UID:727-1710313200-1710317700@camasfootball.com
SUMMARY:SAQ Pass #5
DESCRIPTION:Speed Agility Quickness Pass #5\n7:00 AM – 8:15 AM\n(Field House)
URL:https://camasfootball.com/event/saq-pass-5/
LOCATION:Field House\, 26900 SE 15th St.\, Camas\, Washington\, 98607
CATEGORIES:Speed Agility Quickness
END:VEVENT
BEGIN:VEVENT
DTSTART;TZID=America/Los_Angeles:20240306T070000
DTEND;TZID=America/Los_Angeles:20240306T081500
DTSTAMP:20260425T045858
CREATED:20240222T041215Z
LAST-MODIFIED:20240308T035812Z
UID:725-1709708400-1709712900@camasfootball.com
SUMMARY:SAQ Pass #4
DESCRIPTION:Speed Agility Quickness Pass #4\n7:00 AM – 8:15 AM\n(Field House)
URL:https://camasfootball.com/event/saq-pass-4/
LOCATION:Field House\, 26900 SE 15th St.\, Camas\, Washington\, 98607
CATEGORIES:Speed Agility Quickness
END:VEVENT
BEGIN:VEVENT
DTSTART;VALUE=DATE:20240301
DTEND;VALUE=DATE:20240304
DTSTAMP:20260425T045858
CREATED:20240222T041525Z
LAST-MODIFIED:20240306T160617Z
UID:733-1709251200-1709510399@camasfootball.com
SUMMARY:Glazier Clinic - Seattle & Las Vegas
DESCRIPTION:Glazier Clinic in Seattle or Las Vegas
URL:https://camasfootball.com/event/glazier-clinic-seattle-las-vegas/
LOCATION:Washington
END:VEVENT
BEGIN:VEVENT
DTSTART;TZID=America/Los_Angeles:20240228T070000
DTEND;TZID=America/Los_Angeles:20240228T081500
DTSTAMP:20260425T045858
CREATED:20240222T040959Z
LAST-MODIFIED:20240308T035808Z
UID:723-1709103600-1709108100@camasfootball.com
SUMMARY:SAQ Pass #3
DESCRIPTION:Speed Agility Quickness Pass #3\n7:00 AM – 8:15 AM\n(Field House)
URL:https://camasfootball.com/event/saq-pass-3/
LOCATION:Field House\, 26900 SE 15th St.\, Camas\, Washington\, 98607
CATEGORIES:Speed Agility Quickness
END:VEVENT
BEGIN:VEVENT
DTSTART;TZID=America/Los_Angeles:20240221T070000
DTEND;TZID=America/Los_Angeles:20240221T081500
DTSTAMP:20260425T045858
CREATED:20240222T040732Z
LAST-MODIFIED:20240308T035804Z
UID:720-1708498800-1708503300@camasfootball.com
SUMMARY:SAQ Pass #2
DESCRIPTION:Speed Agility Quickness Pass #2\n7:00 AM – 8:15 AM\n(Field House)
URL:https://camasfootball.com/event/saq-pass-2/
LOCATION:Field House\, 26900 SE 15th St.\, Camas\, Washington\, 98607
CATEGORIES:Speed Agility Quickness
END:VEVENT
BEGIN:VEVENT
DTSTART;TZID=America/Los_Angeles:20240214T070000
DTEND;TZID=America/Los_Angeles:20240214T081500
DTSTAMP:20260425T045858
CREATED:20240224T004613Z
LAST-MODIFIED:20240308T035752Z
UID:1251-1707894000-1707898500@camasfootball.com
SUMMARY:SAQ Pass #1
DESCRIPTION:Speed Agility Quickness Pass #1\n7:00 AM – 8:15 AM\n(Field House)
URL:https://camasfootball.com/event/saq-pass-1/
LOCATION:Field House\, 26900 SE 15th St.\, Camas\, Washington\, 98607
CATEGORIES:Speed Agility Quickness
END:VEVENT
BEGIN:VEVENT
DTSTART;TZID=America/Los_Angeles:20240207T080000
DTEND;TZID=America/Los_Angeles:20240207T083000
DTSTAMP:20260425T045858
CREATED:20240224T013119Z
LAST-MODIFIED:20250204T173002Z
UID:1265-1707292800-1707294600@camasfootball.com
SUMMARY:National Signing Day
DESCRIPTION:National Signing Day
URL:https://camasfootball.com/event/national-signing-day/
LOCATION:Main Gym\, 26900 SE 15th St.\, Camas\, Washington\, 98607
CATEGORIES:National Signing Day
END:VEVENT
END:VCALENDAR