BEGIN:VCALENDAR
VERSION:2.0
PRODID:-//Camas Football - ECPv6.15.3//NONSGML v1.0//EN
CALSCALE:GREGORIAN
METHOD:PUBLISH
X-WR-CALNAME:Camas Football
X-ORIGINAL-URL:https://camasfootball.com
X-WR-CALDESC:Events for Camas Football
REFRESH-INTERVAL;VALUE=DURATION:PT1H
X-Robots-Tag:noindex
X-PUBLISHED-TTL:PT1H
BEGIN:VTIMEZONE
TZID:America/Los_Angeles
BEGIN:DAYLIGHT
TZOFFSETFROM:-0800
TZOFFSETTO:-0700
TZNAME:PDT
DTSTART:20240310T100000
END:DAYLIGHT
BEGIN:STANDARD
TZOFFSETFROM:-0700
TZOFFSETTO:-0800
TZNAME:PST
DTSTART:20241103T090000
END:STANDARD
END:VTIMEZONE
BEGIN:VEVENT
DTSTART;TZID=America/Los_Angeles:20240819T100000
DTEND;TZID=America/Los_Angeles:20240819T110000
DTSTAMP:20260425T045647
CREATED:20240223T083058Z
LAST-MODIFIED:20240308T032303Z
UID:940-1724061600-1724065200@camasfootball.com
SUMMARY:Gear Distribution (Juniors)
DESCRIPTION:Gear Distribution for JUNIORS who did not go to Team Camp.
URL:https://camasfootball.com/event/gear-distribution-juniors-2/
LOCATION:Camas Locker Room\, 26900 SE 15th St.\, Camas\, Washington\, 98607
CATEGORIES:Gear Distribution
END:VEVENT
BEGIN:VEVENT
DTSTART;TZID=America/Los_Angeles:20240819T190000
DTEND;TZID=America/Los_Angeles:20240819T200000
DTSTAMP:20260425T045647
CREATED:20240223T110913Z
LAST-MODIFIED:20240418T204622Z
UID:1036-1724094000-1724097600@camasfootball.com
SUMMARY:Parent Meeting
DESCRIPTION:Parent Meeting with Coach Mathieson \nMeeting includes Freshmen\, Sophomores\, Juniors and Senior parents.
URL:https://camasfootball.com/event/parent-meeting/
LOCATION:North Commons\, 26900 SE 15th St.\, Camas\, Washington\, 98607
CATEGORIES:Frosh Calendar,Parent Meeting
END:VEVENT
BEGIN:VEVENT
DTSTART;TZID=America/Los_Angeles:20240819T190000
DTEND;TZID=America/Los_Angeles:20240819T210000
DTSTAMP:20260425T045647
CREATED:20240223T111053Z
LAST-MODIFIED:20240306T164438Z
UID:1038-1724094000-1724101200@camasfootball.com
SUMMARY:Player Combine
DESCRIPTION:Player Combine at Cardon Field \nCombine includes Freshmen\, Sophomores\, Juniors and Senior players.
URL:https://camasfootball.com/event/player-combine/
LOCATION:Cardon Field\, 26900 SE 15th St.\, Camas\, Washington\, 98607
END:VEVENT
BEGIN:VEVENT
DTSTART;TZID=America/Los_Angeles:20240820T080000
DTEND;TZID=America/Los_Angeles:20240820T090000
DTSTAMP:20260425T045647
CREATED:20240223T083203Z
LAST-MODIFIED:20240308T032256Z
UID:941-1724140800-1724144400@camasfootball.com
SUMMARY:Gear Distribution (Sophomores)
DESCRIPTION:Gear Distribution for SOPHOMORES who did not go to Team Camp.
URL:https://camasfootball.com/event/gear-distribution-sophomores-2/
LOCATION:Camas Locker Room\, 26900 SE 15th St.\, Camas\, Washington\, 98607
CATEGORIES:Gear Distribution
END:VEVENT
BEGIN:VEVENT
DTSTART;TZID=America/Los_Angeles:20240820T100000
DTEND;TZID=America/Los_Angeles:20240820T110000
DTSTAMP:20260425T045647
CREATED:20240223T083233Z
LAST-MODIFIED:20240308T032238Z
UID:942-1724148000-1724151600@camasfootball.com
SUMMARY:Gear Distribution (Freshmen)
DESCRIPTION:Gear Distribution for FRESHMEN who did not go to Team Camp.
URL:https://camasfootball.com/event/gear-distribution-freshmen/
LOCATION:Camas Locker Room\, 26900 SE 15th St.\, Camas\, Washington\, 98607
CATEGORIES:Gear Distribution
END:VEVENT
BEGIN:VEVENT
DTSTART;TZID=America/Los_Angeles:20240821T080000
DTEND;TZID=America/Los_Angeles:20240821T090000
DTSTAMP:20260425T045647
CREATED:20240223T101722Z
LAST-MODIFIED:20240308T035128Z
UID:978-1724227200-1724230800@camasfootball.com
SUMMARY:Gear Make-Up
DESCRIPTION:Gear Make-Up \nIf you have not yet received your gear\, come get it.
URL:https://camasfootball.com/event/gear-make-up/
LOCATION:Camas Locker Room\, 26900 SE 15th St.\, Camas\, Washington\, 98607
CATEGORIES:Gear Distribution
END:VEVENT
BEGIN:VEVENT
DTSTART;TZID=America/Los_Angeles:20240821T150000
DTEND;TZID=America/Los_Angeles:20240821T180000
DTSTAMP:20260425T045647
CREATED:20240223T104458Z
LAST-MODIFIED:20240308T032223Z
UID:1008-1724252400-1724263200@camasfootball.com
SUMMARY:Varsity Practice #1
DESCRIPTION:Varsity Practice #1 \nNo Pac
URL:https://camasfootball.com/event/varsity-practice-1/
LOCATION:Cardon Field\, 26900 SE 15th St.\, Camas\, Washington\, 98607
CATEGORIES:Varsity Practice
END:VEVENT
BEGIN:VEVENT
DTSTART;TZID=America/Los_Angeles:20240821T163000
DTEND;TZID=America/Los_Angeles:20240821T193000
DTSTAMP:20260425T045647
CREATED:20240418T183448Z
LAST-MODIFIED:20240419T174510Z
UID:1878-1724257800-1724268600@camasfootball.com
SUMMARY:C-Team Practice #1
DESCRIPTION:C-Team Practice #1 \nNo Pac
URL:https://camasfootball.com/event/c-team-practice-1/
LOCATION:Washington
CATEGORIES:Frosh Calendar
END:VEVENT
BEGIN:VEVENT
DTSTART;TZID=America/Los_Angeles:20240822T090000
DTEND;TZID=America/Los_Angeles:20240822T120000
DTSTAMP:20260425T045647
CREATED:20240223T104650Z
LAST-MODIFIED:20240308T032226Z
UID:1010-1724317200-1724328000@camasfootball.com
SUMMARY:Varsity Practice #2
DESCRIPTION:Varsity Practice #2 \nNo Pac \nNOTE: There are 2 practices today\, Practice 2 in the AM and Practice 3 in the PM
URL:https://camasfootball.com/event/varsity-practice-2/
LOCATION:Cardon Field\, 26900 SE 15th St.\, Camas\, Washington\, 98607
CATEGORIES:Varsity Practice
END:VEVENT
BEGIN:VEVENT
DTSTART;TZID=America/Los_Angeles:20240822T163000
DTEND;TZID=America/Los_Angeles:20240822T193000
DTSTAMP:20260425T045647
CREATED:20240418T183455Z
LAST-MODIFIED:20240419T174514Z
UID:1879-1724344200-1724355000@camasfootball.com
SUMMARY:C-Team Practice #2
DESCRIPTION:C-Team Practice #2 \nNo Pac
URL:https://camasfootball.com/event/c-team-practice-2/
LOCATION:Cardon Field\, 26900 SE 15th St.\, Camas\, Washington\, 98607
CATEGORIES:Frosh Calendar
END:VEVENT
BEGIN:VEVENT
DTSTART;TZID=America/Los_Angeles:20240822T180000
DTEND;TZID=America/Los_Angeles:20240822T200000
DTSTAMP:20260425T045647
CREATED:20240223T104648Z
LAST-MODIFIED:20240308T032145Z
UID:1011-1724349600-1724356800@camasfootball.com
SUMMARY:Varsity Practice #3
DESCRIPTION:Varsity Practice #3 \nNo Pac \nNOTE: There are 2 practices today\, Practice 2 in the AM and Practice 3 in the PM
URL:https://camasfootball.com/event/varsity-practice-3/
LOCATION:Cardon Field\, 26900 SE 15th St.\, Camas\, Washington\, 98607
CATEGORIES:Varsity Practice
END:VEVENT
BEGIN:VEVENT
DTSTART;TZID=America/Los_Angeles:20240823T090000
DTEND;TZID=America/Los_Angeles:20240823T120000
DTSTAMP:20260425T045647
CREATED:20240223T104847Z
LAST-MODIFIED:20240308T032149Z
UID:1014-1724403600-1724414400@camasfootball.com
SUMMARY:Varsity Practice #4
DESCRIPTION:Varsity Practice #4 \nNo Pac \nNOTE: There are 2 practices today\, Practice 4 in the AM and Practice 5 in the PM
URL:https://camasfootball.com/event/varsity-practice-4/
LOCATION:Cardon Field\, 26900 SE 15th St.\, Camas\, Washington\, 98607
CATEGORIES:Varsity Practice
END:VEVENT
BEGIN:VEVENT
DTSTART;TZID=America/Los_Angeles:20240823T163000
DTEND;TZID=America/Los_Angeles:20240823T193000
DTSTAMP:20260425T045647
CREATED:20240418T183526Z
LAST-MODIFIED:20240419T174519Z
UID:1880-1724430600-1724441400@camasfootball.com
SUMMARY:C-Team Practice #3
DESCRIPTION:C-Team Practice #3 \nNo Pac
URL:https://camasfootball.com/event/c-team-practice-3/
LOCATION:Cardon Field\, 26900 SE 15th St.\, Camas\, Washington\, 98607
CATEGORIES:Frosh Calendar
END:VEVENT
BEGIN:VEVENT
DTSTART;TZID=America/Los_Angeles:20240823T180000
DTEND;TZID=America/Los_Angeles:20240823T200000
DTSTAMP:20260425T045647
CREATED:20240223T104826Z
LAST-MODIFIED:20240308T032154Z
UID:1015-1724436000-1724443200@camasfootball.com
SUMMARY:Varsity Practice #5
DESCRIPTION:Varsity Practice #5 \nNo Pac \nNOTE: There are 2 practices today\, Practice 4 in the AM and Practice 5 in the PM
URL:https://camasfootball.com/event/varsity-practice-5/
LOCATION:Cardon Field\, 26900 SE 15th St.\, Camas\, Washington\, 98607
CATEGORIES:Varsity Practice
END:VEVENT
BEGIN:VEVENT
DTSTART;TZID=America/Los_Angeles:20240824T080000
DTEND;TZID=America/Los_Angeles:20240824T100000
DTSTAMP:20260425T045647
CREATED:20240223T111419Z
LAST-MODIFIED:20250205T024628Z
UID:1043-1724486400-1724493600@camasfootball.com
SUMMARY:Team Pictures & Pre-Game Walkthrough
DESCRIPTION:Team Pictures and Pre-Game Walkthrough. \nFull Pac \nNOTE: Date and location has changed for this event. All levels will be at Doc Harris Stadium. \n8 AM – 10 AM Team Pictures\n10 AM – 12 PM (Varsity Practice #6 & C-Team Practice #4)
URL:https://camasfootball.com/event/team-pictures/
LOCATION:Doc Harris Stadium\, 841 NE 22nd Ave.\, Camas\, Washington\, 98607
CATEGORIES:Frosh Calendar
END:VEVENT
BEGIN:VEVENT
DTSTART;TZID=America/Los_Angeles:20240824T100000
DTEND;TZID=America/Los_Angeles:20240824T120000
DTSTAMP:20260425T045647
CREATED:20240223T104950Z
LAST-MODIFIED:20240808T171220Z
UID:1018-1724493600-1724500800@camasfootball.com
SUMMARY:Varsity Practice #6
DESCRIPTION:Varsity Practice #6 \n1/2 Pac \nNOTE: Location change for this event. Practice will be following team pictures at Doc Harris Stadium.
URL:https://camasfootball.com/event/varsity-practice-6/
LOCATION:Doc Harris Stadium\, 841 NE 22nd Ave.\, Camas\, Washington\, 98607
CATEGORIES:Varsity Practice
END:VEVENT
BEGIN:VEVENT
DTSTART;TZID=America/Los_Angeles:20240824T100000
DTEND;TZID=America/Los_Angeles:20240824T120000
DTSTAMP:20260425T045647
CREATED:20240418T183732Z
LAST-MODIFIED:20240808T171253Z
UID:1886-1724493600-1724500800@camasfootball.com
SUMMARY:C-Team Practice #4
DESCRIPTION:C-Team Practice #4 \nFull Pac \nNOTE: Location change for this event. Practice will be following team pictures at Doc Harris Stadium.
URL:https://camasfootball.com/event/c-team-practice-4/
LOCATION:Doc Harris Stadium\, 841 NE 22nd Ave.\, Camas\, Washington\, 98607
CATEGORIES:Frosh Calendar
END:VEVENT
BEGIN:VEVENT
DTSTART;TZID=America/Los_Angeles:20240826T154500
DTEND;TZID=America/Los_Angeles:20240826T181500
DTSTAMP:20260425T045647
CREATED:20240223T105519Z
LAST-MODIFIED:20240308T032202Z
UID:1020-1724687100-1724696100@camasfootball.com
SUMMARY:Varsity Practice #7
DESCRIPTION:Varsity Practice #7 \nFull Pac
URL:https://camasfootball.com/event/varsity-practice-7/
LOCATION:Cardon Field\, 26900 SE 15th St.\, Camas\, Washington\, 98607
CATEGORIES:Varsity Practice
END:VEVENT
BEGIN:VEVENT
DTSTART;TZID=America/Los_Angeles:20240826T163000
DTEND;TZID=America/Los_Angeles:20240826T193000
DTSTAMP:20260425T045647
CREATED:20240418T183855Z
LAST-MODIFIED:20240419T174606Z
UID:1889-1724689800-1724700600@camasfootball.com
SUMMARY:C-Team Practice #5
DESCRIPTION:C-Team Practice #5 \nFull Pac
URL:https://camasfootball.com/event/c-team-practice-5/
LOCATION:Cardon Field\, 26900 SE 15th St.\, Camas\, Washington\, 98607
CATEGORIES:Frosh Calendar
END:VEVENT
BEGIN:VEVENT
DTSTART;TZID=America/Los_Angeles:20240827T154500
DTEND;TZID=America/Los_Angeles:20240827T181500
DTSTAMP:20260425T045647
CREATED:20240223T105603Z
LAST-MODIFIED:20240308T032205Z
UID:1021-1724773500-1724782500@camasfootball.com
SUMMARY:Varsity Practice #8
DESCRIPTION:Varsity Practice #8 \nFull Pac
URL:https://camasfootball.com/event/varsity-practice-8/
LOCATION:Cardon Field\, 26900 SE 15th St.\, Camas\, Washington\, 98607
CATEGORIES:Varsity Practice
END:VEVENT
BEGIN:VEVENT
DTSTART;TZID=America/Los_Angeles:20240827T163000
DTEND;TZID=America/Los_Angeles:20240827T193000
DTSTAMP:20260425T045647
CREATED:20240418T183919Z
LAST-MODIFIED:20240419T174612Z
UID:1890-1724776200-1724787000@camasfootball.com
SUMMARY:C-Team Practice #6
DESCRIPTION:C-Team Practice #6 \nFull Pac
URL:https://camasfootball.com/event/c-team-practice-6/
LOCATION:Cardon Field\, 26900 SE 15th St.\, Camas\, Washington\, 98607
CATEGORIES:Frosh Calendar
END:VEVENT
BEGIN:VEVENT
DTSTART;TZID=America/Los_Angeles:20240828T154500
DTEND;TZID=America/Los_Angeles:20240828T181500
DTSTAMP:20260425T045647
CREATED:20240223T105629Z
LAST-MODIFIED:20240308T032208Z
UID:1023-1724859900-1724868900@camasfootball.com
SUMMARY:Varsity Practice #9
DESCRIPTION:Varsity Practice #9 \nFull Pac
URL:https://camasfootball.com/event/varsity-practice-9/
LOCATION:Cardon Field\, 26900 SE 15th St.\, Camas\, Washington\, 98607
CATEGORIES:Varsity Practice
END:VEVENT
BEGIN:VEVENT
DTSTART;TZID=America/Los_Angeles:20240828T163000
DTEND;TZID=America/Los_Angeles:20240828T193000
DTSTAMP:20260425T045647
CREATED:20240418T183946Z
LAST-MODIFIED:20240419T174616Z
UID:1891-1724862600-1724873400@camasfootball.com
SUMMARY:C-Team Practice #7
DESCRIPTION:C-Team Practice #7 \nFull Pac
URL:https://camasfootball.com/event/c-team-practice-7/
LOCATION:Cardon Field\, 26900 SE 15th St.\, Camas\, Washington\, 98607
CATEGORIES:Frosh Calendar
END:VEVENT
BEGIN:VEVENT
DTSTART;TZID=America/Los_Angeles:20240829T154500
DTEND;TZID=America/Los_Angeles:20240829T181500
DTSTAMP:20260425T045647
CREATED:20240223T105656Z
LAST-MODIFIED:20240308T032210Z
UID:1022-1724946300-1724955300@camasfootball.com
SUMMARY:Varsity Practice #10
DESCRIPTION:Varsity Practice #10 \nFull Pac
URL:https://camasfootball.com/event/varsity-practice-10/
LOCATION:Cardon Field\, 26900 SE 15th St.\, Camas\, Washington\, 98607
CATEGORIES:Varsity Practice
END:VEVENT
BEGIN:VEVENT
DTSTART;TZID=America/Los_Angeles:20240829T163000
DTEND;TZID=America/Los_Angeles:20240829T193000
DTSTAMP:20260425T045647
CREATED:20240418T184011Z
LAST-MODIFIED:20240419T174619Z
UID:1888-1724949000-1724959800@camasfootball.com
SUMMARY:C-Team Practice #8
DESCRIPTION:C-Team Practice #8 \nFull Pac
URL:https://camasfootball.com/event/c-team-practice-8/
LOCATION:Cardon Field\, 26900 SE 15th St.\, Camas\, Washington\, 98607
CATEGORIES:Frosh Calendar
END:VEVENT
BEGIN:VEVENT
DTSTART;TZID=America/Los_Angeles:20240830T090000
DTEND;TZID=America/Los_Angeles:20240830T120000
DTSTAMP:20260425T045647
CREATED:20240808T172447Z
LAST-MODIFIED:20240808T211829Z
UID:2109-1725008400-1725019200@camasfootball.com
SUMMARY:Varsity Practice #11
DESCRIPTION:Varsity Practice #11 \n1/2 Pac \nNOTE: This morning practice is at Cardon Field and the evening Jamboree will be at Doc Harris Stadium.
URL:https://camasfootball.com/event/varsity-practice-11/
LOCATION:Cardon Field\, 26900 SE 15th St.\, Camas\, Washington\, 98607
CATEGORIES:Varsity Practice
END:VEVENT
BEGIN:VEVENT
DTSTART;TZID=America/Los_Angeles:20240830T140000
DTEND;TZID=America/Los_Angeles:20240830T160000
DTSTAMP:20260425T045647
CREATED:20240808T171943Z
LAST-MODIFIED:20240826T030725Z
UID:2107-1725026400-1725033600@camasfootball.com
SUMMARY:C-Team Jamboree Walkthrough
DESCRIPTION:C-Team practice/walkthrough for Jamboree. \nPractice at Camas High School. \nNOTE: Jamboree begins at 5:30 pm.
URL:https://camasfootball.com/event/c-team-jamboree-walkthrough/
LOCATION:Cardon Field\, 26900 SE 15th St.\, Camas\, Washington\, 98607
CATEGORIES:Frosh Calendar
END:VEVENT
BEGIN:VEVENT
DTSTART;TZID=America/Los_Angeles:20240830T173000
DTEND;TZID=America/Los_Angeles:20240830T183000
DTSTAMP:20260425T045647
CREATED:20240223T111737Z
LAST-MODIFIED:20240507T014053Z
UID:1047-1725039000-1725042600@camasfootball.com
SUMMARY:C-Team Jamboree
DESCRIPTION:C-Team Jamboree at Doc Harris Stadium \nOpponents: Evergreen\, Mountain View and Washougal will attend the Jamboree\, exact opponents are TBD.
URL:https://camasfootball.com/event/frosh-jamboree/
LOCATION:Doc Harris Stadium\, 841 NE 22nd Ave.\, Camas\, Washington\, 98607
CATEGORIES:Football Games,Frosh Calendar
END:VEVENT
BEGIN:VEVENT
DTSTART;TZID=America/Los_Angeles:20240830T183000
DTEND;TZID=America/Los_Angeles:20240830T193000
DTSTAMP:20260425T045647
CREATED:20240223T111654Z
LAST-MODIFIED:20240507T014059Z
UID:1046-1725042600-1725046200@camasfootball.com
SUMMARY:J.V. Jamboree
DESCRIPTION:J.V. Jamboree at Doc Harris Stadium \nOpponents: Evergreen\, Mountain View and Washougal will attend the Jamboree\, exact opponents are TBD. \nNOTE: Start time may be later due to the proceeding C-Team Jamboree.
URL:https://camasfootball.com/event/j-v-jamboree/
LOCATION:Doc Harris Stadium\, 841 NE 22nd Ave.\, Camas\, Washington\, 98607
CATEGORIES:Football Games
END:VEVENT
BEGIN:VEVENT
DTSTART;TZID=America/Los_Angeles:20240830T193000
DTEND;TZID=America/Los_Angeles:20240830T204500
DTSTAMP:20260425T045647
CREATED:20240223T111656Z
LAST-MODIFIED:20240507T014039Z
UID:1045-1725046200-1725050700@camasfootball.com
SUMMARY:Varsity Jamboree
DESCRIPTION:Varsity Jamboree at Doc Harris Stadium \nOpponents: Evergreen\, Mountain View and Washougal will attend the Jamboree\, exact opponents are TBD. \nNOTE: Start time may be later due to the proceeding C-Team and J.V. Jamborees.
URL:https://camasfootball.com/event/varsity-jamboree/
LOCATION:Doc Harris Stadium\, 841 NE 22nd Ave.\, Camas\, Washington\, 98607
CATEGORIES:Football Games
END:VEVENT
END:VCALENDAR