BEGIN:VCALENDAR
VERSION:2.0
PRODID:-//Camas Football - ECPv6.15.3//NONSGML v1.0//EN
CALSCALE:GREGORIAN
METHOD:PUBLISH
X-WR-CALNAME:Camas Football
X-ORIGINAL-URL:https://camasfootball.com
X-WR-CALDESC:Events for Camas Football
REFRESH-INTERVAL;VALUE=DURATION:PT1H
X-Robots-Tag:noindex
X-PUBLISHED-TTL:PT1H
BEGIN:VTIMEZONE
TZID:America/Los_Angeles
BEGIN:DAYLIGHT
TZOFFSETFROM:-0800
TZOFFSETTO:-0700
TZNAME:PDT
DTSTART:20240310T100000
END:DAYLIGHT
BEGIN:STANDARD
TZOFFSETFROM:-0700
TZOFFSETTO:-0800
TZNAME:PST
DTSTART:20241103T090000
END:STANDARD
END:VTIMEZONE
BEGIN:VEVENT
DTSTART;VALUE=DATE:20240301
DTEND;VALUE=DATE:20240304
DTSTAMP:20260425T045848
CREATED:20240222T041525Z
LAST-MODIFIED:20240306T160617Z
UID:733-1709251200-1709510399@camasfootball.com
SUMMARY:Glazier Clinic - Seattle & Las Vegas
DESCRIPTION:Glazier Clinic in Seattle or Las Vegas
URL:https://camasfootball.com/event/glazier-clinic-seattle-las-vegas/
LOCATION:Washington
END:VEVENT
BEGIN:VEVENT
DTSTART;TZID=America/Los_Angeles:20240228T070000
DTEND;TZID=America/Los_Angeles:20240228T081500
DTSTAMP:20260425T045848
CREATED:20240222T040959Z
LAST-MODIFIED:20240308T035808Z
UID:723-1709103600-1709108100@camasfootball.com
SUMMARY:SAQ Pass #3
DESCRIPTION:Speed Agility Quickness Pass #3\n7:00 AM – 8:15 AM\n(Field House)
URL:https://camasfootball.com/event/saq-pass-3/
LOCATION:Field House\, 26900 SE 15th St.\, Camas\, Washington\, 98607
CATEGORIES:Speed Agility Quickness
END:VEVENT
BEGIN:VEVENT
DTSTART;TZID=America/Los_Angeles:20240221T070000
DTEND;TZID=America/Los_Angeles:20240221T081500
DTSTAMP:20260425T045848
CREATED:20240222T040732Z
LAST-MODIFIED:20240308T035804Z
UID:720-1708498800-1708503300@camasfootball.com
SUMMARY:SAQ Pass #2
DESCRIPTION:Speed Agility Quickness Pass #2\n7:00 AM – 8:15 AM\n(Field House)
URL:https://camasfootball.com/event/saq-pass-2/
LOCATION:Field House\, 26900 SE 15th St.\, Camas\, Washington\, 98607
CATEGORIES:Speed Agility Quickness
END:VEVENT
BEGIN:VEVENT
DTSTART;TZID=America/Los_Angeles:20240214T070000
DTEND;TZID=America/Los_Angeles:20240214T081500
DTSTAMP:20260425T045848
CREATED:20240224T004613Z
LAST-MODIFIED:20240308T035752Z
UID:1251-1707894000-1707898500@camasfootball.com
SUMMARY:SAQ Pass #1
DESCRIPTION:Speed Agility Quickness Pass #1\n7:00 AM – 8:15 AM\n(Field House)
URL:https://camasfootball.com/event/saq-pass-1/
LOCATION:Field House\, 26900 SE 15th St.\, Camas\, Washington\, 98607
CATEGORIES:Speed Agility Quickness
END:VEVENT
BEGIN:VEVENT
DTSTART;TZID=America/Los_Angeles:20240207T080000
DTEND;TZID=America/Los_Angeles:20240207T083000
DTSTAMP:20260425T045848
CREATED:20240224T013119Z
LAST-MODIFIED:20250204T173002Z
UID:1265-1707292800-1707294600@camasfootball.com
SUMMARY:National Signing Day
DESCRIPTION:National Signing Day
URL:https://camasfootball.com/event/national-signing-day/
LOCATION:Main Gym\, 26900 SE 15th St.\, Camas\, Washington\, 98607
CATEGORIES:National Signing Day
END:VEVENT
END:VCALENDAR