BEGIN:VCALENDAR
VERSION:2.0
PRODID:-//Camas Football - ECPv6.15.3//NONSGML v1.0//EN
CALSCALE:GREGORIAN
METHOD:PUBLISH
X-WR-CALNAME:Camas Football
X-ORIGINAL-URL:https://camasfootball.com
X-WR-CALDESC:Events for Camas Football
REFRESH-INTERVAL;VALUE=DURATION:PT1H
X-Robots-Tag:noindex
X-PUBLISHED-TTL:PT1H
BEGIN:VTIMEZONE
TZID:America/Los_Angeles
BEGIN:DAYLIGHT
TZOFFSETFROM:-0800
TZOFFSETTO:-0700
TZNAME:PDT
DTSTART:20240310T100000
END:DAYLIGHT
BEGIN:STANDARD
TZOFFSETFROM:-0700
TZOFFSETTO:-0800
TZNAME:PST
DTSTART:20241103T090000
END:STANDARD
END:VTIMEZONE
BEGIN:VEVENT
DTSTART;TZID=America/Los_Angeles:20241021T154500
DTEND;TZID=America/Los_Angeles:20241021T180000
DTSTAMP:20260425T075738
CREATED:20240223T235831Z
LAST-MODIFIED:20240831T194226Z
UID:1146-1729525500-1729533600@camasfootball.com
SUMMARY:Practice
DESCRIPTION:Monday Varsity Practice \n1/2 Pac
URL:https://camasfootball.com/event/practice-20/
LOCATION:Washington
CATEGORIES:Varsity Practice
END:VEVENT
BEGIN:VEVENT
DTSTART;VALUE=DATE:20241020
DTEND;VALUE=DATE:20241021
DTSTAMP:20260425T075738
CREATED:20240223T234950Z
LAST-MODIFIED:20240325T042346Z
UID:1128-1729382400-1729468799@camasfootball.com
SUMMARY:Staff Meeting
DESCRIPTION:Time TBD
URL:https://camasfootball.com/event/staff-meeting-7/
LOCATION:Washington
CATEGORIES:Staff Meeting
END:VEVENT
BEGIN:VEVENT
DTSTART;TZID=America/Los_Angeles:20241018T190000
DTEND;TZID=America/Los_Angeles:20241018T213000
DTSTAMP:20260425T075738
CREATED:20240224T003123Z
LAST-MODIFIED:20240312T192418Z
UID:1229-1729278000-1729287000@camasfootball.com
SUMMARY:Camas vs. Battle Ground
DESCRIPTION:Camas begins their 4A GSHL schedule vs Battle Ground at Doc Harris Stadium week 7.
URL:https://camasfootball.com/event/varsity-game-7/
LOCATION:Doc Harris Stadium\, 841 NE 22nd Ave.\, Camas\, Washington\, 98607
CATEGORIES:Football Games
END:VEVENT
BEGIN:VEVENT
DTSTART;TZID=America/Los_Angeles:20241017T160000
DTEND;TZID=America/Los_Angeles:20241017T180000
DTSTAMP:20260425T075738
CREATED:20240418T165707Z
LAST-MODIFIED:20240919T165955Z
UID:1850-1729180800-1729188000@camasfootball.com
SUMMARY:C-Team Game 7 - See School Site For Updated Date/Time
DESCRIPTION:See School Site For Updated Date/Time
URL:https://camasfootball.com/event/c-team-game-7/
LOCATION:Washington
CATEGORIES:Football Games,Frosh Calendar
END:VEVENT
BEGIN:VEVENT
DTSTART;TZID=America/Los_Angeles:20241017T154500
DTEND;TZID=America/Los_Angeles:20241017T174500
DTSTAMP:20260425T075738
CREATED:20240224T002558Z
LAST-MODIFIED:20240308T031620Z
UID:1204-1729179900-1729187100@camasfootball.com
SUMMARY:Practice
DESCRIPTION:Thursday Varsity/J.V. Practice \nFull Pac
URL:https://camasfootball.com/event/practice-51/
LOCATION:Cardon Field\, 26900 SE 15th St.\, Camas\, Washington\, 98607
CATEGORIES:Varsity Practice
END:VEVENT
BEGIN:VEVENT
DTSTART;TZID=America/Los_Angeles:20241016T154500
DTEND;TZID=America/Los_Angeles:20241016T181500
DTSTAMP:20260425T075738
CREATED:20240224T001752Z
LAST-MODIFIED:20240831T194142Z
UID:1185-1729093500-1729102500@camasfootball.com
SUMMARY:Practice
DESCRIPTION:Wednesday Varsity/J.V. Practice \nFull Pac
URL:https://camasfootball.com/event/practice-39/
LOCATION:Cardon Field\, 26900 SE 15th St.\, Camas\, Washington\, 98607
CATEGORIES:Varsity Practice
END:VEVENT
BEGIN:VEVENT
DTSTART;TZID=America/Los_Angeles:20241015T154500
DTEND;TZID=America/Los_Angeles:20241015T181500
DTSTAMP:20260425T075738
CREATED:20240224T001220Z
LAST-MODIFIED:20240831T194139Z
UID:1165-1729007100-1729016100@camasfootball.com
SUMMARY:Practice
DESCRIPTION:Tuesday Varsity/J.V. Practice \nFull Pac
URL:https://camasfootball.com/event/practice-29/
LOCATION:Cardon Field\, 26900 SE 15th St.\, Camas\, Washington\, 98607
CATEGORIES:Varsity Practice
END:VEVENT
BEGIN:VEVENT
DTSTART;TZID=America/Los_Angeles:20241014T180000
DTEND;TZID=America/Los_Angeles:20241014T200000
DTSTAMP:20260425T075738
CREATED:20240418T170254Z
LAST-MODIFIED:20240919T170435Z
UID:1866-1728928800-1728936000@camasfootball.com
SUMMARY:JV Game 6 - See School Site For Updated Date/Time
DESCRIPTION:See School Site For Updated Date/Time
URL:https://camasfootball.com/event/jv-game-6/
LOCATION:Washington
CATEGORIES:Football Games
END:VEVENT
BEGIN:VEVENT
DTSTART;TZID=America/Los_Angeles:20241014T154500
DTEND;TZID=America/Los_Angeles:20241014T180000
DTSTAMP:20260425T075738
CREATED:20240223T235817Z
LAST-MODIFIED:20240831T194135Z
UID:1145-1728920700-1728928800@camasfootball.com
SUMMARY:Practice
DESCRIPTION:Monday Varsity Practice \n1/2 Pac
URL:https://camasfootball.com/event/practice-19/
LOCATION:Washington
CATEGORIES:Varsity Practice
END:VEVENT
BEGIN:VEVENT
DTSTART;VALUE=DATE:20241013
DTEND;VALUE=DATE:20241014
DTSTAMP:20260425T075738
CREATED:20240223T234935Z
LAST-MODIFIED:20240325T042343Z
UID:1127-1728777600-1728863999@camasfootball.com
SUMMARY:Staff Meeting
DESCRIPTION:Time TBD
URL:https://camasfootball.com/event/staff-meeting-6/
LOCATION:Washington
CATEGORIES:Staff Meeting
END:VEVENT
BEGIN:VEVENT
DTSTART;TZID=America/Los_Angeles:20241011T190000
DTEND;TZID=America/Los_Angeles:20241011T213000
DTSTAMP:20260425T075738
CREATED:20240223T115831Z
LAST-MODIFIED:20240312T192432Z
UID:1073-1728673200-1728682200@camasfootball.com
SUMMARY:Camas at Monroe
DESCRIPTION:Camas travels North once again\, this time past Seattle to face Monroe week 6.
URL:https://camasfootball.com/event/varsity-game-6/
LOCATION:Monroe High School\, 17001 Tester Rd\, Monroe\, washington\, 98272
CATEGORIES:Football Games
END:VEVENT
BEGIN:VEVENT
DTSTART;TZID=America/Los_Angeles:20241010T160000
DTEND;TZID=America/Los_Angeles:20241010T180000
DTSTAMP:20260425T075738
CREATED:20240418T165617Z
LAST-MODIFIED:20240919T165950Z
UID:1849-1728576000-1728583200@camasfootball.com
SUMMARY:C-Team Game 6 - See School Site For Updated Date/Time
DESCRIPTION:See School Site For Updated Date/Time
URL:https://camasfootball.com/event/c-team-game-6/
LOCATION:Washington
CATEGORIES:Football Games,Frosh Calendar
END:VEVENT
BEGIN:VEVENT
DTSTART;TZID=America/Los_Angeles:20241010T154500
DTEND;TZID=America/Los_Angeles:20241010T174500
DTSTAMP:20260425T075738
CREATED:20240312T194739Z
LAST-MODIFIED:20240312T194739Z
UID:1691-1728575100-1728582300@camasfootball.com
SUMMARY:Practice
DESCRIPTION:Thursday Varsity/J.V. Practice \nFull Pac
URL:https://camasfootball.com/event/practice-59/
LOCATION:Cardon Field\, 26900 SE 15th St.\, Camas\, Washington\, 98607
END:VEVENT
BEGIN:VEVENT
DTSTART;TZID=America/Los_Angeles:20241009T154500
DTEND;TZID=America/Los_Angeles:20241009T181500
DTSTAMP:20260425T075738
CREATED:20240224T001732Z
LAST-MODIFIED:20240831T194132Z
UID:1184-1728488700-1728497700@camasfootball.com
SUMMARY:Practice
DESCRIPTION:Wednesday Varsity/J.V. Practice \nFull Pac
URL:https://camasfootball.com/event/practice-38/
LOCATION:Cardon Field\, 26900 SE 15th St.\, Camas\, Washington\, 98607
CATEGORIES:Varsity Practice
END:VEVENT
BEGIN:VEVENT
DTSTART;TZID=America/Los_Angeles:20241008T154500
DTEND;TZID=America/Los_Angeles:20241008T181500
DTSTAMP:20260425T075738
CREATED:20240224T001154Z
LAST-MODIFIED:20240831T194129Z
UID:1164-1728402300-1728411300@camasfootball.com
SUMMARY:Practice
DESCRIPTION:Tuesday Varsity/J.V. Practice \nFull Pac
URL:https://camasfootball.com/event/practice-28/
LOCATION:Cardon Field\, 26900 SE 15th St.\, Camas\, Washington\, 98607
CATEGORIES:Varsity Practice
END:VEVENT
BEGIN:VEVENT
DTSTART;TZID=America/Los_Angeles:20241007T180000
DTEND;TZID=America/Los_Angeles:20241007T200000
DTSTAMP:20260425T075738
CREATED:20240418T170236Z
LAST-MODIFIED:20240919T170431Z
UID:1865-1728324000-1728331200@camasfootball.com
SUMMARY:JV Game 5 - See School Site For Updated Date/Time
DESCRIPTION:See School Site For Updated Date/Time
URL:https://camasfootball.com/event/jv-game-5/
LOCATION:Washington
CATEGORIES:Football Games
END:VEVENT
BEGIN:VEVENT
DTSTART;TZID=America/Los_Angeles:20241007T154500
DTEND;TZID=America/Los_Angeles:20241007T180000
DTSTAMP:20260425T075738
CREATED:20240223T235803Z
LAST-MODIFIED:20240831T194126Z
UID:1144-1728315900-1728324000@camasfootball.com
SUMMARY:Practice
DESCRIPTION:Monday Varsity Practice \n1/2 Pac
URL:https://camasfootball.com/event/practice-18/
LOCATION:Cardon Field\, 26900 SE 15th St.\, Camas\, Washington\, 98607
CATEGORIES:Varsity Practice
END:VEVENT
BEGIN:VEVENT
DTSTART;VALUE=DATE:20241006
DTEND;VALUE=DATE:20241007
DTSTAMP:20260425T075738
CREATED:20240223T234920Z
LAST-MODIFIED:20250205T025052Z
UID:1126-1728172800-1728259199@camasfootball.com
SUMMARY:Staff Meeting
DESCRIPTION:Time TBD
URL:https://camasfootball.com/event/staff-meeting-5/
LOCATION:Washington
CATEGORIES:Staff Meeting
END:VEVENT
BEGIN:VEVENT
DTSTART;TZID=America/Los_Angeles:20241004T190000
DTEND;TZID=America/Los_Angeles:20241004T213000
DTSTAMP:20260425T075738
CREATED:20240223T115746Z
LAST-MODIFIED:20240312T192436Z
UID:1072-1728068400-1728077400@camasfootball.com
SUMMARY:Camas at Coeur d'Alene\, Idaho
DESCRIPTION:Camas once again leaves the state\, this time heading East to face  at Coeur d’Alene\, Idaho week 5.
URL:https://camasfootball.com/event/varsity-game-5/
LOCATION:Viking Stadium (CdA Idaho)\, 5530 N 4th St\, Coeur d'Alene\, idaho\, 83815
CATEGORIES:Football Games
END:VEVENT
BEGIN:VEVENT
DTSTART;TZID=America/Los_Angeles:20241003T160000
DTEND;TZID=America/Los_Angeles:20241003T180000
DTSTAMP:20260425T075738
CREATED:20240418T165601Z
LAST-MODIFIED:20240919T165914Z
UID:1848-1727971200-1727978400@camasfootball.com
SUMMARY:C-Team Game 5 - See School Site For Updated Date/Time
DESCRIPTION:See School Site For Updated Date/Time
URL:https://camasfootball.com/event/c-team-game-5/
LOCATION:Washington
CATEGORIES:Football Games,Frosh Calendar
END:VEVENT
BEGIN:VEVENT
DTSTART;TZID=America/Los_Angeles:20241003T154500
DTEND;TZID=America/Los_Angeles:20241003T174500
DTSTAMP:20260425T075738
CREATED:20240224T002532Z
LAST-MODIFIED:20240308T031643Z
UID:1203-1727970300-1727977500@camasfootball.com
SUMMARY:Practice
DESCRIPTION:Thursday Varsity/J.V. Practice \nFull Pac
URL:https://camasfootball.com/event/practice-50/
LOCATION:Cardon Field\, 26900 SE 15th St.\, Camas\, Washington\, 98607
CATEGORIES:Varsity Practice
END:VEVENT
BEGIN:VEVENT
DTSTART;TZID=America/Los_Angeles:20241002T154500
DTEND;TZID=America/Los_Angeles:20241002T181500
DTSTAMP:20260425T075738
CREATED:20240224T001711Z
LAST-MODIFIED:20240831T194036Z
UID:1183-1727883900-1727892900@camasfootball.com
SUMMARY:Practice
DESCRIPTION:Wednesday Varsity/J.V. Practice \nFull Pac
URL:https://camasfootball.com/event/practice-37/
LOCATION:Cardon Field\, 26900 SE 15th St.\, Camas\, Washington\, 98607
CATEGORIES:Varsity Practice
END:VEVENT
BEGIN:VEVENT
DTSTART;TZID=America/Los_Angeles:20241001T154500
DTEND;TZID=America/Los_Angeles:20241001T181500
DTSTAMP:20260425T075738
CREATED:20240224T001132Z
LAST-MODIFIED:20240831T194033Z
UID:1163-1727797500-1727806500@camasfootball.com
SUMMARY:Practice
DESCRIPTION:Tuesday Varsity/J.V. Practice \nFull Pac
URL:https://camasfootball.com/event/practice-27/
LOCATION:Cardon Field\, 26900 SE 15th St.\, Camas\, Washington\, 98607
CATEGORIES:Varsity Practice
END:VEVENT
BEGIN:VEVENT
DTSTART;TZID=America/Los_Angeles:20240930T180000
DTEND;TZID=America/Los_Angeles:20240930T200000
DTSTAMP:20260425T075738
CREATED:20240418T170222Z
LAST-MODIFIED:20240919T170427Z
UID:1864-1727719200-1727726400@camasfootball.com
SUMMARY:JV Game 4 - See School Site For Updated Date/Time
DESCRIPTION:See School Site For Updated Date/Time
URL:https://camasfootball.com/event/jv-game-4/
LOCATION:Washington
CATEGORIES:Football Games
END:VEVENT
BEGIN:VEVENT
DTSTART;TZID=America/Los_Angeles:20240930T154500
DTEND;TZID=America/Los_Angeles:20240930T180000
DTSTAMP:20260425T075738
CREATED:20240223T234051Z
LAST-MODIFIED:20240831T194030Z
UID:1093-1727711100-1727719200@camasfootball.com
SUMMARY:Practice
DESCRIPTION:Monday Varsity Practice \n1/2 Pac
URL:https://camasfootball.com/event/practice-8/
LOCATION:Cardon Field\, 26900 SE 15th St.\, Camas\, Washington\, 98607
CATEGORIES:Varsity Practice
END:VEVENT
BEGIN:VEVENT
DTSTART;VALUE=DATE:20240929
DTEND;VALUE=DATE:20240930
DTSTAMP:20260425T075738
CREATED:20240223T234703Z
LAST-MODIFIED:20240325T042337Z
UID:1121-1727568000-1727654399@camasfootball.com
SUMMARY:Staff Meeting
DESCRIPTION:Time TBD
URL:https://camasfootball.com/event/staff-meeting-4/
LOCATION:Washington
CATEGORIES:Staff Meeting
END:VEVENT
BEGIN:VEVENT
DTSTART;TZID=America/Los_Angeles:20240927T190000
DTEND;TZID=America/Los_Angeles:20240927T213000
DTSTAMP:20260425T075738
CREATED:20240223T115658Z
LAST-MODIFIED:20240312T192354Z
UID:1071-1727463600-1727472600@camasfootball.com
SUMMARY:Camas vs Oregon City\, Oregon
DESCRIPTION:Camas will host Oregon City\, Oregon at Doc Harris Stadium week 4.
URL:https://camasfootball.com/event/varsity-game-4/
LOCATION:Doc Harris Stadium\, 841 NE 22nd Ave.\, Camas\, Washington\, 98607
CATEGORIES:Football Games
END:VEVENT
BEGIN:VEVENT
DTSTART;TZID=America/Los_Angeles:20240926T160000
DTEND;TZID=America/Los_Angeles:20240926T180000
DTSTAMP:20260425T075738
CREATED:20240418T165536Z
LAST-MODIFIED:20240919T165911Z
UID:1847-1727366400-1727373600@camasfootball.com
SUMMARY:C-Team Game 4 - See School Site For Updated Date/Time
DESCRIPTION:See School Site For Updated Date/Time
URL:https://camasfootball.com/event/c-team-game-4/
LOCATION:Washington
CATEGORIES:Football Games,Frosh Calendar
END:VEVENT
BEGIN:VEVENT
DTSTART;TZID=America/Los_Angeles:20240926T154500
DTEND;TZID=America/Los_Angeles:20240926T174500
DTSTAMP:20260425T075738
CREATED:20240223T234525Z
LAST-MODIFIED:20240308T032036Z
UID:1114-1727365500-1727372700@camasfootball.com
SUMMARY:Practice
DESCRIPTION:Thursday Varsity/J.V. Practice \nFull Pac
URL:https://camasfootball.com/event/practice-17/
LOCATION:Cardon Field\, 26900 SE 15th St.\, Camas\, Washington\, 98607
CATEGORIES:Varsity Practice
END:VEVENT
BEGIN:VEVENT
DTSTART;TZID=America/Los_Angeles:20240925T154500
DTEND;TZID=America/Los_Angeles:20240925T181500
DTSTAMP:20260425T075738
CREATED:20240223T234358Z
LAST-MODIFIED:20240831T193946Z
UID:1108-1727279100-1727288100@camasfootball.com
SUMMARY:Practice
DESCRIPTION:Wednesday Varsity/J.V. Practice \nFull Pac
URL:https://camasfootball.com/event/practice-14/
LOCATION:Cardon Field\, 26900 SE 15th St.\, Camas\, Washington\, 98607
CATEGORIES:Varsity Practice
END:VEVENT
END:VCALENDAR