BEGIN:VCALENDAR
VERSION:2.0
PRODID:-//Camas Football - ECPv6.15.3//NONSGML v1.0//EN
CALSCALE:GREGORIAN
METHOD:PUBLISH
X-WR-CALNAME:Camas Football
X-ORIGINAL-URL:https://camasfootball.com
X-WR-CALDESC:Events for Camas Football
REFRESH-INTERVAL;VALUE=DURATION:PT1H
X-Robots-Tag:noindex
X-PUBLISHED-TTL:PT1H
BEGIN:VTIMEZONE
TZID:America/Los_Angeles
BEGIN:DAYLIGHT
TZOFFSETFROM:-0800
TZOFFSETTO:-0700
TZNAME:PDT
DTSTART:20240310T100000
END:DAYLIGHT
BEGIN:STANDARD
TZOFFSETFROM:-0700
TZOFFSETTO:-0800
TZNAME:PST
DTSTART:20241103T090000
END:STANDARD
END:VTIMEZONE
BEGIN:VEVENT
DTSTART;TZID=America/Los_Angeles:20240821T163000
DTEND;TZID=America/Los_Angeles:20240821T193000
DTSTAMP:20260425T061825
CREATED:20240418T183448Z
LAST-MODIFIED:20240419T174510Z
UID:1878-1724257800-1724268600@camasfootball.com
SUMMARY:C-Team Practice #1
DESCRIPTION:C-Team Practice #1 \nNo Pac
URL:https://camasfootball.com/event/c-team-practice-1/
LOCATION:Washington
CATEGORIES:Frosh Calendar
END:VEVENT
BEGIN:VEVENT
DTSTART;TZID=America/Los_Angeles:20240821T150000
DTEND;TZID=America/Los_Angeles:20240821T180000
DTSTAMP:20260425T061825
CREATED:20240223T104458Z
LAST-MODIFIED:20240308T032223Z
UID:1008-1724252400-1724263200@camasfootball.com
SUMMARY:Varsity Practice #1
DESCRIPTION:Varsity Practice #1 \nNo Pac
URL:https://camasfootball.com/event/varsity-practice-1/
LOCATION:Cardon Field\, 26900 SE 15th St.\, Camas\, Washington\, 98607
CATEGORIES:Varsity Practice
END:VEVENT
BEGIN:VEVENT
DTSTART;TZID=America/Los_Angeles:20240821T080000
DTEND;TZID=America/Los_Angeles:20240821T090000
DTSTAMP:20260425T061825
CREATED:20240223T101722Z
LAST-MODIFIED:20240308T035128Z
UID:978-1724227200-1724230800@camasfootball.com
SUMMARY:Gear Make-Up
DESCRIPTION:Gear Make-Up \nIf you have not yet received your gear\, come get it.
URL:https://camasfootball.com/event/gear-make-up/
LOCATION:Camas Locker Room\, 26900 SE 15th St.\, Camas\, Washington\, 98607
CATEGORIES:Gear Distribution
END:VEVENT
BEGIN:VEVENT
DTSTART;TZID=America/Los_Angeles:20240820T100000
DTEND;TZID=America/Los_Angeles:20240820T110000
DTSTAMP:20260425T061825
CREATED:20240223T083233Z
LAST-MODIFIED:20240308T032238Z
UID:942-1724148000-1724151600@camasfootball.com
SUMMARY:Gear Distribution (Freshmen)
DESCRIPTION:Gear Distribution for FRESHMEN who did not go to Team Camp.
URL:https://camasfootball.com/event/gear-distribution-freshmen/
LOCATION:Camas Locker Room\, 26900 SE 15th St.\, Camas\, Washington\, 98607
CATEGORIES:Gear Distribution
END:VEVENT
BEGIN:VEVENT
DTSTART;TZID=America/Los_Angeles:20240820T080000
DTEND;TZID=America/Los_Angeles:20240820T090000
DTSTAMP:20260425T061825
CREATED:20240223T083203Z
LAST-MODIFIED:20240308T032256Z
UID:941-1724140800-1724144400@camasfootball.com
SUMMARY:Gear Distribution (Sophomores)
DESCRIPTION:Gear Distribution for SOPHOMORES who did not go to Team Camp.
URL:https://camasfootball.com/event/gear-distribution-sophomores-2/
LOCATION:Camas Locker Room\, 26900 SE 15th St.\, Camas\, Washington\, 98607
CATEGORIES:Gear Distribution
END:VEVENT
BEGIN:VEVENT
DTSTART;TZID=America/Los_Angeles:20240819T190000
DTEND;TZID=America/Los_Angeles:20240819T210000
DTSTAMP:20260425T061825
CREATED:20240223T111053Z
LAST-MODIFIED:20240306T164438Z
UID:1038-1724094000-1724101200@camasfootball.com
SUMMARY:Player Combine
DESCRIPTION:Player Combine at Cardon Field \nCombine includes Freshmen\, Sophomores\, Juniors and Senior players.
URL:https://camasfootball.com/event/player-combine/
LOCATION:Cardon Field\, 26900 SE 15th St.\, Camas\, Washington\, 98607
END:VEVENT
BEGIN:VEVENT
DTSTART;TZID=America/Los_Angeles:20240819T190000
DTEND;TZID=America/Los_Angeles:20240819T200000
DTSTAMP:20260425T061825
CREATED:20240223T110913Z
LAST-MODIFIED:20240418T204622Z
UID:1036-1724094000-1724097600@camasfootball.com
SUMMARY:Parent Meeting
DESCRIPTION:Parent Meeting with Coach Mathieson \nMeeting includes Freshmen\, Sophomores\, Juniors and Senior parents.
URL:https://camasfootball.com/event/parent-meeting/
LOCATION:North Commons\, 26900 SE 15th St.\, Camas\, Washington\, 98607
CATEGORIES:Frosh Calendar,Parent Meeting
END:VEVENT
BEGIN:VEVENT
DTSTART;TZID=America/Los_Angeles:20240819T100000
DTEND;TZID=America/Los_Angeles:20240819T110000
DTSTAMP:20260425T061825
CREATED:20240223T083058Z
LAST-MODIFIED:20240308T032303Z
UID:940-1724061600-1724065200@camasfootball.com
SUMMARY:Gear Distribution (Juniors)
DESCRIPTION:Gear Distribution for JUNIORS who did not go to Team Camp.
URL:https://camasfootball.com/event/gear-distribution-juniors-2/
LOCATION:Camas Locker Room\, 26900 SE 15th St.\, Camas\, Washington\, 98607
CATEGORIES:Gear Distribution
END:VEVENT
BEGIN:VEVENT
DTSTART;TZID=America/Los_Angeles:20240819T080000
DTEND;TZID=America/Los_Angeles:20240819T090000
DTSTAMP:20260425T061825
CREATED:20240223T083315Z
LAST-MODIFIED:20240308T032306Z
UID:939-1724054400-1724058000@camasfootball.com
SUMMARY:Gear Distribution (Seniors)
DESCRIPTION:Gear Distribution for SENIORS who did not go to Team Camp.
URL:https://camasfootball.com/event/gear-distribution-seniors-2/
LOCATION:Camas Locker Room\, 26900 SE 15th St.\, Camas\, Washington\, 98607
CATEGORIES:Gear Distribution
END:VEVENT
BEGIN:VEVENT
DTSTART;VALUE=DATE:20240817
DTEND;VALUE=DATE:20240818
DTSTAMP:20260425T061825
CREATED:20240223T104015Z
LAST-MODIFIED:20240308T035147Z
UID:1005-1723852800-1723939199@camasfootball.com
SUMMARY:Coaches Retreat
DESCRIPTION:Coaches Retreat \nLincoln City\, Oregon
URL:https://camasfootball.com/event/coaches-retreat-3/
LOCATION:Washington
CATEGORIES:Coaches Retreat
END:VEVENT
BEGIN:VEVENT
DTSTART;VALUE=DATE:20240816
DTEND;VALUE=DATE:20240817
DTSTAMP:20260425T061825
CREATED:20240223T104004Z
LAST-MODIFIED:20240308T035202Z
UID:1004-1723766400-1723852799@camasfootball.com
SUMMARY:Coaches Retreat
DESCRIPTION:Coaches Retreat \nLincoln City\, Oregon
URL:https://camasfootball.com/event/coaches-retreat-2/
LOCATION:Washington
CATEGORIES:Coaches Retreat
END:VEVENT
BEGIN:VEVENT
DTSTART;TZID=America/Los_Angeles:20240815T090000
DTEND;TZID=America/Los_Angeles:20240815T103000
DTSTAMP:20260425T061825
CREATED:20240223T065814Z
LAST-MODIFIED:20240418T165215Z
UID:903-1723712400-1723717800@camasfootball.com
SUMMARY:Weight Training - Frosh
DESCRIPTION:Weight Training at the Camas High School weight room for Freshmen players.
URL:https://camasfootball.com/event/weight-training-frosh-19/
LOCATION:Camas Weight Room\, 26900 SE 15th St.\, Camas\, Washington\, 98607
CATEGORIES:Frosh Calendar,Strength and Conditioning
END:VEVENT
BEGIN:VEVENT
DTSTART;TZID=America/Los_Angeles:20240815T083000
DTEND;TZID=America/Los_Angeles:20240815T100000
DTSTAMP:20260425T061825
CREATED:20240223T065304Z
LAST-MODIFIED:20240317T201056Z
UID:888-1723710600-1723716000@camasfootball.com
SUMMARY:Weight Training - Varsity
DESCRIPTION:Weight Training at the Camas High School weight room for 10-12 grade players.
URL:https://camasfootball.com/event/weight-training-varsity-18/
LOCATION:Camas Weight Room\, 26900 SE 15th St.\, Camas\, Washington\, 98607
CATEGORIES:Strength and Conditioning
END:VEVENT
BEGIN:VEVENT
DTSTART;VALUE=DATE:20240815
DTEND;VALUE=DATE:20240816
DTSTAMP:20260425T061825
CREATED:20240223T101930Z
LAST-MODIFIED:20240308T035206Z
UID:980-1723680000-1723766399@camasfootball.com
SUMMARY:Coaches Retreat
DESCRIPTION:Coaches Retreat \nLincoln City\, Oregon
URL:https://camasfootball.com/event/coaches-retreat/
LOCATION:Washington
CATEGORIES:Coaches Retreat
END:VEVENT
BEGIN:VEVENT
DTSTART;TZID=America/Los_Angeles:20240813T090000
DTEND;TZID=America/Los_Angeles:20240813T103000
DTSTAMP:20260425T061825
CREATED:20240223T065755Z
LAST-MODIFIED:20240418T165220Z
UID:904-1723539600-1723545000@camasfootball.com
SUMMARY:Weight Training - Frosh
DESCRIPTION:Weight Training at the Camas High School weight room for Freshmen players.
URL:https://camasfootball.com/event/weight-training-frosh-18/
LOCATION:Camas Weight Room\, 26900 SE 15th St.\, Camas\, Washington\, 98607
CATEGORIES:Frosh Calendar,Strength and Conditioning
END:VEVENT
BEGIN:VEVENT
DTSTART;TZID=America/Los_Angeles:20240813T083000
DTEND;TZID=America/Los_Angeles:20240813T100000
DTSTAMP:20260425T061825
CREATED:20240223T065244Z
LAST-MODIFIED:20240317T201051Z
UID:887-1723537800-1723543200@camasfootball.com
SUMMARY:Weight Training - Varsity
DESCRIPTION:Weight Training at the Camas High School weight room for 10-12 grade players.
URL:https://camasfootball.com/event/weight-training-varsity-17/
LOCATION:Camas Weight Room\, 26900 SE 15th St.\, Camas\, Washington\, 98607
CATEGORIES:Strength and Conditioning
END:VEVENT
BEGIN:VEVENT
DTSTART;TZID=America/Los_Angeles:20240812T090000
DTEND;TZID=America/Los_Angeles:20240812T103000
DTSTAMP:20260425T061825
CREATED:20240223T065738Z
LAST-MODIFIED:20240424T050725Z
UID:905-1723453200-1723458600@camasfootball.com
SUMMARY:Weight Training - Frosh
DESCRIPTION:Weight Training at the Camas High School weight room for Freshmen players.
URL:https://camasfootball.com/event/weight-training-frosh-17/
LOCATION:Camas Weight Room\, 26900 SE 15th St.\, Camas\, Washington\, 98607
CATEGORIES:Frosh Calendar,Strength and Conditioning
END:VEVENT
BEGIN:VEVENT
DTSTART;TZID=America/Los_Angeles:20240812T083000
DTEND;TZID=America/Los_Angeles:20240812T100000
DTSTAMP:20260425T061825
CREATED:20240223T065226Z
LAST-MODIFIED:20240317T201046Z
UID:886-1723451400-1723456800@camasfootball.com
SUMMARY:Weight Training - Varsity
DESCRIPTION:Weight Training at the Camas High School weight room for 10-12 grade players.
URL:https://camasfootball.com/event/weight-training-varsity-16/
LOCATION:Camas Weight Room\, 26900 SE 15th St.\, Camas\, Washington\, 98607
CATEGORIES:Strength and Conditioning
END:VEVENT
BEGIN:VEVENT
DTSTART;TZID=America/Los_Angeles:20240808T183000
DTEND;TZID=America/Los_Angeles:20240808T200000
DTSTAMP:20260425T061825
CREATED:20240223T110801Z
LAST-MODIFIED:20240308T035311Z
UID:1031-1723141800-1723147200@camasfootball.com
SUMMARY:Future Champions Youth Football Camp Day 4
DESCRIPTION:Future Champions Youth Football Camp Day 4 \n2nd – 8th Grade \nThis camp is for beginner to intermediate level youth football players. Join in the fun as we instruct and practice the basics of football position specific skills with some of SW WA best high school players! This traditional “Big Guys – Little Guys” Camp will focus mostly on position specific fundaments in a manner that will not only be enjoyable\, but will undoubtedly translate into a fun and successful venture into youth football. Bring a water bottle and wear athletic attire (athletic shoes or molded cleats). \nThe camp will be coached by members of the CHS 2024 High School football program\, with director oversight from Camas Head Football Coach Adam Mathieson and members of the CHS football Coaching staff.
URL:https://camasfootball.com/event/future-champions-youth-football-camp-day-4/
LOCATION:Cardon Field\, 26900 SE 15th St.\, Camas\, Washington\, 98607
CATEGORIES:Youth Football Camp
END:VEVENT
BEGIN:VEVENT
DTSTART;TZID=America/Los_Angeles:20240808T090000
DTEND;TZID=America/Los_Angeles:20240808T103000
DTSTAMP:20260425T061825
CREATED:20240223T065702Z
LAST-MODIFIED:20240418T165206Z
UID:902-1723107600-1723113000@camasfootball.com
SUMMARY:Weight Training - Frosh
DESCRIPTION:Weight Training at the Camas High School weight room for Freshmen players.
URL:https://camasfootball.com/event/weight-training-frosh-16/
LOCATION:Camas Weight Room\, 26900 SE 15th St.\, Camas\, Washington\, 98607
CATEGORIES:Frosh Calendar,Strength and Conditioning
END:VEVENT
BEGIN:VEVENT
DTSTART;TZID=America/Los_Angeles:20240808T083000
DTEND;TZID=America/Los_Angeles:20240808T100000
DTSTAMP:20260425T061825
CREATED:20240223T065215Z
LAST-MODIFIED:20240317T201041Z
UID:885-1723105800-1723111200@camasfootball.com
SUMMARY:Weight Training - Varsity
DESCRIPTION:Weight Training at the Camas High School weight room for 10-12 grade players.
URL:https://camasfootball.com/event/weight-training-varsity-15/
LOCATION:Camas Weight Room\, 26900 SE 15th St.\, Camas\, Washington\, 98607
CATEGORIES:Strength and Conditioning
END:VEVENT
BEGIN:VEVENT
DTSTART;TZID=America/Los_Angeles:20240807T183000
DTEND;TZID=America/Los_Angeles:20240807T200000
DTSTAMP:20260425T061825
CREATED:20240223T110741Z
LAST-MODIFIED:20240308T041224Z
UID:1030-1723055400-1723060800@camasfootball.com
SUMMARY:Future Champions Youth Football Camp Day 3
DESCRIPTION:Future Champions Youth Football Camp Day 3 \n2nd – 8th Grade \nThis camp is for beginner to intermediate level youth football players. Join in the fun as we instruct and practice the basics of football position specific skills with some of SW WA best high school players! This traditional “Big Guys – Little Guys” Camp will focus mostly on position specific fundaments in a manner that will not only be enjoyable\, but will undoubtedly translate into a fun and successful venture into youth football. Bring a water bottle and wear athletic attire (athletic shoes or molded cleats). \nThe camp will be coached by members of the CHS 2024 High School football program\, with director oversight from Camas Head Football Coach Adam Mathieson and members of the CHS football Coaching staff.
URL:https://camasfootball.com/event/future-champions-youth-football-camp-day-3/
LOCATION:Cardon Field\, 26900 SE 15th St.\, Camas\, Washington\, 98607
CATEGORIES:Youth Football Camp
END:VEVENT
BEGIN:VEVENT
DTSTART;TZID=America/Los_Angeles:20240806T183000
DTEND;TZID=America/Los_Angeles:20240806T200000
DTSTAMP:20260425T061825
CREATED:20240223T110704Z
LAST-MODIFIED:20240308T041221Z
UID:1029-1722969000-1722974400@camasfootball.com
SUMMARY:Future Champions Youth Football Camp Day 2
DESCRIPTION:Future Champions Youth Football Camp Day 2 \n2nd – 8th Grade \nThis camp is for beginner to intermediate level youth football players. Join in the fun as we instruct and practice the basics of football position specific skills with some of SW WA best high school players! This traditional “Big Guys – Little Guys” Camp will focus mostly on position specific fundaments in a manner that will not only be enjoyable\, but will undoubtedly translate into a fun and successful venture into youth football. Bring a water bottle and wear athletic attire (athletic shoes or molded cleats). \nThe camp will be coached by members of the CHS 2024 High School football program\, with director oversight from Camas Head Football Coach Adam Mathieson and members of the CHS football Coaching staff.
URL:https://camasfootball.com/event/future-champions-youth-football-camp-day-2/
LOCATION:Cardon Field\, 26900 SE 15th St.\, Camas\, Washington\, 98607
CATEGORIES:Youth Football Camp
END:VEVENT
BEGIN:VEVENT
DTSTART;TZID=America/Los_Angeles:20240806T090000
DTEND;TZID=America/Los_Angeles:20240806T103000
DTSTAMP:20260425T061825
CREATED:20240223T065532Z
LAST-MODIFIED:20240418T165158Z
UID:898-1722934800-1722940200@camasfootball.com
SUMMARY:Weight Training - Frosh
DESCRIPTION:Weight Training at the Camas High School weight room for Freshmen players.
URL:https://camasfootball.com/event/weight-training-frosh-13/
LOCATION:Camas Weight Room\, 26900 SE 15th St.\, Camas\, Washington\, 98607
CATEGORIES:Frosh Calendar,Strength and Conditioning
END:VEVENT
BEGIN:VEVENT
DTSTART;TZID=America/Los_Angeles:20240806T083000
DTEND;TZID=America/Los_Angeles:20240806T100000
DTSTAMP:20260425T061825
CREATED:20240223T065135Z
LAST-MODIFIED:20240317T201036Z
UID:883-1722933000-1722938400@camasfootball.com
SUMMARY:Weight Training - Varsity
DESCRIPTION:Weight Training at the Camas High School weight room for 10-12 grade players.
URL:https://camasfootball.com/event/weight-training-varsity-13/
LOCATION:Camas Weight Room\, 26900 SE 15th St.\, Camas\, Washington\, 98607
CATEGORIES:Strength and Conditioning
END:VEVENT
BEGIN:VEVENT
DTSTART;TZID=America/Los_Angeles:20240805T183000
DTEND;TZID=America/Los_Angeles:20240805T200000
DTSTAMP:20260425T061825
CREATED:20240223T110632Z
LAST-MODIFIED:20240308T041259Z
UID:1028-1722882600-1722888000@camasfootball.com
SUMMARY:Future Champions Youth Football Camp Day 1
DESCRIPTION:Future Champions Youth Football Camp Day 1 \n2nd – 8th Grade \nThis camp is for beginner to intermediate level youth football players. Join in the fun as we instruct and practice the basics of football position specific skills with some of SW WA best high school players! This traditional “Big Guys – Little Guys” Camp will focus mostly on position specific fundaments in a manner that will not only be enjoyable\, but will undoubtedly translate into a fun and successful venture into youth football. Bring a water bottle and wear athletic attire (athletic shoes or molded cleats). \nThe camp will be coached by members of the CHS 2024 High School football program\, with director oversight from Camas Head Football Coach Adam Mathieson and members of the CHS football Coaching staff.
URL:https://camasfootball.com/event/future-champions-youth-football-camp-day-1/
LOCATION:Cardon Field\, 26900 SE 15th St.\, Camas\, Washington\, 98607
CATEGORIES:Youth Football Camp
END:VEVENT
BEGIN:VEVENT
DTSTART;TZID=America/Los_Angeles:20240805T090000
DTEND;TZID=America/Los_Angeles:20240805T103000
DTSTAMP:20260425T061825
CREATED:20240223T065553Z
LAST-MODIFIED:20240418T165210Z
UID:899-1722848400-1722853800@camasfootball.com
SUMMARY:Weight Training - Frosh
DESCRIPTION:Weight Training at the Camas High School weight room for Freshmen players.
URL:https://camasfootball.com/event/weight-training-frosh-14/
LOCATION:Camas Weight Room\, 26900 SE 15th St.\, Camas\, Washington\, 98607
CATEGORIES:Frosh Calendar,Strength and Conditioning
END:VEVENT
BEGIN:VEVENT
DTSTART;TZID=America/Los_Angeles:20240805T083000
DTEND;TZID=America/Los_Angeles:20240805T100000
DTSTAMP:20260425T061825
CREATED:20240223T065057Z
LAST-MODIFIED:20240317T201031Z
UID:882-1722846600-1722852000@camasfootball.com
SUMMARY:Weight Training - Varsity
DESCRIPTION:Weight Training at the Camas High School weight room for 10-12 grade players.
URL:https://camasfootball.com/event/weight-training-varsity-12/
LOCATION:Camas Weight Room\, 26900 SE 15th St.\, Camas\, Washington\, 98607
CATEGORIES:Strength and Conditioning
END:VEVENT
BEGIN:VEVENT
DTSTART;TZID=America/Los_Angeles:20240801T090000
DTEND;TZID=America/Los_Angeles:20240801T103000
DTSTAMP:20260425T061825
CREATED:20240223T065523Z
LAST-MODIFIED:20240418T165152Z
UID:897-1722502800-1722508200@camasfootball.com
SUMMARY:Weight Training - Frosh
DESCRIPTION:Weight Training at the Camas High School weight room for Freshmen players.
URL:https://camasfootball.com/event/weight-training-frosh-12/
LOCATION:Camas Weight Room\, 26900 SE 15th St.\, Camas\, Washington\, 98607
CATEGORIES:Frosh Calendar,Strength and Conditioning
END:VEVENT
BEGIN:VEVENT
DTSTART;TZID=America/Los_Angeles:20240801T083000
DTEND;TZID=America/Los_Angeles:20240801T100000
DTSTAMP:20260425T061825
CREATED:20240223T064819Z
LAST-MODIFIED:20240317T201021Z
UID:881-1722501000-1722506400@camasfootball.com
SUMMARY:Weight Training - Varsity
DESCRIPTION:Weight Training at the Camas High School weight room for 10-12 grade players.
URL:https://camasfootball.com/event/weight-training-varsity-11/
LOCATION:Camas Weight Room\, 26900 SE 15th St.\, Camas\, Washington\, 98607
CATEGORIES:Strength and Conditioning
END:VEVENT
END:VCALENDAR