BEGIN:VCALENDAR
VERSION:2.0
PRODID:-//Camas Football - ECPv6.15.3//NONSGML v1.0//EN
CALSCALE:GREGORIAN
METHOD:PUBLISH
X-WR-CALNAME:Camas Football
X-ORIGINAL-URL:https://camasfootball.com
X-WR-CALDESC:Events for Camas Football
REFRESH-INTERVAL;VALUE=DURATION:PT1H
X-Robots-Tag:noindex
X-PUBLISHED-TTL:PT1H
BEGIN:VTIMEZONE
TZID:America/Los_Angeles
BEGIN:DAYLIGHT
TZOFFSETFROM:-0800
TZOFFSETTO:-0700
TZNAME:PDT
DTSTART:20260308T100000
END:DAYLIGHT
BEGIN:STANDARD
TZOFFSETFROM:-0700
TZOFFSETTO:-0800
TZNAME:PST
DTSTART:20261101T090000
END:STANDARD
END:VTIMEZONE
BEGIN:VEVENT
DTSTART;TZID=America/Los_Angeles:20260529T151500
DTEND;TZID=America/Los_Angeles:20260529T160000
DTSTAMP:20260423T163303
CREATED:20260215T003150Z
LAST-MODIFIED:20260215T003150Z
UID:4238-1780067700-1780070400@camasfootball.com
SUMMARY:Gear Distribution (Sophomores)
DESCRIPTION:Spring Gear Distribution for SOPHOMORES.
URL:https://camasfootball.com/event/spring-gear-distribution-sophomores-2026/
LOCATION:Camas Locker Room\, 26900 SE 15th St.\, Camas\, Washington\, 98607
CATEGORIES:Gear Distribution,Varsity/JV Schedule
END:VEVENT
BEGIN:VEVENT
DTSTART;TZID=America/Los_Angeles:20260529T071500
DTEND;TZID=America/Los_Angeles:20260529T081500
DTSTAMP:20260423T163303
CREATED:20260214T234227Z
LAST-MODIFIED:20260214T234227Z
UID:4159-1780038900-1780042500@camasfootball.com
SUMMARY:Champions Hour
DESCRIPTION:Champions Hour\n7:15 AM – 8:15 AM\n(Weight Room) \nChampions are build in the weight room!
URL:https://camasfootball.com/event/champions-hour-123/
LOCATION:Camas Weight Room\, 26900 SE 15th St.\, Camas\, Washington\, 98607
CATEGORIES:Champions Hour,Varsity/JV Schedule
END:VEVENT
BEGIN:VEVENT
DTSTART;TZID=America/Los_Angeles:20260528T190000
DTEND;TZID=America/Los_Angeles:20260528T210000
DTSTAMP:20260423T163303
CREATED:20260421T195940Z
LAST-MODIFIED:20260421T195949Z
UID:4738-1779994800-1780002000@camasfootball.com
SUMMARY:#6 Covington at Skyridge (Doc Harris Stadium)
DESCRIPTION:Skyridge Middle School Football  \nGame 2:  Covington at Skyridge (at Doc Harris Stadium) \nCheck Arbiter for any game updates.
URL:https://camasfootball.com/event/6-covington-at-skyridge-doc-harris-stadium-2026/
LOCATION:Doc Harris Stadium\, 841 NE 22nd Ave.\, Camas\, Washington\, 98607
CATEGORIES:Middle School
END:VEVENT
BEGIN:VEVENT
DTSTART;TZID=America/Los_Angeles:20260528T173000
DTEND;TZID=America/Los_Angeles:20260528T193000
DTSTAMP:20260423T163303
CREATED:20260421T185919Z
LAST-MODIFIED:20260421T200215Z
UID:4721-1779989400-1779996600@camasfootball.com
SUMMARY:#6 Liberty at Wy'East (Mountain View High School)
DESCRIPTION:Liberty Middle School Football  \nGame 6: Liberty at Wy’East (Mountain View High School) \nCheck Arbiter for any game updates.
URL:https://camasfootball.com/event/6-liberty-at-wyeast-2026/
LOCATION:Mountain View High School\, 1500 SE Blairmont Dr\, Vancouver\, WA\, 98683\, United States
CATEGORIES:Middle School
END:VEVENT
BEGIN:VEVENT
DTSTART;TZID=America/Los_Angeles:20260528T151500
DTEND;TZID=America/Los_Angeles:20260528T160000
DTSTAMP:20260423T163303
CREATED:20260215T003121Z
LAST-MODIFIED:20260215T003121Z
UID:4237-1779981300-1779984000@camasfootball.com
SUMMARY:Gear Distribution (Juniors)
DESCRIPTION:Spring Gear Distribution for JUNIORS.
URL:https://camasfootball.com/event/spring-gear-distribution-juniors-2026/
LOCATION:Camas Locker Room\, 26900 SE 15th St.\, Camas\, Washington\, 98607
CATEGORIES:Gear Distribution,Varsity/JV Schedule
END:VEVENT
BEGIN:VEVENT
DTSTART;TZID=America/Los_Angeles:20260528T071500
DTEND;TZID=America/Los_Angeles:20260528T081500
DTSTAMP:20260423T163303
CREATED:20260214T234209Z
LAST-MODIFIED:20260214T234209Z
UID:4158-1779952500-1779956100@camasfootball.com
SUMMARY:Champions Hour
DESCRIPTION:Champions Hour\n7:15 AM – 8:15 AM\n(Weight Room) \nChampions are build in the weight room!
URL:https://camasfootball.com/event/champions-hour-122/
LOCATION:Camas Weight Room\, 26900 SE 15th St.\, Camas\, Washington\, 98607
CATEGORIES:Champions Hour,Varsity/JV Schedule
END:VEVENT
BEGIN:VEVENT
DTSTART;TZID=America/Los_Angeles:20260527T190000
DTEND;TZID=America/Los_Angeles:20260527T213000
DTSTAMP:20260423T163303
CREATED:20260215T002716Z
LAST-MODIFIED:20260215T002716Z
UID:4234-1779908400-1779917400@camasfootball.com
SUMMARY:*** NOC 2026 ***
DESCRIPTION:Night of Champions 2026
URL:https://camasfootball.com/event/noc-2026/
LOCATION:Camas Weight Room\, 26900 SE 15th St.\, Camas\, Washington\, 98607
CATEGORIES:Frosh Calendar,Varsity/JV Schedule
END:VEVENT
BEGIN:VEVENT
DTSTART;TZID=America/Los_Angeles:20260527T071500
DTEND;TZID=America/Los_Angeles:20260527T081500
DTSTAMP:20260423T163303
CREATED:20260214T235554Z
LAST-MODIFIED:20260214T235554Z
UID:4189-1779866100-1779869700@camasfootball.com
SUMMARY:SAQ Pass #15
DESCRIPTION:Speed Agility Quickness Pass #15\n7:15 AM – 8:15 AM\n(Field House)
URL:https://camasfootball.com/event/saq-pass-15-2/
LOCATION:Field House\, 26900 SE 15th St.\, Camas\, Washington\, 98607
CATEGORIES:Speed Agility Quickness,Varsity/JV Schedule
END:VEVENT
BEGIN:VEVENT
DTSTART;TZID=America/Los_Angeles:20260526T151500
DTEND;TZID=America/Los_Angeles:20260526T160000
DTSTAMP:20260423T163303
CREATED:20260215T003005Z
LAST-MODIFIED:20260215T003005Z
UID:4236-1779808500-1779811200@camasfootball.com
SUMMARY:Gear Distribution (Seniors)
DESCRIPTION:Spring Gear Distribution for SENIORS.
URL:https://camasfootball.com/event/spring-gear-distribution-seniors-2026/
LOCATION:Camas Locker Room\, 26900 SE 15th St.\, Camas\, Washington\, 98607
CATEGORIES:Gear Distribution,Varsity/JV Schedule
END:VEVENT
BEGIN:VEVENT
DTSTART;TZID=America/Los_Angeles:20260526T071500
DTEND;TZID=America/Los_Angeles:20260526T081500
DTSTAMP:20260423T163303
CREATED:20260214T234150Z
LAST-MODIFIED:20260214T234150Z
UID:4157-1779779700-1779783300@camasfootball.com
SUMMARY:Champions Hour
DESCRIPTION:Champions Hour\n7:15 AM – 8:15 AM\n(Weight Room) \nChampions are build in the weight room!
URL:https://camasfootball.com/event/champions-hour-121/
LOCATION:Camas Weight Room\, 26900 SE 15th St.\, Camas\, Washington\, 98607
CATEGORIES:Champions Hour,Varsity/JV Schedule
END:VEVENT
BEGIN:VEVENT
DTSTART;VALUE=DATE:20260525
DTEND;VALUE=DATE:20260526
DTSTAMP:20260423T163303
CREATED:20260214T233616Z
LAST-MODIFIED:20260214T233616Z
UID:4143-1779667200-1779753599@camasfootball.com
SUMMARY:No School
DESCRIPTION:
URL:https://camasfootball.com/event/no-school-19/
LOCATION:Washington
CATEGORIES:Frosh Calendar,Varsity/JV Schedule
END:VEVENT
BEGIN:VEVENT
DTSTART;TZID=America/Los_Angeles:20260522T071500
DTEND;TZID=America/Los_Angeles:20260522T081500
DTSTAMP:20260423T163303
CREATED:20260214T234129Z
LAST-MODIFIED:20260214T234129Z
UID:4156-1779434100-1779437700@camasfootball.com
SUMMARY:Champions Hour
DESCRIPTION:Champions Hour\n7:15 AM – 8:15 AM\n(Weight Room) \nChampions are build in the weight room!
URL:https://camasfootball.com/event/champions-hour-120/
LOCATION:Camas Weight Room\, 26900 SE 15th St.\, Camas\, Washington\, 98607
CATEGORIES:Champions Hour,Varsity/JV Schedule
END:VEVENT
BEGIN:VEVENT
DTSTART;TZID=America/Los_Angeles:20260521T190000
DTEND;TZID=America/Los_Angeles:20260521T210000
DTSTAMP:20260423T163303
CREATED:20260421T195853Z
LAST-MODIFIED:20260421T195853Z
UID:4736-1779390000-1779397200@camasfootball.com
SUMMARY:#5 Frontier at Skyridge (Cardon Field)
DESCRIPTION:Skyridge Middle School Football  \nGame 5:  Frontier at Skyridge (at Cardon Field) \nCheck Arbiter for any game updates.
URL:https://camasfootball.com/event/5-frontier-at-skyridge-cardon-field-2026/
LOCATION:Cardon Field\, 26900 SE 15th St.\, Camas\, Washington\, 98607
CATEGORIES:Middle School
END:VEVENT
BEGIN:VEVENT
DTSTART;TZID=America/Los_Angeles:20260521T190000
DTEND;TZID=America/Los_Angeles:20260521T210000
DTSTAMP:20260423T163303
CREATED:20260421T185714Z
LAST-MODIFIED:20260421T200204Z
UID:4719-1779390000-1779397200@camasfootball.com
SUMMARY:#5 Pacific at Liberty (Doc Harris Stadium)
DESCRIPTION:Liberty Middle School Football  \nGame 5: Pacific at Liberty (Doc Harris Stadium) \nCheck Arbiter for any game updates.
URL:https://camasfootball.com/event/5-pacific-at-liberty-doc-harris-stadium-2026/
LOCATION:Doc Harris Stadium\, 841 NE 22nd Ave.\, Camas\, Washington\, 98607
CATEGORIES:Middle School
END:VEVENT
BEGIN:VEVENT
DTSTART;TZID=America/Los_Angeles:20260521T071500
DTEND;TZID=America/Los_Angeles:20260521T081500
DTSTAMP:20260423T163303
CREATED:20260214T234110Z
LAST-MODIFIED:20260214T234110Z
UID:4155-1779347700-1779351300@camasfootball.com
SUMMARY:Champions Hour
DESCRIPTION:Champions Hour\n7:15 AM – 8:15 AM\n(Weight Room) \nChampions are build in the weight room!
URL:https://camasfootball.com/event/champions-hour-119/
LOCATION:Camas Weight Room\, 26900 SE 15th St.\, Camas\, Washington\, 98607
CATEGORIES:Champions Hour,Varsity/JV Schedule
END:VEVENT
BEGIN:VEVENT
DTSTART;TZID=America/Los_Angeles:20260520T071500
DTEND;TZID=America/Los_Angeles:20260520T081500
DTSTAMP:20260423T163303
CREATED:20260214T235536Z
LAST-MODIFIED:20260214T235536Z
UID:4186-1779261300-1779264900@camasfootball.com
SUMMARY:SAQ Pass #14
DESCRIPTION:Speed Agility Quickness Pass #14\n7:15 AM – 8:15 AM\n(Field House)
URL:https://camasfootball.com/event/saq-pass-14-2/
LOCATION:Field House\, 26900 SE 15th St.\, Camas\, Washington\, 98607
CATEGORIES:Speed Agility Quickness,Varsity/JV Schedule
END:VEVENT
BEGIN:VEVENT
DTSTART;TZID=America/Los_Angeles:20260519T071500
DTEND;TZID=America/Los_Angeles:20260519T081500
DTSTAMP:20260423T163303
CREATED:20260214T234048Z
LAST-MODIFIED:20260214T234048Z
UID:4154-1779174900-1779178500@camasfootball.com
SUMMARY:Champions Hour
DESCRIPTION:Champions Hour\n7:15 AM – 8:15 AM\n(Weight Room) \nChampions are build in the weight room!
URL:https://camasfootball.com/event/champions-hour-118/
LOCATION:Camas Weight Room\, 26900 SE 15th St.\, Camas\, Washington\, 98607
CATEGORIES:Champions Hour,Varsity/JV Schedule
END:VEVENT
BEGIN:VEVENT
DTSTART;TZID=America/Los_Angeles:20260518T071500
DTEND;TZID=America/Los_Angeles:20260518T081500
DTSTAMP:20260423T163303
CREATED:20260214T234028Z
LAST-MODIFIED:20260214T234028Z
UID:4153-1779088500-1779092100@camasfootball.com
SUMMARY:Champions Hour
DESCRIPTION:Champions Hour\n7:15 AM – 8:15 AM\n(Weight Room) \nChampions are build in the weight room!
URL:https://camasfootball.com/event/champions-hour-117/
LOCATION:Camas Weight Room\, 26900 SE 15th St.\, Camas\, Washington\, 98607
CATEGORIES:Champions Hour,Varsity/JV Schedule
END:VEVENT
BEGIN:VEVENT
DTSTART;TZID=America/Los_Angeles:20260517T163000
DTEND;TZID=America/Los_Angeles:20260517T173000
DTSTAMP:20260423T163303
CREATED:20260215T002040Z
LAST-MODIFIED:20260215T002040Z
UID:4218-1779035400-1779039000@camasfootball.com
SUMMARY:#ToTheTop Youth Football Skills Camp - Grade: 5-7 Week 4
DESCRIPTION:#ToTheTop Youth Football Skills Camp – Week 4 \n5th – 7th Grade\, Code: TBD\nDB & LB Focus \nThis camp is for beginner to intermediate level youth football players. Join in the fun as we instruct and practice the basics of football position specific skills with some of SW WA best high school players! This traditional “Big Guys – Little Guys” Camp will focus mostly on position specific fundaments in a manner that will not only be enjoyable\, but will undoubtedly translate into a fun and successful venture into youth football. Bring a water bottle and wear athletic attire (athletic shoes or molded cleats). \nThe camp will be coached by members of the CHS 2025 High School football program\, with director oversight from Camas Head Football Coach Adam Mathieson and members of the CHS football Coaching staff. \n$TBD for all 6 Weeks \nThis is a 4 week camp that meets every Sunday from April 13 through May 4.
URL:https://camasfootball.com/event/tothetop-youth-football-skills-camp-grade-5-7-week-4-2026/
LOCATION:Field House\, 26900 SE 15th St.\, Camas\, Washington\, 98607
CATEGORIES:Frosh Calendar,Varsity/JV Schedule,Youth Football Camp
END:VEVENT
BEGIN:VEVENT
DTSTART;TZID=America/Los_Angeles:20260517T150000
DTEND;TZID=America/Los_Angeles:20260517T160000
DTSTAMP:20260423T163303
CREATED:20260215T001928Z
LAST-MODIFIED:20260215T001928Z
UID:4217-1779030000-1779033600@camasfootball.com
SUMMARY:#ToTheTop Youth Football Skills Camp - Grade: 2-4 Week 4
DESCRIPTION:#ToTheTop Youth Football Skills Camp – Week 4 \n2nd – 4th Grade\, Code: TBD\nDB & LB Focus \nThis camp is for beginner to intermediate level youth football players. Join in the fun as we instruct and practice the basics of football position specific skills with some of SW WA best high school players! This traditional “Big Guys – Little Guys” Camp will focus mostly on position specific fundaments in a manner that will not only be enjoyable\, but will undoubtedly translate into a fun and successful venture into youth football. Bring a water bottle and wear athletic attire (athletic shoes or molded cleats). \nThe camp will be coached by members of the CHS 2025 High School football program\, with director oversight from Camas Head Football Coach Adam Mathieson and members of the CHS football Coaching staff. \n$TBD for all 4 Weeks \nThis is a 4 week camp that meets every Sunday from April 13 through May 4.
URL:https://camasfootball.com/event/tothetop-youth-football-skills-camp-grade-2-4-week-4-2026/
LOCATION:Field House\, 26900 SE 15th St.\, Camas\, Washington\, 98607
CATEGORIES:Frosh Calendar,Varsity/JV Schedule,Youth Football Camp
END:VEVENT
BEGIN:VEVENT
DTSTART;TZID=America/Los_Angeles:20260515T190000
DTEND;TZID=America/Los_Angeles:20260515T210000
DTSTAMP:20260423T163303
CREATED:20260421T185620Z
LAST-MODIFIED:20260421T200144Z
UID:4717-1778871600-1778878800@camasfootball.com
SUMMARY:#4 Covington at Liberty (Doc Harris Stadium)
DESCRIPTION:Liberty Middle School Football  \nGame 4: Covington at Liberty (Doc Harris Stadium) \nCheck Arbiter for any game updates.
URL:https://camasfootball.com/event/4-covington-at-liberty-doc-harris-stadium-2026/
LOCATION:Doc Harris Stadium\, 841 NE 22nd Ave.\, Camas\, Washington\, 98607
CATEGORIES:Middle School
END:VEVENT
BEGIN:VEVENT
DTSTART;TZID=America/Los_Angeles:20260515T170000
DTEND;TZID=America/Los_Angeles:20260515T190000
DTSTAMP:20260423T163303
CREATED:20260421T195731Z
LAST-MODIFIED:20260421T195731Z
UID:4734-1778864400-1778871600@camasfootball.com
SUMMARY:#4 Skyridge at Pacific
DESCRIPTION:Skyridge Middle School Football  \nGame 4:  Skyridge at Pacific \nCheck Arbiter for any game updates.
URL:https://camasfootball.com/event/4-skyridge-at-pacific/
LOCATION:Pacific Middle School\, Pacific Middle School\, Vancouver\, WA\, 98684\, United States
CATEGORIES:Middle School
END:VEVENT
BEGIN:VEVENT
DTSTART;TZID=America/Los_Angeles:20260515T071500
DTEND;TZID=America/Los_Angeles:20260515T081500
DTSTAMP:20260423T163303
CREATED:20260214T234006Z
LAST-MODIFIED:20260214T234006Z
UID:4152-1778829300-1778832900@camasfootball.com
SUMMARY:Champions Hour
DESCRIPTION:Champions Hour\n7:15 AM – 8:15 AM\n(Weight Room) \nChampions are build in the weight room!
URL:https://camasfootball.com/event/champions-hour-116/
LOCATION:Camas Weight Room\, 26900 SE 15th St.\, Camas\, Washington\, 98607
CATEGORIES:Champions Hour,Varsity/JV Schedule
END:VEVENT
BEGIN:VEVENT
DTSTART;TZID=America/Los_Angeles:20260514T071500
DTEND;TZID=America/Los_Angeles:20260514T081500
DTSTAMP:20260423T163303
CREATED:20260214T233945Z
LAST-MODIFIED:20260214T233945Z
UID:4151-1778742900-1778746500@camasfootball.com
SUMMARY:Champions Hour
DESCRIPTION:Champions Hour\n7:15 AM – 8:15 AM\n(Weight Room) \nChampions are build in the weight room!
URL:https://camasfootball.com/event/champions-hour-115/
LOCATION:Camas Weight Room\, 26900 SE 15th St.\, Camas\, Washington\, 98607
CATEGORIES:Champions Hour,Varsity/JV Schedule
END:VEVENT
BEGIN:VEVENT
DTSTART;TZID=America/Los_Angeles:20260513T071500
DTEND;TZID=America/Los_Angeles:20260513T081500
DTSTAMP:20260423T163303
CREATED:20260214T235515Z
LAST-MODIFIED:20260214T235515Z
UID:4187-1778656500-1778660100@camasfootball.com
SUMMARY:SAQ Pass #13
DESCRIPTION:Speed Agility Quickness Pass #13\n7:15 AM – 8:15 AM\n(Field House)
URL:https://camasfootball.com/event/saq-pass-13-3/
LOCATION:Field House\, 26900 SE 15th St.\, Camas\, Washington\, 98607
CATEGORIES:Speed Agility Quickness,Varsity/JV Schedule
END:VEVENT
BEGIN:VEVENT
DTSTART;TZID=America/Los_Angeles:20260512T190000
DTEND;TZID=America/Los_Angeles:20260512T210000
DTSTAMP:20260423T163303
CREATED:20260421T195555Z
LAST-MODIFIED:20260421T195616Z
UID:4730-1778612400-1778619600@camasfootball.com
SUMMARY:#3 Wy'East at Skyridge (Doc Harris Stadium)
DESCRIPTION:Skyridge Middle School Football  \nGame 3:  Wy’East at Skyridge (at Doc Harris Stadium) \nCheck Arbiter for any game updates.
URL:https://camasfootball.com/event/3-wyeast-at-skyridge-doc-harris-stadium-2026/
LOCATION:Doc Harris Stadium\, 841 NE 22nd Ave.\, Camas\, Washington\, 98607
CATEGORIES:Middle School
END:VEVENT
BEGIN:VEVENT
DTSTART;TZID=America/Los_Angeles:20260512T170000
DTEND;TZID=America/Los_Angeles:20260512T190000
DTSTAMP:20260423T163303
CREATED:20260421T185427Z
LAST-MODIFIED:20260421T200131Z
UID:4715-1778605200-1778612400@camasfootball.com
SUMMARY:#3 Liberty at Frontier
DESCRIPTION:Liberty Middle School Football  \nGame 3: Liberty at Frontier \nCheck Arbiter for any game updates.
URL:https://camasfootball.com/event/3-liberty-at-frontier/
LOCATION:Frontier Middle School\, 7600 NE 166th Ave\, Vancouver\, WA\, 98682\, United States
CATEGORIES:Middle School
END:VEVENT
BEGIN:VEVENT
DTSTART;TZID=America/Los_Angeles:20260512T071500
DTEND;TZID=America/Los_Angeles:20260512T081500
DTSTAMP:20260423T163303
CREATED:20260214T233925Z
LAST-MODIFIED:20260214T233925Z
UID:4150-1778570100-1778573700@camasfootball.com
SUMMARY:Champions Hour
DESCRIPTION:Champions Hour\n7:15 AM – 8:15 AM\n(Weight Room) \nChampions are build in the weight room!
URL:https://camasfootball.com/event/champions-hour-114/
LOCATION:Camas Weight Room\, 26900 SE 15th St.\, Camas\, Washington\, 98607
CATEGORIES:Champions Hour,Varsity/JV Schedule
END:VEVENT
BEGIN:VEVENT
DTSTART;TZID=America/Los_Angeles:20260511T071500
DTEND;TZID=America/Los_Angeles:20260511T081500
DTSTAMP:20260423T163303
CREATED:20260214T233908Z
LAST-MODIFIED:20260214T233908Z
UID:4149-1778483700-1778487300@camasfootball.com
SUMMARY:Champions Hour
DESCRIPTION:Champions Hour\n7:15 AM – 8:15 AM\n(Weight Room) \nChampions are build in the weight room!
URL:https://camasfootball.com/event/champions-hour-113/
LOCATION:Camas Weight Room\, 26900 SE 15th St.\, Camas\, Washington\, 98607
CATEGORIES:Champions Hour,Varsity/JV Schedule
END:VEVENT
BEGIN:VEVENT
DTSTART;TZID=America/Los_Angeles:20260510T163000
DTEND;TZID=America/Los_Angeles:20260510T173000
DTSTAMP:20260423T163303
CREATED:20260215T001810Z
LAST-MODIFIED:20260215T001810Z
UID:4216-1778430600-1778434200@camasfootball.com
SUMMARY:#ToTheTop Youth Football Skills Camp - Grade: 5-7 Week 3
DESCRIPTION:#ToTheTop Youth Football Skills Camp – Week 3 \n5th – 7th Grade\, Code: TBD\nQB\, RB & WR Focus \nThis camp is for beginner to intermediate level youth football players. Join in the fun as we instruct and practice the basics of football position specific skills with some of SW WA best high school players! This traditional “Big Guys – Little Guys” Camp will focus mostly on position specific fundaments in a manner that will not only be enjoyable\, but will undoubtedly translate into a fun and successful venture into youth football. Bring a water bottle and wear athletic attire (athletic shoes or molded cleats). \nThe camp will be coached by members of the CHS 2025 High School football program\, with director oversight from Camas Head Football Coach Adam Mathieson and members of the CHS football Coaching staff. \n$TBD for all 4 Weeks \nThis is a 4 week camp that meets every Sunday from April 13 through May 4.
URL:https://camasfootball.com/event/tothetop-youth-football-skills-camp-grade-5-7-week-3-2026/
LOCATION:Field House\, 26900 SE 15th St.\, Camas\, Washington\, 98607
CATEGORIES:Frosh Calendar,Varsity/JV Schedule,Youth Football Camp
END:VEVENT
END:VCALENDAR