BEGIN:VCALENDAR
VERSION:2.0
PRODID:-//Camas Football - ECPv6.15.3//NONSGML v1.0//EN
CALSCALE:GREGORIAN
METHOD:PUBLISH
X-WR-CALNAME:Camas Football
X-ORIGINAL-URL:https://camasfootball.com
X-WR-CALDESC:Events for Camas Football
REFRESH-INTERVAL;VALUE=DURATION:PT1H
X-Robots-Tag:noindex
X-PUBLISHED-TTL:PT1H
BEGIN:VTIMEZONE
TZID:America/Los_Angeles
BEGIN:DAYLIGHT
TZOFFSETFROM:-0800
TZOFFSETTO:-0700
TZNAME:PDT
DTSTART:20250309T100000
END:DAYLIGHT
BEGIN:STANDARD
TZOFFSETFROM:-0700
TZOFFSETTO:-0800
TZNAME:PST
DTSTART:20251102T090000
END:STANDARD
END:VTIMEZONE
BEGIN:VEVENT
DTSTART;TZID=America/Los_Angeles:20251030T153000
DTEND;TZID=America/Los_Angeles:20251030T174500
DTSTAMP:20260423T163305
CREATED:20250205T033322Z
LAST-MODIFIED:20250321T185544Z
UID:2915-1761838200-1761846300@camasfootball.com
SUMMARY:Practice
DESCRIPTION:Thursday Varsity/J.V. Practice \nFull Pac
URL:https://camasfootball.com/event/practice-68/
LOCATION:Cardon Field\, 26900 SE 15th St.\, Camas\, Washington\, 98607
CATEGORIES:Varsity Practice,Varsity/JV Schedule
END:VEVENT
BEGIN:VEVENT
DTSTART;VALUE=DATE:20251030
DTEND;VALUE=DATE:20251031
DTSTAMP:20260423T163305
CREATED:20250818T224646Z
LAST-MODIFIED:20250818T224725Z
UID:3751-1761782400-1761868799@camasfootball.com
SUMMARY:Frosh Game #9 Skyview
DESCRIPTION:Frosh Game #9 \nvs Skyview \nPlease visit Arbiter for all game updates including date\, time and location.
URL:https://camasfootball.com/event/frosh-game-9-skyview/
LOCATION:Doc Harris Stadium\, 841 NE 22nd Ave.\, Camas\, Washington\, 98607
CATEGORIES:Football Games,Frosh Calendar
END:VEVENT
BEGIN:VEVENT
DTSTART;TZID=America/Los_Angeles:20251029T154500
DTEND;TZID=America/Los_Angeles:20251029T181500
DTSTAMP:20260423T163305
CREATED:20250205T045656Z
LAST-MODIFIED:20250321T185538Z
UID:3030-1761752700-1761761700@camasfootball.com
SUMMARY:Practice
DESCRIPTION:Wednesday Varsity/J.V. Practice \nFull Pac
URL:https://camasfootball.com/event/practice-110/
LOCATION:Cardon Field\, 26900 SE 15th St.\, Camas\, Washington\, 98607
CATEGORIES:Varsity Practice,Varsity/JV Schedule
END:VEVENT
BEGIN:VEVENT
DTSTART;TZID=America/Los_Angeles:20251029T154500
DTEND;TZID=America/Los_Angeles:20251029T180000
DTSTAMP:20260423T163305
CREATED:20250818T230850Z
LAST-MODIFIED:20250818T230850Z
UID:3826-1761752700-1761760800@camasfootball.com
SUMMARY:Frosh Practice
DESCRIPTION:Frosh Practice \nFull Pac
URL:https://camasfootball.com/event/frosh-practice-43/
LOCATION:Cardon Field\, 26900 SE 15th St.\, Camas\, Washington\, 98607
CATEGORIES:Frosh Calendar
END:VEVENT
BEGIN:VEVENT
DTSTART;TZID=America/Los_Angeles:20251028T154500
DTEND;TZID=America/Los_Angeles:20251028T181500
DTSTAMP:20260423T163305
CREATED:20250205T045211Z
LAST-MODIFIED:20250321T185532Z
UID:3023-1761666300-1761675300@camasfootball.com
SUMMARY:Practice
DESCRIPTION:Tuesday Varsity/J.V. Practice \nFull Pac
URL:https://camasfootball.com/event/practice-103/
LOCATION:Cardon Field\, 26900 SE 15th St.\, Camas\, Washington\, 98607
CATEGORIES:Varsity Practice,Varsity/JV Schedule
END:VEVENT
BEGIN:VEVENT
DTSTART;TZID=America/Los_Angeles:20251028T154500
DTEND;TZID=America/Los_Angeles:20251028T180000
DTSTAMP:20260423T163305
CREATED:20250818T230835Z
LAST-MODIFIED:20250818T230835Z
UID:3825-1761666300-1761674400@camasfootball.com
SUMMARY:Frosh Practice
DESCRIPTION:Frosh Practice \nFull Pac
URL:https://camasfootball.com/event/frosh-practice-42/
LOCATION:Cardon Field\, 26900 SE 15th St.\, Camas\, Washington\, 98607
CATEGORIES:Frosh Calendar
END:VEVENT
BEGIN:VEVENT
DTSTART;TZID=America/Los_Angeles:20251027T160000
DTEND;TZID=America/Los_Angeles:20251027T180000
DTSTAMP:20260423T163305
CREATED:20250205T043237Z
LAST-MODIFIED:20250321T185524Z
UID:2973-1761580800-1761588000@camasfootball.com
SUMMARY:Practice
DESCRIPTION:Monday Varsity/J.V. Practice \n1/2 Pac
URL:https://camasfootball.com/event/practice-81/
LOCATION:Cardon Field\, 26900 SE 15th St.\, Camas\, Washington\, 98607
CATEGORIES:Varsity Practice,Varsity/JV Schedule
END:VEVENT
BEGIN:VEVENT
DTSTART;TZID=America/Los_Angeles:20251027T154500
DTEND;TZID=America/Los_Angeles:20251027T180000
DTSTAMP:20260423T163305
CREATED:20250818T230822Z
LAST-MODIFIED:20250818T230822Z
UID:3824-1761579900-1761588000@camasfootball.com
SUMMARY:Frosh Practice
DESCRIPTION:Frosh Practice \nFull Pac
URL:https://camasfootball.com/event/frosh-practice-41/
LOCATION:Cardon Field\, 26900 SE 15th St.\, Camas\, Washington\, 98607
CATEGORIES:Frosh Calendar
END:VEVENT
BEGIN:VEVENT
DTSTART;VALUE=DATE:20251027
DTEND;VALUE=DATE:20251028
DTSTAMP:20260423T163305
CREATED:20250818T234347Z
LAST-MODIFIED:20250818T234347Z
UID:3858-1761523200-1761609599@camasfootball.com
SUMMARY:JV Game #8 Union
DESCRIPTION:JV Game #8 \nvs Union \nPlease visit Arbiter for all game updates including date\, time and location.
URL:https://camasfootball.com/event/jv-game-8-union/
LOCATION:Doc Harris Stadium\, 841 NE 22nd Ave.\, Camas\, Washington\, 98607
CATEGORIES:Football Games,Varsity/JV Schedule
END:VEVENT
BEGIN:VEVENT
DTSTART;VALUE=DATE:20251026
DTEND;VALUE=DATE:20251027
DTSTAMP:20260423T163305
CREATED:20250205T025459Z
LAST-MODIFIED:20250321T185520Z
UID:2887-1761436800-1761523199@camasfootball.com
SUMMARY:Staff Meeting
DESCRIPTION:Staff Meeting \nTime/Location TBD
URL:https://camasfootball.com/event/staff-meeting-21/
LOCATION:Washington
CATEGORIES:Staff Meeting,Varsity/JV Schedule
END:VEVENT
BEGIN:VEVENT
DTSTART;TZID=America/Los_Angeles:20251025T080000
DTEND;TZID=America/Los_Angeles:20251025T180000
DTSTAMP:20260423T163305
CREATED:20250421T153631Z
LAST-MODIFIED:20250421T153631Z
UID:3476-1761379200-1761415200@camasfootball.com
SUMMARY:CCYF Day
DESCRIPTION:CCYF Day #2 \nCCYF Fundraiser (8 AM – 6 PM): Cardon Field or Doc Harris. \nLocation TBD. Check back for final location.
URL:https://camasfootball.com/event/ccyf-day-2025-2/
LOCATION:Washington
CATEGORIES:CCYF Day,Frosh Calendar,Varsity/JV Schedule
END:VEVENT
BEGIN:VEVENT
DTSTART;TZID=America/Los_Angeles:20251024T154500
DTEND;TZID=America/Los_Angeles:20251024T180000
DTSTAMP:20260423T163305
CREATED:20250818T230718Z
LAST-MODIFIED:20250818T230718Z
UID:3818-1761320700-1761328800@camasfootball.com
SUMMARY:Frosh Practice
DESCRIPTION:Frosh Practice \nFull Pac
URL:https://camasfootball.com/event/frosh-practice-40/
LOCATION:Cardon Field\, 26900 SE 15th St.\, Camas\, Washington\, 98607
CATEGORIES:Frosh Calendar
END:VEVENT
BEGIN:VEVENT
DTSTART;VALUE=DATE:20251024
DTEND;VALUE=DATE:20251025
DTSTAMP:20260423T163305
CREATED:20250205T034705Z
LAST-MODIFIED:20250818T190650Z
UID:2942-1761264000-1761350399@camasfootball.com
SUMMARY:Varsity Game #8 at Union
DESCRIPTION:Varsity Game #8 \nat Union* \nPlease visit Arbiter for all game updates including date\, time and location.
URL:https://camasfootball.com/event/varsity-game-8-at-union/
LOCATION:McKenzie Stadium\, 2211 NE 138th Ave\, Vancouver\, Washington\, 98684
CATEGORIES:Football Games,Varsity/JV Schedule
END:VEVENT
BEGIN:VEVENT
DTSTART;TZID=America/Los_Angeles:20251023T153000
DTEND;TZID=America/Los_Angeles:20251023T174500
DTSTAMP:20260423T163305
CREATED:20250205T033301Z
LAST-MODIFIED:20250321T185746Z
UID:2914-1761233400-1761241500@camasfootball.com
SUMMARY:Practice
DESCRIPTION:Thursday Varsity/J.V. Practice \nFull Pac
URL:https://camasfootball.com/event/practice-67/
LOCATION:Cardon Field\, 26900 SE 15th St.\, Camas\, Washington\, 98607
CATEGORIES:Varsity Practice,Varsity/JV Schedule
END:VEVENT
BEGIN:VEVENT
DTSTART;VALUE=DATE:20251023
DTEND;VALUE=DATE:20251024
DTSTAMP:20260423T163305
CREATED:20250818T224520Z
LAST-MODIFIED:20250818T224826Z
UID:3749-1761177600-1761263999@camasfootball.com
SUMMARY:Frosh Game #8 Union
DESCRIPTION:Frosh Game #8 \nat Union \nPlease visit Arbiter for all game updates including date\, time and location.
URL:https://camasfootball.com/event/frosh-game-8-union/
LOCATION:McKenzie Stadium\, 2211 NE 138th Ave\, Vancouver\, Washington\, 98684
CATEGORIES:Football Games,Frosh Calendar
END:VEVENT
BEGIN:VEVENT
DTSTART;TZID=America/Los_Angeles:20251022T154500
DTEND;TZID=America/Los_Angeles:20251022T181500
DTSTAMP:20260423T163305
CREATED:20250205T045633Z
LAST-MODIFIED:20250321T185751Z
UID:3029-1761147900-1761156900@camasfootball.com
SUMMARY:Practice
DESCRIPTION:Wednesday Varsity/J.V. Practice \nFull Pac
URL:https://camasfootball.com/event/practice-109/
LOCATION:Cardon Field\, 26900 SE 15th St.\, Camas\, Washington\, 98607
CATEGORIES:Varsity Practice,Varsity/JV Schedule
END:VEVENT
BEGIN:VEVENT
DTSTART;TZID=America/Los_Angeles:20251022T154500
DTEND;TZID=America/Los_Angeles:20251022T180000
DTSTAMP:20260423T163305
CREATED:20250818T230707Z
LAST-MODIFIED:20250818T230707Z
UID:3819-1761147900-1761156000@camasfootball.com
SUMMARY:Frosh Practice
DESCRIPTION:Frosh Practice \nFull Pac
URL:https://camasfootball.com/event/frosh-practice-39/
LOCATION:Cardon Field\, 26900 SE 15th St.\, Camas\, Washington\, 98607
CATEGORIES:Frosh Calendar
END:VEVENT
BEGIN:VEVENT
DTSTART;TZID=America/Los_Angeles:20251021T154500
DTEND;TZID=America/Los_Angeles:20251021T181500
DTSTAMP:20260423T163305
CREATED:20250205T045149Z
LAST-MODIFIED:20250321T185756Z
UID:3022-1761061500-1761070500@camasfootball.com
SUMMARY:Practice
DESCRIPTION:Tuesday Varsity/J.V. Practice \nFull Pac
URL:https://camasfootball.com/event/practice-102/
LOCATION:Cardon Field\, 26900 SE 15th St.\, Camas\, Washington\, 98607
CATEGORIES:Varsity Practice,Varsity/JV Schedule
END:VEVENT
BEGIN:VEVENT
DTSTART;TZID=America/Los_Angeles:20251021T154500
DTEND;TZID=America/Los_Angeles:20251021T180000
DTSTAMP:20260423T163305
CREATED:20250818T230652Z
LAST-MODIFIED:20250818T230652Z
UID:3817-1761061500-1761069600@camasfootball.com
SUMMARY:Frosh Practice
DESCRIPTION:Frosh Practice \nFull Pac
URL:https://camasfootball.com/event/frosh-practice-38/
LOCATION:Cardon Field\, 26900 SE 15th St.\, Camas\, Washington\, 98607
CATEGORIES:Frosh Calendar
END:VEVENT
BEGIN:VEVENT
DTSTART;TZID=America/Los_Angeles:20251020T160000
DTEND;TZID=America/Los_Angeles:20251020T180000
DTSTAMP:20260423T163305
CREATED:20250205T043217Z
LAST-MODIFIED:20250321T185800Z
UID:2972-1760976000-1760983200@camasfootball.com
SUMMARY:Practice
DESCRIPTION:Monday Varsity/J.V. Practice \n1/2 Pac
URL:https://camasfootball.com/event/practice-80/
LOCATION:Cardon Field\, 26900 SE 15th St.\, Camas\, Washington\, 98607
CATEGORIES:Varsity Practice,Varsity/JV Schedule
END:VEVENT
BEGIN:VEVENT
DTSTART;TZID=America/Los_Angeles:20251020T074500
DTEND;TZID=America/Los_Angeles:20251020T100000
DTSTAMP:20260423T163305
CREATED:20250818T230626Z
LAST-MODIFIED:20250818T230640Z
UID:3815-1760946300-1760954400@camasfootball.com
SUMMARY:Frosh Practice
DESCRIPTION:Frosh Practice \nFull Pac
URL:https://camasfootball.com/event/frosh-practice-37/
LOCATION:Cardon Field\, 26900 SE 15th St.\, Camas\, Washington\, 98607
CATEGORIES:Frosh Calendar
END:VEVENT
BEGIN:VEVENT
DTSTART;VALUE=DATE:20251020
DTEND;VALUE=DATE:20251021
DTSTAMP:20260423T163305
CREATED:20250818T234258Z
LAST-MODIFIED:20250818T234258Z
UID:3856-1760918400-1761004799@camasfootball.com
SUMMARY:JV Game #7 Battle Ground
DESCRIPTION:JV Game #7 \nvs Battle Ground \nPlease visit Arbiter for all game updates including date\, time and location.
URL:https://camasfootball.com/event/jv-game-7-battle-ground/
LOCATION:Doc Harris Stadium\, 841 NE 22nd Ave.\, Camas\, Washington\, 98607
CATEGORIES:Football Games,Varsity/JV Schedule
END:VEVENT
BEGIN:VEVENT
DTSTART;VALUE=DATE:20251019
DTEND;VALUE=DATE:20251020
DTSTAMP:20260423T163305
CREATED:20250205T025442Z
LAST-MODIFIED:20250321T185803Z
UID:2886-1760832000-1760918399@camasfootball.com
SUMMARY:Staff Meeting
DESCRIPTION:Staff Meeting \nTime/Location TBD
URL:https://camasfootball.com/event/staff-meeting-20/
LOCATION:Washington
CATEGORIES:Staff Meeting,Varsity/JV Schedule
END:VEVENT
BEGIN:VEVENT
DTSTART;TZID=America/Los_Angeles:20251017T154500
DTEND;TZID=America/Los_Angeles:20251017T180000
DTSTAMP:20260423T163305
CREATED:20250818T230412Z
LAST-MODIFIED:20250818T230412Z
UID:3809-1760715900-1760724000@camasfootball.com
SUMMARY:Frosh Practice
DESCRIPTION:Frosh Practice \nFull Pac
URL:https://camasfootball.com/event/frosh-practice-35/
LOCATION:Washington
CATEGORIES:Frosh Calendar
END:VEVENT
BEGIN:VEVENT
DTSTART;VALUE=DATE:20251017
DTEND;VALUE=DATE:20251018
DTSTAMP:20260423T163305
CREATED:20250205T034441Z
LAST-MODIFIED:20250818T232957Z
UID:2941-1760659200-1760745599@camasfootball.com
SUMMARY:Varsity Game #7 at Battle Ground
DESCRIPTION:Varsity Game #7 \nat Battle Ground* \nPlease visit Arbiter for all game updates including date\, time and location.
URL:https://camasfootball.com/event/varsity-game-7-at-battle-ground/
LOCATION:District Stadium\, 300 West Main Street\, Battle Ground\, WA\, 98604\, United States
CATEGORIES:Football Games,Varsity/JV Schedule
END:VEVENT
BEGIN:VEVENT
DTSTART;TZID=America/Los_Angeles:20251016T153000
DTEND;TZID=America/Los_Angeles:20251016T174500
DTSTAMP:20260423T163305
CREATED:20250205T033240Z
LAST-MODIFIED:20250321T185813Z
UID:2913-1760628600-1760636700@camasfootball.com
SUMMARY:Practice
DESCRIPTION:Thursday Varsity/J.V. Practice \nFull Pac
URL:https://camasfootball.com/event/practice-66/
LOCATION:Cardon Field\, 26900 SE 15th St.\, Camas\, Washington\, 98607
CATEGORIES:Varsity Practice,Varsity/JV Schedule
END:VEVENT
BEGIN:VEVENT
DTSTART;TZID=America/Los_Angeles:20251016T074500
DTEND;TZID=America/Los_Angeles:20251016T100000
DTSTAMP:20260423T163305
CREATED:20250818T230420Z
LAST-MODIFIED:20250818T230436Z
UID:3807-1760600700-1760608800@camasfootball.com
SUMMARY:Frosh Practice
DESCRIPTION:Frosh Practice \nFull Pac
URL:https://camasfootball.com/event/frosh-practice-36/
LOCATION:Cardon Field\, 26900 SE 15th St.\, Camas\, Washington\, 98607
CATEGORIES:Frosh Calendar
END:VEVENT
BEGIN:VEVENT
DTSTART;TZID=America/Los_Angeles:20251015T034500
DTEND;TZID=America/Los_Angeles:20251015T181500
DTSTAMP:20260423T163305
CREATED:20250205T044733Z
LAST-MODIFIED:20250321T185818Z
UID:3007-1760499900-1760552100@camasfootball.com
SUMMARY:Practice
DESCRIPTION:Wednesday Varsity/J.V. Practice \nFull Pac
URL:https://camasfootball.com/event/practice-101/
LOCATION:Cardon Field\, 26900 SE 15th St.\, Camas\, Washington\, 98607
CATEGORIES:Varsity Practice,Varsity/JV Schedule
END:VEVENT
BEGIN:VEVENT
DTSTART;VALUE=DATE:20251015
DTEND;VALUE=DATE:20251016
DTSTAMP:20260423T163305
CREATED:20250818T224354Z
LAST-MODIFIED:20250818T224435Z
UID:3747-1760486400-1760572799@camasfootball.com
SUMMARY:Frosh Game #7 Battle Ground
DESCRIPTION:Frosh Game #7 \nat Battle Ground \nPlease visit Arbiter for all game updates including date\, time and location.
URL:https://camasfootball.com/event/frosh-game-7-battle-ground/
LOCATION:District Stadium\, 300 West Main Street\, Battle Ground\, WA\, 98604\, United States
CATEGORIES:Football Games,Frosh Calendar
END:VEVENT
BEGIN:VEVENT
DTSTART;TZID=America/Los_Angeles:20251014T154500
DTEND;TZID=America/Los_Angeles:20251014T181500
DTSTAMP:20260423T163305
CREATED:20250205T044712Z
LAST-MODIFIED:20250321T185823Z
UID:3006-1760456700-1760465700@camasfootball.com
SUMMARY:Practice
DESCRIPTION:Tuesday Varsity/J.V. Practice \nFull Pac
URL:https://camasfootball.com/event/practice-100/
LOCATION:Cardon Field\, 26900 SE 15th St.\, Camas\, Washington\, 98607
CATEGORIES:Varsity Practice,Varsity/JV Schedule
END:VEVENT
END:VCALENDAR