BEGIN:VCALENDAR
VERSION:2.0
PRODID:-//Camas Football - ECPv6.15.3//NONSGML v1.0//EN
CALSCALE:GREGORIAN
METHOD:PUBLISH
X-WR-CALNAME:Camas Football
X-ORIGINAL-URL:https://camasfootball.com
X-WR-CALDESC:Events for Camas Football
REFRESH-INTERVAL;VALUE=DURATION:PT1H
X-Robots-Tag:noindex
X-PUBLISHED-TTL:PT1H
BEGIN:VTIMEZONE
TZID:America/Los_Angeles
BEGIN:DAYLIGHT
TZOFFSETFROM:-0800
TZOFFSETTO:-0700
TZNAME:PDT
DTSTART:20250309T100000
END:DAYLIGHT
BEGIN:STANDARD
TZOFFSETFROM:-0700
TZOFFSETTO:-0800
TZNAME:PST
DTSTART:20251102T090000
END:STANDARD
END:VTIMEZONE
BEGIN:VEVENT
DTSTART;TZID=America/Los_Angeles:20250827T154500
DTEND;TZID=America/Los_Angeles:20250827T180000
DTSTAMP:20260424T015044
CREATED:20250807T204303Z
LAST-MODIFIED:20250807T204303Z
UID:3684-1756309500-1756317600@camasfootball.com
SUMMARY:Frosh Practice #7
DESCRIPTION:Frosh Practice #7 \nFull Pac
URL:https://camasfootball.com/event/frosh-practice-7/
LOCATION:Cardon Field\, 26900 SE 15th St.\, Camas\, Washington\, 98607
CATEGORIES:Frosh Calendar
END:VEVENT
BEGIN:VEVENT
DTSTART;TZID=America/Los_Angeles:20250826T160000
DTEND;TZID=America/Los_Angeles:20250826T190000
DTSTAMP:20260424T015044
CREATED:20250205T022854Z
LAST-MODIFIED:20250807T204053Z
UID:2854-1756224000-1756234800@camasfootball.com
SUMMARY:Varsity Practice #6
DESCRIPTION:Varsity Practice #6 \nFull Pac
URL:https://camasfootball.com/event/varsity-practice-6-2/
LOCATION:Cardon Field\, 26900 SE 15th St.\, Camas\, Washington\, 98607
CATEGORIES:Varsity Practice,Varsity/JV Schedule
END:VEVENT
BEGIN:VEVENT
DTSTART;TZID=America/Los_Angeles:20250826T154500
DTEND;TZID=America/Los_Angeles:20250826T180000
DTSTAMP:20260424T015044
CREATED:20250807T204140Z
LAST-MODIFIED:20250807T204140Z
UID:3681-1756223100-1756231200@camasfootball.com
SUMMARY:Frosh Practice #6
DESCRIPTION:Frosh Practice #6 \nFull Pac
URL:https://camasfootball.com/event/frosh-practice-6/
LOCATION:Cardon Field\, 26900 SE 15th St.\, Camas\, Washington\, 98607
CATEGORIES:Frosh Calendar
END:VEVENT
BEGIN:VEVENT
DTSTART;TZID=America/Los_Angeles:20250825T160000
DTEND;TZID=America/Los_Angeles:20250825T190000
DTSTAMP:20260424T015044
CREATED:20250205T022832Z
LAST-MODIFIED:20250807T203931Z
UID:2853-1756137600-1756148400@camasfootball.com
SUMMARY:Varsity Practice #5
DESCRIPTION:Varsity Practice #5 \nFull Pac
URL:https://camasfootball.com/event/varsity-practice-5-2/
LOCATION:Cardon Field\, 26900 SE 15th St.\, Camas\, Washington\, 98607
CATEGORIES:Varsity Practice,Varsity/JV Schedule
END:VEVENT
BEGIN:VEVENT
DTSTART;TZID=America/Los_Angeles:20250825T154500
DTEND;TZID=America/Los_Angeles:20250825T180000
DTSTAMP:20260424T015044
CREATED:20250807T204009Z
LAST-MODIFIED:20250807T204009Z
UID:3678-1756136700-1756144800@camasfootball.com
SUMMARY:Frosh Practice #5
DESCRIPTION:Frosh Practice #5 \nFull Pac
URL:https://camasfootball.com/event/frosh-practice-5/
LOCATION:Cardon Field\, 26900 SE 15th St.\, Camas\, Washington\, 98607
CATEGORIES:Frosh Calendar
END:VEVENT
BEGIN:VEVENT
DTSTART;TZID=America/Los_Angeles:20250823T090000
DTEND;TZID=America/Los_Angeles:20250823T120000
DTSTAMP:20260424T015044
CREATED:20250807T203810Z
LAST-MODIFIED:20250807T203810Z
UID:3675-1755939600-1755950400@camasfootball.com
SUMMARY:Frosh Practice #4
DESCRIPTION:Frosh Practice #4 \n1/2 Pac
URL:https://camasfootball.com/event/frosh-practice-4/
LOCATION:Cardon Field\, 26900 SE 15th St.\, Camas\, Washington\, 98607
CATEGORIES:Frosh Calendar
END:VEVENT
BEGIN:VEVENT
DTSTART;TZID=America/Los_Angeles:20250823T080000
DTEND;TZID=America/Los_Angeles:20250823T120000
DTSTAMP:20260424T015044
CREATED:20250205T022800Z
LAST-MODIFIED:20250812T053756Z
UID:2852-1755936000-1755950400@camasfootball.com
SUMMARY:Varsity Practice #4
DESCRIPTION:Varsity Practice #4 \n1/2 Pac
URL:https://camasfootball.com/event/varsity-practice-4-2/
LOCATION:Cardon Field\, 26900 SE 15th St.\, Camas\, Washington\, 98607
CATEGORIES:Varsity Practice,Varsity/JV Schedule
END:VEVENT
BEGIN:VEVENT
DTSTART;TZID=America/Los_Angeles:20250822T170000
DTEND;TZID=America/Los_Angeles:20250822T200000
DTSTAMP:20260424T015044
CREATED:20250807T203410Z
LAST-MODIFIED:20250807T203410Z
UID:3670-1755882000-1755892800@camasfootball.com
SUMMARY:Frosh Practice #3
DESCRIPTION:Frosh Practice #3 \nNo Pac
URL:https://camasfootball.com/event/frosh-practice-3/
LOCATION:Cardon Field\, 26900 SE 15th St.\, Camas\, Washington\, 98607
CATEGORIES:Frosh Calendar
END:VEVENT
BEGIN:VEVENT
DTSTART;TZID=America/Los_Angeles:20250822T160000
DTEND;TZID=America/Los_Angeles:20250822T200000
DTSTAMP:20260424T015044
CREATED:20250205T022644Z
LAST-MODIFIED:20250807T203527Z
UID:2849-1755878400-1755892800@camasfootball.com
SUMMARY:Varsity Practice #3
DESCRIPTION:Varsity Practice #3 \nNo Pac
URL:https://camasfootball.com/event/varsity-practice-3-2/
LOCATION:Cardon Field\, 26900 SE 15th St.\, Camas\, Washington\, 98607
CATEGORIES:Varsity Practice,Varsity/JV Schedule
END:VEVENT
BEGIN:VEVENT
DTSTART;TZID=America/Los_Angeles:20250821T170000
DTEND;TZID=America/Los_Angeles:20250821T200000
DTSTAMP:20260424T015044
CREATED:20250807T203347Z
LAST-MODIFIED:20250807T203347Z
UID:3669-1755795600-1755806400@camasfootball.com
SUMMARY:Frosh Practice #2
DESCRIPTION:Frosh Practice #2 \nNo Pac
URL:https://camasfootball.com/event/frosh-practice-2/
LOCATION:Cardon Field\, 26900 SE 15th St.\, Camas\, Washington\, 98607
CATEGORIES:Frosh Calendar
END:VEVENT
BEGIN:VEVENT
DTSTART;TZID=America/Los_Angeles:20250821T160000
DTEND;TZID=America/Los_Angeles:20250821T200000
DTSTAMP:20260424T015044
CREATED:20250205T022616Z
LAST-MODIFIED:20250807T203452Z
UID:2848-1755792000-1755806400@camasfootball.com
SUMMARY:Varsity Practice #2
DESCRIPTION:Varsity Practice #2 \nNo Pac
URL:https://camasfootball.com/event/varsity-practice-2-2/
LOCATION:Cardon Field\, 26900 SE 15th St.\, Camas\, Washington\, 98607
CATEGORIES:Varsity Practice,Varsity/JV Schedule
END:VEVENT
BEGIN:VEVENT
DTSTART;TZID=America/Los_Angeles:20250820T170000
DTEND;TZID=America/Los_Angeles:20250820T200000
DTSTAMP:20260424T015044
CREATED:20250807T203203Z
LAST-MODIFIED:20250807T203244Z
UID:3667-1755709200-1755720000@camasfootball.com
SUMMARY:Frosh Practice #1
DESCRIPTION:Frosh Practice #1 \nNo Pac
URL:https://camasfootball.com/event/frosh-practice-1/
LOCATION:Cardon Field\, 26900 SE 15th St.\, Camas\, Washington\, 98607
CATEGORIES:Frosh Calendar
END:VEVENT
BEGIN:VEVENT
DTSTART;TZID=America/Los_Angeles:20250820T160000
DTEND;TZID=America/Los_Angeles:20250820T200000
DTSTAMP:20260424T015044
CREATED:20250205T022545Z
LAST-MODIFIED:20250807T202656Z
UID:2847-1755705600-1755720000@camasfootball.com
SUMMARY:Varsity/JV Practice #1
DESCRIPTION:Varsity/JV Practice #1 \nNo Pac
URL:https://camasfootball.com/event/varsity-practice-1-2/
LOCATION:Cardon Field\, 26900 SE 15th St.\, Camas\, Washington\, 98607
CATEGORIES:Varsity Practice,Varsity/JV Schedule
END:VEVENT
BEGIN:VEVENT
DTSTART;TZID=America/Los_Angeles:20250819T150000
DTEND;TZID=America/Los_Angeles:20250819T170000
DTSTAMP:20260424T015044
CREATED:20250812T053307Z
LAST-MODIFIED:20250812T053325Z
UID:3694-1755615600-1755622800@camasfootball.com
SUMMARY:Coaches Meeting
DESCRIPTION:All coaches meeting
URL:https://camasfootball.com/event/coaches-meeting-2/
LOCATION:North Commons\, 26900 SE 15th St.\, Camas\, Washington\, 98607
CATEGORIES:Varsity/JV Schedule
END:VEVENT
BEGIN:VEVENT
DTSTART;TZID=America/Los_Angeles:20250819T100000
DTEND;TZID=America/Los_Angeles:20250819T110000
DTSTAMP:20260424T015044
CREATED:20250205T021918Z
LAST-MODIFIED:20260216T004205Z
UID:2840-1755597600-1755601200@camasfootball.com
SUMMARY:Gear Distribution (Freshmen)
DESCRIPTION:Gear Distribution for FRESHMEN who did not go to Team Camp.
URL:https://camasfootball.com/event/gear-distribution-freshmen-fall-2025/
LOCATION:Camas Locker Room\, 26900 SE 15th St.\, Camas\, Washington\, 98607
CATEGORIES:Frosh Calendar,Gear Distribution,Varsity/JV Schedule
END:VEVENT
BEGIN:VEVENT
DTSTART;TZID=America/Los_Angeles:20250819T080000
DTEND;TZID=America/Los_Angeles:20250819T090000
DTSTAMP:20260424T015044
CREATED:20250205T021854Z
LAST-MODIFIED:20260216T004108Z
UID:2839-1755590400-1755594000@camasfootball.com
SUMMARY:Gear Distribution (Sophomores)
DESCRIPTION:Gear Distribution for SOPHOMORES who did not go to Team Camp.
URL:https://camasfootball.com/event/gear-distribution-sophomores-fall-2025/
LOCATION:Camas Locker Room\, 26900 SE 15th St.\, Camas\, Washington\, 98607
CATEGORIES:Gear Distribution,Varsity/JV Schedule
END:VEVENT
BEGIN:VEVENT
DTSTART;TZID=America/Los_Angeles:20250818T190000
DTEND;TZID=America/Los_Angeles:20250818T200000
DTSTAMP:20260424T015044
CREATED:20250205T023206Z
LAST-MODIFIED:20260216T010344Z
UID:2867-1755543600-1755547200@camasfootball.com
SUMMARY:#Team_117 Parent Meeting
DESCRIPTION:Parent Meeting at Cardon Field \n 
URL:https://camasfootball.com/event/team_117-parent-meeting-2025/
LOCATION:Cardon Field\, 26900 SE 15th St.\, Camas\, Washington\, 98607
CATEGORIES:Frosh Calendar,Parent Meeting,Varsity/JV Schedule
END:VEVENT
BEGIN:VEVENT
DTSTART;TZID=America/Los_Angeles:20250818T100000
DTEND;TZID=America/Los_Angeles:20250818T110000
DTSTAMP:20260424T015044
CREATED:20250205T021834Z
LAST-MODIFIED:20260216T003958Z
UID:2838-1755511200-1755514800@camasfootball.com
SUMMARY:Gear Distribution (Juniors)
DESCRIPTION:Gear Distribution for JUNIORS who did not go to Team Camp.
URL:https://camasfootball.com/event/gear-distribution-juniors-fall-2025/
LOCATION:Camas Locker Room\, 26900 SE 15th St.\, Camas\, Washington\, 98607
CATEGORIES:Gear Distribution,Varsity/JV Schedule
END:VEVENT
BEGIN:VEVENT
DTSTART;TZID=America/Los_Angeles:20250818T080000
DTEND;TZID=America/Los_Angeles:20250818T090000
DTSTAMP:20260424T015044
CREATED:20250205T021805Z
LAST-MODIFIED:20250321T192803Z
UID:2837-1755504000-1755507600@camasfootball.com
SUMMARY:Gear Distribution (Seniors)
DESCRIPTION:Gear Distribution for SENIORS who did not go to Team Camp.
URL:https://camasfootball.com/event/gear-distribution-seniors-4/
LOCATION:Camas Locker Room\, 26900 SE 15th St.\, Camas\, Washington\, 98607
CATEGORIES:Gear Distribution,Varsity/JV Schedule
END:VEVENT
BEGIN:VEVENT
DTSTART;VALUE=DATE:20250816
DTEND;VALUE=DATE:20250817
DTSTAMP:20260424T015044
CREATED:20250205T020250Z
LAST-MODIFIED:20250321T192757Z
UID:2817-1755302400-1755388799@camasfootball.com
SUMMARY:Coaches Retreat
DESCRIPTION:Coaches Retreat TBD
URL:https://camasfootball.com/event/coaches-retreat-6/
LOCATION:Washington
CATEGORIES:Coaches Retreat,Frosh Calendar,Varsity/JV Schedule
END:VEVENT
BEGIN:VEVENT
DTSTART;VALUE=DATE:20250815
DTEND;VALUE=DATE:20250816
DTSTAMP:20260424T015044
CREATED:20250205T020212Z
LAST-MODIFIED:20250321T192752Z
UID:2816-1755216000-1755302399@camasfootball.com
SUMMARY:Coaches Retreat
DESCRIPTION:Coaches Retreat TBD
URL:https://camasfootball.com/event/coaches-retreat-5/
LOCATION:Washington
CATEGORIES:Coaches Retreat,Frosh Calendar,Varsity/JV Schedule
END:VEVENT
BEGIN:VEVENT
DTSTART;TZID=America/Los_Angeles:20250814T083000
DTEND;TZID=America/Los_Angeles:20250814T100000
DTSTAMP:20260424T015044
CREATED:20250205T020038Z
LAST-MODIFIED:20250205T020038Z
UID:2807-1755160200-1755165600@camasfootball.com
SUMMARY:Weight Training - Frosh
DESCRIPTION:Weight Training at the Camas High School weight room for Freshmen players.
URL:https://camasfootball.com/event/weight-training-frosh-36/
LOCATION:Camas Weight Room\, 26900 SE 15th St.\, Camas\, Washington\, 98607
CATEGORIES:Frosh Calendar,Strength and Conditioning
END:VEVENT
BEGIN:VEVENT
DTSTART;TZID=America/Los_Angeles:20250814T080000
DTEND;TZID=America/Los_Angeles:20250814T093000
DTSTAMP:20260424T015044
CREATED:20250205T014407Z
LAST-MODIFIED:20250321T192742Z
UID:2783-1755158400-1755163800@camasfootball.com
SUMMARY:Weight Training - Varsity
DESCRIPTION:Weight Training at the Camas High School weight room for 10-12 grade players.
URL:https://camasfootball.com/event/weight-training-varsity-35/
LOCATION:Camas Weight Room\, 26900 SE 15th St.\, Camas\, Washington\, 98607
CATEGORIES:Strength and Conditioning,Varsity/JV Schedule
END:VEVENT
BEGIN:VEVENT
DTSTART;VALUE=DATE:20250814
DTEND;VALUE=DATE:20250815
DTSTAMP:20260424T015044
CREATED:20250205T020202Z
LAST-MODIFIED:20250321T192736Z
UID:2815-1755129600-1755215999@camasfootball.com
SUMMARY:Coaches Retreat
DESCRIPTION:Coaches Retreat TBD
URL:https://camasfootball.com/event/coaches-retreat-4/
LOCATION:Washington
CATEGORIES:Coaches Retreat,Frosh Calendar,Varsity/JV Schedule
END:VEVENT
BEGIN:VEVENT
DTSTART;TZID=America/Los_Angeles:20250812T083000
DTEND;TZID=America/Los_Angeles:20250812T100000
DTSTAMP:20260424T015044
CREATED:20250205T020013Z
LAST-MODIFIED:20250205T020013Z
UID:2806-1754987400-1754992800@camasfootball.com
SUMMARY:Weight Training - Frosh
DESCRIPTION:Weight Training at the Camas High School weight room for Freshmen players.
URL:https://camasfootball.com/event/weight-training-frosh-35/
LOCATION:Camas Weight Room\, 26900 SE 15th St.\, Camas\, Washington\, 98607
CATEGORIES:Frosh Calendar,Strength and Conditioning
END:VEVENT
BEGIN:VEVENT
DTSTART;TZID=America/Los_Angeles:20250812T080000
DTEND;TZID=America/Los_Angeles:20250812T093000
DTSTAMP:20260424T015044
CREATED:20250205T014350Z
LAST-MODIFIED:20250321T192724Z
UID:2782-1754985600-1754991000@camasfootball.com
SUMMARY:Weight Training - Varsity
DESCRIPTION:Weight Training at the Camas High School weight room for 10-12 grade players.
URL:https://camasfootball.com/event/weight-training-varsity-34/
LOCATION:Camas Weight Room\, 26900 SE 15th St.\, Camas\, Washington\, 98607
CATEGORIES:Strength and Conditioning,Varsity/JV Schedule
END:VEVENT
BEGIN:VEVENT
DTSTART;TZID=America/Los_Angeles:20250811T083000
DTEND;TZID=America/Los_Angeles:20250811T100000
DTSTAMP:20260424T015044
CREATED:20250205T015952Z
LAST-MODIFIED:20250205T015952Z
UID:2805-1754901000-1754906400@camasfootball.com
SUMMARY:Weight Training - Frosh
DESCRIPTION:Weight Training at the Camas High School weight room for Freshmen players.
URL:https://camasfootball.com/event/weight-training-frosh-34/
LOCATION:Camas Weight Room\, 26900 SE 15th St.\, Camas\, Washington\, 98607
CATEGORIES:Frosh Calendar,Strength and Conditioning
END:VEVENT
BEGIN:VEVENT
DTSTART;TZID=America/Los_Angeles:20250811T080000
DTEND;TZID=America/Los_Angeles:20250811T093000
DTSTAMP:20260424T015044
CREATED:20250205T014335Z
LAST-MODIFIED:20250321T192715Z
UID:2781-1754899200-1754904600@camasfootball.com
SUMMARY:Weight Training - Varsity
DESCRIPTION:Weight Training at the Camas High School weight room for 10-12 grade players.
URL:https://camasfootball.com/event/weight-training-varsity-33/
LOCATION:Camas Weight Room\, 26900 SE 15th St.\, Camas\, Washington\, 98607
CATEGORIES:Strength and Conditioning,Varsity/JV Schedule
END:VEVENT
BEGIN:VEVENT
DTSTART;TZID=America/Los_Angeles:20250809T100000
DTEND;TZID=America/Los_Angeles:20250809T180000
DTSTAMP:20260424T015044
CREATED:20250205T024940Z
LAST-MODIFIED:20260416T025831Z
UID:2877-1754733600-1754762400@camasfootball.com
SUMMARY:Senior Boating Trip
DESCRIPTION:Senior Boating Trip on the Columbia River \nDetails TBD
URL:https://camasfootball.com/event/senior-boating-trip-2025/
LOCATION:Washington
CATEGORIES:Senior Boating Trip,Varsity/JV Schedule
END:VEVENT
BEGIN:VEVENT
DTSTART;TZID=America/Los_Angeles:20250807T183000
DTEND;TZID=America/Los_Angeles:20250807T200000
DTSTAMP:20260424T015044
CREATED:20250205T021501Z
LAST-MODIFIED:20250321T192658Z
UID:2832-1754591400-1754596800@camasfootball.com
SUMMARY:Future Champions Youth Football Camp Day 4
DESCRIPTION:Future Champions Youth Football Camp Day 4 \n2nd – 8th Grade \nThis camp is for beginner to intermediate level youth football players. Join in the fun as we instruct and practice the basics of football position specific skills with some of SW WA best high school players! This traditional “Big Guys – Little Guys” Camp will focus mostly on position specific fundaments in a manner that will not only be enjoyable\, but will undoubtedly translate into a fun and successful venture into youth football. Bring a water bottle and wear athletic attire (athletic shoes or molded cleats). \nThe camp will be coached by members of the CHS 2025 High School football program\, with director oversight from Camas Head Football Coach Adam Mathieson and members of the CHS football Coaching staff.
URL:https://camasfootball.com/event/future-champions-youth-football-camp-day-4-2/
LOCATION:Cardon Field\, 26900 SE 15th St.\, Camas\, Washington\, 98607
CATEGORIES:Frosh Calendar,Middle School,Varsity/JV Schedule,Youth Football Camp
END:VEVENT
END:VCALENDAR