BEGIN:VCALENDAR
VERSION:2.0
PRODID:-//Camas Football - ECPv6.15.3//NONSGML v1.0//EN
CALSCALE:GREGORIAN
METHOD:PUBLISH
X-ORIGINAL-URL:https://camasfootball.com
X-WR-CALDESC:Events for Camas Football
REFRESH-INTERVAL;VALUE=DURATION:PT1H
X-Robots-Tag:noindex
X-PUBLISHED-TTL:PT1H
BEGIN:VTIMEZONE
TZID:America/Los_Angeles
BEGIN:DAYLIGHT
TZOFFSETFROM:-0800
TZOFFSETTO:-0700
TZNAME:PDT
DTSTART:20250309T100000
END:DAYLIGHT
BEGIN:STANDARD
TZOFFSETFROM:-0700
TZOFFSETTO:-0800
TZNAME:PST
DTSTART:20251102T090000
END:STANDARD
END:VTIMEZONE
BEGIN:VEVENT
DTSTART;TZID=America/Los_Angeles:20250319T070000
DTEND;TZID=America/Los_Angeles:20250319T081500
DTSTAMP:20260425T032741
CREATED:20250204T173609Z
LAST-MODIFIED:20250321T202640Z
UID:2502-1742367600-1742372100@camasfootball.com
SUMMARY:SAQ Pass #8
DESCRIPTION:Speed Agility Quickness Pass #8\n7:00 AM – 8:15 AM\n(Field House)
URL:https://camasfootball.com/event/saq-pass-8-2/
LOCATION:Field House\, 26900 SE 15th St.\, Camas\, Washington\, 98607
CATEGORIES:Speed Agility Quickness,Varsity/JV Schedule
END:VEVENT
BEGIN:VEVENT
DTSTART;TZID=America/Los_Angeles:20250320T071500
DTEND;TZID=America/Los_Angeles:20250320T081500
DTSTAMP:20260425T032741
CREATED:20250205T001004Z
LAST-MODIFIED:20250321T202643Z
UID:2618-1742454900-1742458500@camasfootball.com
SUMMARY:Champions Hour
DESCRIPTION:Champions Hour\n7:15 AM – 8:15 AM\n(Weight Room) \nChampions are build in the weight room!
URL:https://camasfootball.com/event/champions-hour-31/
LOCATION:Camas Weight Room\, 26900 SE 15th St.\, Camas\, Washington\, 98607
CATEGORIES:Champions Hour,Varsity/JV Schedule
END:VEVENT
BEGIN:VEVENT
DTSTART;TZID=America/Los_Angeles:20250321T071500
DTEND;TZID=America/Los_Angeles:20250321T081500
DTSTAMP:20260425T032741
CREATED:20250205T001023Z
LAST-MODIFIED:20250321T202647Z
UID:2619-1742541300-1742544900@camasfootball.com
SUMMARY:Champions Hour
DESCRIPTION:Champions Hour\n7:15 AM – 8:15 AM\n(Weight Room) \nChampions are build in the weight room!
URL:https://camasfootball.com/event/champions-hour-32/
LOCATION:Camas Weight Room\, 26900 SE 15th St.\, Camas\, Washington\, 98607
CATEGORIES:Champions Hour,Varsity/JV Schedule
END:VEVENT
BEGIN:VEVENT
DTSTART;TZID=America/Los_Angeles:20250324T071500
DTEND;TZID=America/Los_Angeles:20250324T081500
DTSTAMP:20260425T032741
CREATED:20250205T000746Z
LAST-MODIFIED:20250321T202651Z
UID:2612-1742800500-1742804100@camasfootball.com
SUMMARY:Champions Hour
DESCRIPTION:Champions Hour\n7:15 AM – 8:15 AM\n(Weight Room) \nChampions are build in the weight room!
URL:https://camasfootball.com/event/champions-hour-25/
LOCATION:Camas Weight Room\, 26900 SE 15th St.\, Camas\, Washington\, 98607
CATEGORIES:Champions Hour,Varsity/JV Schedule
END:VEVENT
BEGIN:VEVENT
DTSTART;TZID=America/Los_Angeles:20250325T071500
DTEND;TZID=America/Los_Angeles:20250325T081500
DTSTAMP:20260425T032741
CREATED:20250205T000803Z
LAST-MODIFIED:20250321T202655Z
UID:2613-1742886900-1742890500@camasfootball.com
SUMMARY:Champions Hour
DESCRIPTION:Champions Hour\n7:15 AM – 8:15 AM\n(Weight Room) \nChampions are build in the weight room!
URL:https://camasfootball.com/event/champions-hour-26/
LOCATION:Camas Weight Room\, 26900 SE 15th St.\, Camas\, Washington\, 98607
CATEGORIES:Champions Hour,Varsity/JV Schedule
END:VEVENT
BEGIN:VEVENT
DTSTART;TZID=America/Los_Angeles:20250326T070000
DTEND;TZID=America/Los_Angeles:20250326T081500
DTSTAMP:20260425T032741
CREATED:20250204T173630Z
LAST-MODIFIED:20250321T202659Z
UID:2503-1742972400-1742976900@camasfootball.com
SUMMARY:SAQ Pass #9
DESCRIPTION:Speed Agility Quickness Pass #9\n7:00 AM – 8:15 AM\n(Field House)
URL:https://camasfootball.com/event/saq-pass-9-2/
LOCATION:Field House\, 26900 SE 15th St.\, Camas\, Washington\, 98607
CATEGORIES:Speed Agility Quickness,Varsity/JV Schedule
END:VEVENT
BEGIN:VEVENT
DTSTART;TZID=America/Los_Angeles:20250327T071500
DTEND;TZID=America/Los_Angeles:20250327T081500
DTSTAMP:20260425T032741
CREATED:20250205T001041Z
LAST-MODIFIED:20250321T202704Z
UID:2620-1743059700-1743063300@camasfootball.com
SUMMARY:Champions Hour
DESCRIPTION:Champions Hour\n7:15 AM – 8:15 AM\n(Weight Room) \nChampions are build in the weight room!
URL:https://camasfootball.com/event/champions-hour-33/
LOCATION:Camas Weight Room\, 26900 SE 15th St.\, Camas\, Washington\, 98607
CATEGORIES:Champions Hour,Varsity/JV Schedule
END:VEVENT
BEGIN:VEVENT
DTSTART;TZID=America/Los_Angeles:20250328T071500
DTEND;TZID=America/Los_Angeles:20250328T081500
DTSTAMP:20260425T032741
CREATED:20250205T001059Z
LAST-MODIFIED:20250321T202715Z
UID:2621-1743146100-1743149700@camasfootball.com
SUMMARY:Champions Hour
DESCRIPTION:Champions Hour\n7:15 AM – 8:15 AM\n(Weight Room) \nChampions are build in the weight room!
URL:https://camasfootball.com/event/champions-hour-34/
LOCATION:Camas Weight Room\, 26900 SE 15th St.\, Camas\, Washington\, 98607
CATEGORIES:Champions Hour,Varsity/JV Schedule
END:VEVENT
BEGIN:VEVENT
DTSTART;VALUE=DATE:20250331
DTEND;VALUE=DATE:20250401
DTSTAMP:20260425T032741
CREATED:20250204T190405Z
LAST-MODIFIED:20250321T202723Z
UID:2522-1743379200-1743465599@camasfootball.com
SUMMARY:Spring Break
DESCRIPTION:Spring Break March 31 – April 4
URL:https://camasfootball.com/event/spring-break-6/
LOCATION:Washington
CATEGORIES:Frosh Calendar,Middle School,Spring Break,Varsity/JV Schedule
END:VEVENT
BEGIN:VEVENT
DTSTART;VALUE=DATE:20250401
DTEND;VALUE=DATE:20250402
DTSTAMP:20260425T032741
CREATED:20250204T190414Z
LAST-MODIFIED:20250321T202732Z
UID:2518-1743465600-1743551999@camasfootball.com
SUMMARY:Spring Break
DESCRIPTION:Spring Break March 31 – April 4
URL:https://camasfootball.com/event/spring-break-7/
LOCATION:Washington
CATEGORIES:Frosh Calendar,Middle School,Spring Break,Varsity/JV Schedule
END:VEVENT
BEGIN:VEVENT
DTSTART;VALUE=DATE:20250402
DTEND;VALUE=DATE:20250403
DTSTAMP:20260425T032741
CREATED:20250204T190441Z
LAST-MODIFIED:20250321T202808Z
UID:2519-1743552000-1743638399@camasfootball.com
SUMMARY:Spring Break
DESCRIPTION:Spring Break March 31 – April 4
URL:https://camasfootball.com/event/spring-break-8/
LOCATION:Washington
CATEGORIES:Spring Break,Varsity/JV Schedule
END:VEVENT
BEGIN:VEVENT
DTSTART;VALUE=DATE:20250403
DTEND;VALUE=DATE:20250404
DTSTAMP:20260425T032741
CREATED:20250204T190500Z
LAST-MODIFIED:20250321T202812Z
UID:2520-1743638400-1743724799@camasfootball.com
SUMMARY:Spring Break
DESCRIPTION:Spring Break March 31 – April 4
URL:https://camasfootball.com/event/spring-break-9/
LOCATION:Washington
CATEGORIES:Spring Break,Varsity/JV Schedule
END:VEVENT
BEGIN:VEVENT
DTSTART;VALUE=DATE:20250404
DTEND;VALUE=DATE:20250405
DTSTAMP:20260425T032741
CREATED:20250204T190515Z
LAST-MODIFIED:20250321T202818Z
UID:2521-1743724800-1743811199@camasfootball.com
SUMMARY:Spring Break
DESCRIPTION:Spring Break March 31 – April 4
URL:https://camasfootball.com/event/spring-break-10/
LOCATION:Washington
CATEGORIES:Spring Break,Varsity/JV Schedule
END:VEVENT
BEGIN:VEVENT
DTSTART;TZID=America/Los_Angeles:20250407T071500
DTEND;TZID=America/Los_Angeles:20250407T081500
DTSTAMP:20260425T032741
CREATED:20250205T001328Z
LAST-MODIFIED:20250321T202823Z
UID:2639-1744010100-1744013700@camasfootball.com
SUMMARY:Champions Hour
DESCRIPTION:Champions Hour\n7:15 AM – 8:15 AM\n(Weight Room) \nChampions are build in the weight room!
URL:https://camasfootball.com/event/champions-hour-35/
LOCATION:Camas Weight Room\, 26900 SE 15th St.\, Camas\, Washington\, 98607
CATEGORIES:Champions Hour,Varsity/JV Schedule
END:VEVENT
BEGIN:VEVENT
DTSTART;TZID=America/Los_Angeles:20250407T160000
DTEND;TZID=America/Los_Angeles:20250407T174500
DTSTAMP:20260425T032741
CREATED:20250320T155930Z
LAST-MODIFIED:20250320T160027Z
UID:3195-1744041600-1744047900@camasfootball.com
SUMMARY:Liberty (Practice)
DESCRIPTION:Liberty Middle School Football  \nPractice
URL:https://camasfootball.com/event/liberty-practice/
LOCATION:Liberty Middle School\, 1612 NE Garfield St\, Camas\, 98607\, United States
CATEGORIES:Middle School
END:VEVENT
BEGIN:VEVENT
DTSTART;TZID=America/Los_Angeles:20250407T160000
DTEND;TZID=America/Los_Angeles:20250407T174500
DTSTAMP:20260425T032741
CREATED:20250327T183142Z
LAST-MODIFIED:20250327T183142Z
UID:3360-1744041600-1744047900@camasfootball.com
SUMMARY:Skyridge (Practice)
DESCRIPTION:Skyridge Middle School Football  \nPractice
URL:https://camasfootball.com/event/skyridge-practice/
LOCATION:Skyridge Middle School\, 5220 NW Parker St\, Camas\, WA\, 98607\, United States
CATEGORIES:Middle School
END:VEVENT
BEGIN:VEVENT
DTSTART;TZID=America/Los_Angeles:20250408T071500
DTEND;TZID=America/Los_Angeles:20250408T081500
DTSTAMP:20260425T032741
CREATED:20250205T001349Z
LAST-MODIFIED:20250321T202829Z
UID:2640-1744096500-1744100100@camasfootball.com
SUMMARY:Champions Hour
DESCRIPTION:Champions Hour\n7:15 AM – 8:15 AM\n(Weight Room) \nChampions are build in the weight room!
URL:https://camasfootball.com/event/champions-hour-36/
LOCATION:Camas Weight Room\, 26900 SE 15th St.\, Camas\, Washington\, 98607
CATEGORIES:Champions Hour,Varsity/JV Schedule
END:VEVENT
BEGIN:VEVENT
DTSTART;TZID=America/Los_Angeles:20250408T160000
DTEND;TZID=America/Los_Angeles:20250408T174500
DTSTAMP:20260425T032741
CREATED:20250320T160502Z
LAST-MODIFIED:20250320T160502Z
UID:3199-1744128000-1744134300@camasfootball.com
SUMMARY:Liberty (Practice)
DESCRIPTION:Liberty Middle School Football  \nPractice
URL:https://camasfootball.com/event/liberty-practice-2/
LOCATION:Liberty Middle School\, 1612 NE Garfield St\, Camas\, 98607\, United States
CATEGORIES:Middle School
END:VEVENT
BEGIN:VEVENT
DTSTART;TZID=America/Los_Angeles:20250408T160000
DTEND;TZID=America/Los_Angeles:20250408T174500
DTSTAMP:20260425T032741
CREATED:20250327T183215Z
LAST-MODIFIED:20250327T183215Z
UID:3361-1744128000-1744134300@camasfootball.com
SUMMARY:Skyridge (Practice)
DESCRIPTION:Skyridge Middle School Football  \nPractice
URL:https://camasfootball.com/event/skyridge-practice-2/
LOCATION:Skyridge Middle School\, 5220 NW Parker St\, Camas\, WA\, 98607\, United States
CATEGORIES:Middle School
END:VEVENT
BEGIN:VEVENT
DTSTART;TZID=America/Los_Angeles:20250408T180000
DTEND;TZID=America/Los_Angeles:20250408T183000
DTSTAMP:20260425T032741
CREATED:20250320T163452Z
LAST-MODIFIED:20250327T183552Z
UID:3209-1744135200-1744137000@camasfootball.com
SUMMARY:Liberty (Parent Meeting)
DESCRIPTION:Liberty Middle School Football \nParent Meeting
URL:https://camasfootball.com/event/liberty-parent-meeting/
LOCATION:Liberty Middle School\, 1612 NE Garfield St\, Camas\, 98607\, United States
CATEGORIES:Middle School
END:VEVENT
BEGIN:VEVENT
DTSTART;TZID=America/Los_Angeles:20250408T180000
DTEND;TZID=America/Los_Angeles:20250408T183000
DTSTAMP:20260425T032741
CREATED:20250327T183856Z
LAST-MODIFIED:20250327T183856Z
UID:3370-1744135200-1744137000@camasfootball.com
SUMMARY:Skyridge (Parent Meeting)
DESCRIPTION:Skyridge Middle School Football \nParent Meeting
URL:https://camasfootball.com/event/skyridge-parent-meeting/
LOCATION:Skyridge Middle School\, 5220 NW Parker St\, Camas\, WA\, 98607\, United States
CATEGORIES:Middle School
END:VEVENT
BEGIN:VEVENT
DTSTART;TZID=America/Los_Angeles:20250409T070000
DTEND;TZID=America/Los_Angeles:20250409T081500
DTSTAMP:20260425T032741
CREATED:20250204T192342Z
LAST-MODIFIED:20250321T202511Z
UID:2534-1744182000-1744186500@camasfootball.com
SUMMARY:SAQ Pass #10
DESCRIPTION:Speed Agility Quickness Pass #10\n7:00 AM – 8:15 AM\n(Field House)
URL:https://camasfootball.com/event/saq-pass-10-2/
LOCATION:Field House\, 26900 SE 15th St.\, Camas\, Washington\, 98607
CATEGORIES:Speed Agility Quickness,Varsity/JV Schedule
END:VEVENT
BEGIN:VEVENT
DTSTART;TZID=America/Los_Angeles:20250409T160000
DTEND;TZID=America/Los_Angeles:20250409T174500
DTSTAMP:20260425T032741
CREATED:20250320T160526Z
LAST-MODIFIED:20250320T160526Z
UID:3200-1744214400-1744220700@camasfootball.com
SUMMARY:Liberty (Practice)
DESCRIPTION:Liberty Middle School Football  \nPractice
URL:https://camasfootball.com/event/liberty-practice-3/
LOCATION:Liberty Middle School\, 1612 NE Garfield St\, Camas\, 98607\, United States
CATEGORIES:Middle School
END:VEVENT
BEGIN:VEVENT
DTSTART;TZID=America/Los_Angeles:20250409T160000
DTEND;TZID=America/Los_Angeles:20250409T174500
DTSTAMP:20260425T032741
CREATED:20250327T183246Z
LAST-MODIFIED:20250327T183246Z
UID:3362-1744214400-1744220700@camasfootball.com
SUMMARY:Skyridge (Practice)
DESCRIPTION:Skyridge Middle School Football  \nPractice
URL:https://camasfootball.com/event/skyridge-practice-3/
LOCATION:Skyridge Middle School\, 5220 NW Parker St\, Camas\, WA\, 98607\, United States
CATEGORIES:Middle School
END:VEVENT
BEGIN:VEVENT
DTSTART;TZID=America/Los_Angeles:20250410T071500
DTEND;TZID=America/Los_Angeles:20250410T081500
DTSTAMP:20260425T032741
CREATED:20250205T001408Z
LAST-MODIFIED:20250321T202520Z
UID:2641-1744269300-1744272900@camasfootball.com
SUMMARY:Champions Hour
DESCRIPTION:Champions Hour\n7:15 AM – 8:15 AM\n(Weight Room) \nChampions are build in the weight room!
URL:https://camasfootball.com/event/champions-hour-37/
LOCATION:Camas Weight Room\, 26900 SE 15th St.\, Camas\, Washington\, 98607
CATEGORIES:Champions Hour,Varsity/JV Schedule
END:VEVENT
BEGIN:VEVENT
DTSTART;TZID=America/Los_Angeles:20250410T160000
DTEND;TZID=America/Los_Angeles:20250410T174500
DTSTAMP:20260425T032741
CREATED:20250320T160550Z
LAST-MODIFIED:20250320T160550Z
UID:3201-1744300800-1744307100@camasfootball.com
SUMMARY:Liberty (Practice)
DESCRIPTION:Liberty Middle School Football  \nPractice
URL:https://camasfootball.com/event/liberty-practice-4/
LOCATION:Liberty Middle School\, 1612 NE Garfield St\, Camas\, 98607\, United States
CATEGORIES:Middle School
END:VEVENT
BEGIN:VEVENT
DTSTART;TZID=America/Los_Angeles:20250410T160000
DTEND;TZID=America/Los_Angeles:20250410T174500
DTSTAMP:20260425T032741
CREATED:20250327T183327Z
LAST-MODIFIED:20250327T183327Z
UID:3363-1744300800-1744307100@camasfootball.com
SUMMARY:Skyridge (Practice)
DESCRIPTION:Skyridge Middle School Football  \nPractice
URL:https://camasfootball.com/event/skyridge-practice-4/
LOCATION:Skyridge Middle School\, 5220 NW Parker St\, Camas\, WA\, 98607\, United States
CATEGORIES:Middle School
END:VEVENT
BEGIN:VEVENT
DTSTART;TZID=America/Los_Angeles:20250411T071500
DTEND;TZID=America/Los_Angeles:20250411T081500
DTSTAMP:20260425T032741
CREATED:20250205T001425Z
LAST-MODIFIED:20250321T202532Z
UID:2642-1744355700-1744359300@camasfootball.com
SUMMARY:Champions Hour
DESCRIPTION:Champions Hour\n7:15 AM – 8:15 AM\n(Weight Room) \nChampions are build in the weight room!
URL:https://camasfootball.com/event/champions-hour-38/
LOCATION:Camas Weight Room\, 26900 SE 15th St.\, Camas\, Washington\, 98607
CATEGORIES:Champions Hour,Varsity/JV Schedule
END:VEVENT
BEGIN:VEVENT
DTSTART;TZID=America/Los_Angeles:20250411T160000
DTEND;TZID=America/Los_Angeles:20250411T174500
DTSTAMP:20260425T032741
CREATED:20250320T160613Z
LAST-MODIFIED:20250320T160613Z
UID:3202-1744387200-1744393500@camasfootball.com
SUMMARY:Liberty (Practice)
DESCRIPTION:Liberty Middle School Football  \nPractice
URL:https://camasfootball.com/event/liberty-practice-5/
LOCATION:Liberty Middle School\, 1612 NE Garfield St\, Camas\, 98607\, United States
CATEGORIES:Middle School
END:VEVENT
BEGIN:VEVENT
DTSTART;TZID=America/Los_Angeles:20250411T160000
DTEND;TZID=America/Los_Angeles:20250411T174500
DTSTAMP:20260425T032741
CREATED:20250327T183355Z
LAST-MODIFIED:20250327T183355Z
UID:3364-1744387200-1744393500@camasfootball.com
SUMMARY:Skyridge (Practice)
DESCRIPTION:Skyridge Middle School Football  \nPractice
URL:https://camasfootball.com/event/skyridge-practice-5/
LOCATION:Skyridge Middle School\, 5220 NW Parker St\, Camas\, WA\, 98607\, United States
CATEGORIES:Middle School
END:VEVENT
END:VCALENDAR