BEGIN:VCALENDAR
VERSION:2.0
PRODID:-//Camas Football - ECPv6.15.3//NONSGML v1.0//EN
CALSCALE:GREGORIAN
METHOD:PUBLISH
X-ORIGINAL-URL:https://camasfootball.com
X-WR-CALDESC:Events for Camas Football
REFRESH-INTERVAL;VALUE=DURATION:PT1H
X-Robots-Tag:noindex
X-PUBLISHED-TTL:PT1H
BEGIN:VTIMEZONE
TZID:America/Los_Angeles
BEGIN:DAYLIGHT
TZOFFSETFROM:-0800
TZOFFSETTO:-0700
TZNAME:PDT
DTSTART:20250309T100000
END:DAYLIGHT
BEGIN:STANDARD
TZOFFSETFROM:-0700
TZOFFSETTO:-0800
TZNAME:PST
DTSTART:20251102T090000
END:STANDARD
END:VTIMEZONE
BEGIN:VEVENT
DTSTART;TZID=America/Los_Angeles:20251106T153000
DTEND;TZID=America/Los_Angeles:20251106T174500
DTSTAMP:20260423T152256
CREATED:20250205T033404Z
LAST-MODIFIED:20250321T185613Z
UID:2916-1762443000-1762451100@camasfootball.com
SUMMARY:Practice
DESCRIPTION:Thursday Varsity/J.V. Practice \nFull Pac
URL:https://camasfootball.com/event/practice-69/
LOCATION:Cardon Field\, 26900 SE 15th St.\, Camas\, Washington\, 98607
CATEGORIES:Varsity Practice,Varsity/JV Schedule
END:VEVENT
BEGIN:VEVENT
DTSTART;VALUE=DATE:20251107
DTEND;VALUE=DATE:20251108
DTSTAMP:20260423T152256
CREATED:20250205T042114Z
LAST-MODIFIED:20250321T185619Z
UID:2944-1762473600-1762559999@camasfootball.com
SUMMARY:Varsity Game Week 10 Preliminary Round
DESCRIPTION:Week 10 Preliminary Round Varsity game. \nOpponent TBD
URL:https://camasfootball.com/event/varsity-game-week-10-preliminary-round-2/
LOCATION:Washington
CATEGORIES:Football Games,Varsity/JV Schedule
END:VEVENT
BEGIN:VEVENT
DTSTART;VALUE=DATE:20251109
DTEND;VALUE=DATE:20251110
DTSTAMP:20260423T152256
CREATED:20250205T025536Z
LAST-MODIFIED:20250321T185623Z
UID:2889-1762646400-1762732799@camasfootball.com
SUMMARY:Staff Meeting
DESCRIPTION:Staff Meeting \nTime/Location TBD
URL:https://camasfootball.com/event/staff-meeting-23/
LOCATION:Washington
CATEGORIES:Staff Meeting,Varsity/JV Schedule
END:VEVENT
BEGIN:VEVENT
DTSTART;TZID=America/Los_Angeles:20251110T160000
DTEND;TZID=America/Los_Angeles:20251110T180000
DTSTAMP:20260423T152256
CREATED:20250205T043323Z
LAST-MODIFIED:20250321T185626Z
UID:2975-1762790400-1762797600@camasfootball.com
SUMMARY:Practice
DESCRIPTION:Monday Varsity/J.V. Practice \n1/2 Pac
URL:https://camasfootball.com/event/practice-83/
LOCATION:Cardon Field\, 26900 SE 15th St.\, Camas\, Washington\, 98607
CATEGORIES:Varsity Practice,Varsity/JV Schedule
END:VEVENT
BEGIN:VEVENT
DTSTART;TZID=America/Los_Angeles:20251111T154500
DTEND;TZID=America/Los_Angeles:20251111T181500
DTSTAMP:20260423T152256
CREATED:20250205T045339Z
LAST-MODIFIED:20250321T185630Z
UID:3025-1762875900-1762884900@camasfootball.com
SUMMARY:Practice
DESCRIPTION:Tuesday Varsity/J.V. Practice \nFull Pac
URL:https://camasfootball.com/event/practice-105/
LOCATION:Cardon Field\, 26900 SE 15th St.\, Camas\, Washington\, 98607
CATEGORIES:Varsity Practice,Varsity/JV Schedule
END:VEVENT
BEGIN:VEVENT
DTSTART;TZID=America/Los_Angeles:20251112T154500
DTEND;TZID=America/Los_Angeles:20251112T181500
DTSTAMP:20260423T152256
CREATED:20250205T045800Z
LAST-MODIFIED:20250321T185635Z
UID:3032-1762962300-1762971300@camasfootball.com
SUMMARY:Practice
DESCRIPTION:Wednesday Varsity/J.V. Practice \nFull Pac
URL:https://camasfootball.com/event/practice-112/
LOCATION:Cardon Field\, 26900 SE 15th St.\, Camas\, Washington\, 98607
CATEGORIES:Varsity Practice,Varsity/JV Schedule
END:VEVENT
BEGIN:VEVENT
DTSTART;TZID=America/Los_Angeles:20251113T153000
DTEND;TZID=America/Los_Angeles:20251113T174500
DTSTAMP:20260423T152256
CREATED:20250205T033452Z
LAST-MODIFIED:20250321T185640Z
UID:2917-1763047800-1763055900@camasfootball.com
SUMMARY:Practice
DESCRIPTION:Thursday Varsity/J.V. Practice \nFull Pac
URL:https://camasfootball.com/event/practice-70/
LOCATION:Cardon Field\, 26900 SE 15th St.\, Camas\, Washington\, 98607
CATEGORIES:Varsity Practice,Varsity/JV Schedule
END:VEVENT
BEGIN:VEVENT
DTSTART;VALUE=DATE:20251114
DTEND;VALUE=DATE:20251115
DTSTAMP:20260423T152256
CREATED:20250205T042154Z
LAST-MODIFIED:20250321T185659Z
UID:2945-1763078400-1763164799@camasfootball.com
SUMMARY:Varsity Game WIAA 1st Round
DESCRIPTION:Varsity\, 1st round of WIAA State Playoffs
URL:https://camasfootball.com/event/varsity-game-wiaa-1st-round-2/
LOCATION:Washington
CATEGORIES:Football Games,Varsity/JV Schedule
END:VEVENT
BEGIN:VEVENT
DTSTART;VALUE=DATE:20251116
DTEND;VALUE=DATE:20251117
DTSTAMP:20260423T152256
CREATED:20250205T025552Z
LAST-MODIFIED:20250321T185703Z
UID:2890-1763251200-1763337599@camasfootball.com
SUMMARY:Staff Meeting
DESCRIPTION:Staff Meeting \nTime/Location TBD
URL:https://camasfootball.com/event/staff-meeting-24/
LOCATION:Washington
CATEGORIES:Staff Meeting,Varsity/JV Schedule
END:VEVENT
BEGIN:VEVENT
DTSTART;TZID=America/Los_Angeles:20251117T160000
DTEND;TZID=America/Los_Angeles:20251117T180000
DTSTAMP:20260423T152256
CREATED:20250205T043345Z
LAST-MODIFIED:20250321T184735Z
UID:2976-1763395200-1763402400@camasfootball.com
SUMMARY:Practice
DESCRIPTION:Monday Varsity/J.V. Practice \n1/2 Pac
URL:https://camasfootball.com/event/practice-84/
LOCATION:Cardon Field\, 26900 SE 15th St.\, Camas\, Washington\, 98607
CATEGORIES:Varsity Practice,Varsity/JV Schedule
END:VEVENT
BEGIN:VEVENT
DTSTART;TZID=America/Los_Angeles:20251118T154500
DTEND;TZID=America/Los_Angeles:20251118T181500
DTSTAMP:20260423T152256
CREATED:20250205T045403Z
LAST-MODIFIED:20250321T184739Z
UID:3026-1763480700-1763489700@camasfootball.com
SUMMARY:Practice
DESCRIPTION:Tuesday Varsity/J.V. Practice \nFull Pac
URL:https://camasfootball.com/event/practice-106/
LOCATION:Cardon Field\, 26900 SE 15th St.\, Camas\, Washington\, 98607
CATEGORIES:Varsity Practice,Varsity/JV Schedule
END:VEVENT
BEGIN:VEVENT
DTSTART;TZID=America/Los_Angeles:20251119T154500
DTEND;TZID=America/Los_Angeles:20251119T181500
DTSTAMP:20260423T152256
CREATED:20250205T045824Z
LAST-MODIFIED:20250321T184744Z
UID:3033-1763567100-1763576100@camasfootball.com
SUMMARY:Practice
DESCRIPTION:Wednesday Varsity/J.V. Practice \nFull Pac
URL:https://camasfootball.com/event/practice-113/
LOCATION:Cardon Field\, 26900 SE 15th St.\, Camas\, Washington\, 98607
CATEGORIES:Varsity Practice,Varsity/JV Schedule
END:VEVENT
BEGIN:VEVENT
DTSTART;TZID=America/Los_Angeles:20251120T154500
DTEND;TZID=America/Los_Angeles:20251120T181500
DTSTAMP:20260423T152256
CREATED:20250205T033519Z
LAST-MODIFIED:20250321T184749Z
UID:2918-1763653500-1763662500@camasfootball.com
SUMMARY:Practice
DESCRIPTION:Thursday Varsity/J.V. Practice \nFull Pac
URL:https://camasfootball.com/event/practice-71/
LOCATION:Cardon Field\, 26900 SE 15th St.\, Camas\, Washington\, 98607
CATEGORIES:Varsity Practice,Varsity/JV Schedule
END:VEVENT
BEGIN:VEVENT
DTSTART;TZID=America/Los_Angeles:20251121T153000
DTEND;TZID=America/Los_Angeles:20251121T174500
DTSTAMP:20260423T152256
CREATED:20250205T050116Z
LAST-MODIFIED:20250321T184754Z
UID:3058-1763739000-1763747100@camasfootball.com
SUMMARY:Practice
DESCRIPTION:Friday Varsity/J.V. Practice \n1/2 Pac
URL:https://camasfootball.com/event/practice-116/
LOCATION:Cardon Field\, 26900 SE 15th St.\, Camas\, Washington\, 98607
CATEGORIES:Varsity Practice,Varsity/JV Schedule
END:VEVENT
BEGIN:VEVENT
DTSTART;VALUE=DATE:20251122
DTEND;VALUE=DATE:20251123
DTSTAMP:20260423T152256
CREATED:20250205T042340Z
LAST-MODIFIED:20250321T184805Z
UID:2946-1763769600-1763855999@camasfootball.com
SUMMARY:Varsity Game WIAA Quarterfinals
DESCRIPTION:Varsity\, Quarterfinals round of WIAA State Playoffs
URL:https://camasfootball.com/event/varsity-game-wiaa-quarterfinals-2/
LOCATION:Washington
CATEGORIES:Football Games,Varsity/JV Schedule
END:VEVENT
BEGIN:VEVENT
DTSTART;VALUE=DATE:20251123
DTEND;VALUE=DATE:20251124
DTSTAMP:20260423T152256
CREATED:20250205T025614Z
LAST-MODIFIED:20250321T184810Z
UID:2891-1763856000-1763942399@camasfootball.com
SUMMARY:Staff Meeting
DESCRIPTION:Staff Meeting \nTime/Location TBD
URL:https://camasfootball.com/event/staff-meeting-25/
LOCATION:Washington
CATEGORIES:Staff Meeting,Varsity/JV Schedule
END:VEVENT
BEGIN:VEVENT
DTSTART;TZID=America/Los_Angeles:20251124T160000
DTEND;TZID=America/Los_Angeles:20251124T180000
DTSTAMP:20260423T152256
CREATED:20250205T043404Z
LAST-MODIFIED:20250321T184814Z
UID:2977-1764000000-1764007200@camasfootball.com
SUMMARY:Practice
DESCRIPTION:Monday Varsity/J.V. Practice \n1/2 Pac
URL:https://camasfootball.com/event/practice-85/
LOCATION:Cardon Field\, 26900 SE 15th St.\, Camas\, Washington\, 98607
CATEGORIES:Varsity Practice,Varsity/JV Schedule
END:VEVENT
BEGIN:VEVENT
DTSTART;TZID=America/Los_Angeles:20251125T154500
DTEND;TZID=America/Los_Angeles:20251125T181500
DTSTAMP:20260423T152256
CREATED:20250205T045435Z
LAST-MODIFIED:20250321T184821Z
UID:3027-1764085500-1764094500@camasfootball.com
SUMMARY:Practice
DESCRIPTION:Tuesday Varsity/J.V. Practice \nFull Pac
URL:https://camasfootball.com/event/practice-107/
LOCATION:Cardon Field\, 26900 SE 15th St.\, Camas\, Washington\, 98607
CATEGORIES:Varsity Practice,Varsity/JV Schedule
END:VEVENT
BEGIN:VEVENT
DTSTART;TZID=America/Los_Angeles:20251126T154500
DTEND;TZID=America/Los_Angeles:20251126T181500
DTSTAMP:20260423T152256
CREATED:20250205T045851Z
LAST-MODIFIED:20250205T045851Z
UID:3034-1764171900-1764180900@camasfootball.com
SUMMARY:Practice
DESCRIPTION:Wednesday Varsity/J.V. Practice \nFull Pac
URL:https://camasfootball.com/event/practice-114/
LOCATION:Cardon Field\, 26900 SE 15th St.\, Camas\, Washington\, 98607
CATEGORIES:Varsity Practice
END:VEVENT
BEGIN:VEVENT
DTSTART;TZID=America/Los_Angeles:20251127T100000
DTEND;TZID=America/Los_Angeles:20251127T120000
DTSTAMP:20260423T152256
CREATED:20250205T033618Z
LAST-MODIFIED:20250321T184825Z
UID:2919-1764237600-1764244800@camasfootball.com
SUMMARY:Practice
DESCRIPTION:Thursday Varsity/J.V. Practice \nThanksgiving! \nFull Pac
URL:https://camasfootball.com/event/practice-72/
LOCATION:Washington
CATEGORIES:Varsity Practice,Varsity/JV Schedule
END:VEVENT
BEGIN:VEVENT
DTSTART;TZID=America/Los_Angeles:20251128T120000
DTEND;TZID=America/Los_Angeles:20251128T140000
DTSTAMP:20260423T152256
CREATED:20250205T050203Z
LAST-MODIFIED:20250321T184830Z
UID:3059-1764331200-1764338400@camasfootball.com
SUMMARY:Practice
DESCRIPTION:Friday Varsity/J.V. Practice \n1/2 Pac
URL:https://camasfootball.com/event/practice-117/
LOCATION:Cardon Field\, 26900 SE 15th St.\, Camas\, Washington\, 98607
CATEGORIES:Varsity Practice,Varsity/JV Schedule
END:VEVENT
BEGIN:VEVENT
DTSTART;VALUE=DATE:20251129
DTEND;VALUE=DATE:20251130
DTSTAMP:20260423T152256
CREATED:20250205T042432Z
LAST-MODIFIED:20250321T184834Z
UID:2947-1764374400-1764460799@camasfootball.com
SUMMARY:Varsity Game WIAA Semifinals
DESCRIPTION:Varsity\, Semifinals round of WIAA State Playoffs
URL:https://camasfootball.com/event/varsity-game-wiaa-semifinals-2/
LOCATION:Washington
CATEGORIES:Football Games,Varsity/JV Schedule
END:VEVENT
BEGIN:VEVENT
DTSTART;VALUE=DATE:20251130
DTEND;VALUE=DATE:20251201
DTSTAMP:20260423T152256
CREATED:20250205T025630Z
LAST-MODIFIED:20250321T184838Z
UID:2892-1764460800-1764547199@camasfootball.com
SUMMARY:Staff Meeting
DESCRIPTION:Staff Meeting \nTime/Location TBD
URL:https://camasfootball.com/event/staff-meeting-26/
LOCATION:Washington
CATEGORIES:Staff Meeting,Varsity/JV Schedule
END:VEVENT
BEGIN:VEVENT
DTSTART;TZID=America/Los_Angeles:20251201T160000
DTEND;TZID=America/Los_Angeles:20251201T180000
DTSTAMP:20260423T152256
CREATED:20250205T043432Z
LAST-MODIFIED:20250321T184843Z
UID:2978-1764604800-1764612000@camasfootball.com
SUMMARY:Practice
DESCRIPTION:Monday Varsity/J.V. Practice \n1/2 Pac
URL:https://camasfootball.com/event/practice-86/
LOCATION:Cardon Field\, 26900 SE 15th St.\, Camas\, Washington\, 98607
CATEGORIES:Varsity Practice,Varsity/JV Schedule
END:VEVENT
BEGIN:VEVENT
DTSTART;TZID=America/Los_Angeles:20251202T154500
DTEND;TZID=America/Los_Angeles:20251202T181500
DTSTAMP:20260423T152256
CREATED:20250205T045520Z
LAST-MODIFIED:20250321T184847Z
UID:3028-1764690300-1764699300@camasfootball.com
SUMMARY:Practice
DESCRIPTION:Tuesday Varsity/J.V. Practice \nFull Pac
URL:https://camasfootball.com/event/practice-108/
LOCATION:Cardon Field\, 26900 SE 15th St.\, Camas\, Washington\, 98607
CATEGORIES:Varsity Practice,Varsity/JV Schedule
END:VEVENT
BEGIN:VEVENT
DTSTART;TZID=America/Los_Angeles:20251203T154500
DTEND;TZID=America/Los_Angeles:20251203T181500
DTSTAMP:20260423T152256
CREATED:20250205T045915Z
LAST-MODIFIED:20250321T184850Z
UID:3035-1764776700-1764785700@camasfootball.com
SUMMARY:Practice
DESCRIPTION:Wednesday Varsity/J.V. Practice \nFull Pac
URL:https://camasfootball.com/event/practice-115/
LOCATION:Cardon Field\, 26900 SE 15th St.\, Camas\, Washington\, 98607
CATEGORIES:Varsity Practice,Varsity/JV Schedule
END:VEVENT
BEGIN:VEVENT
DTSTART;TZID=America/Los_Angeles:20251204T154500
DTEND;TZID=America/Los_Angeles:20251204T181500
DTSTAMP:20260423T152256
CREATED:20250205T033651Z
LAST-MODIFIED:20250321T184854Z
UID:2920-1764863100-1764872100@camasfootball.com
SUMMARY:Practice
DESCRIPTION:Thursday Varsity/J.V. Practice \nFull Pac
URL:https://camasfootball.com/event/practice-73/
LOCATION:Cardon Field\, 26900 SE 15th St.\, Camas\, Washington\, 98607
CATEGORIES:Varsity Practice,Varsity/JV Schedule
END:VEVENT
BEGIN:VEVENT
DTSTART;TZID=America/Los_Angeles:20251205T153000
DTEND;TZID=America/Los_Angeles:20251205T174500
DTSTAMP:20260423T152256
CREATED:20250205T050306Z
LAST-MODIFIED:20250321T184858Z
UID:3060-1764948600-1764956700@camasfootball.com
SUMMARY:Practice
DESCRIPTION:Friday Varsity/J.V. Practice \n1/2 Pac
URL:https://camasfootball.com/event/practice-118/
LOCATION:Cardon Field\, 26900 SE 15th St.\, Camas\, Washington\, 98607
CATEGORIES:Varsity Practice,Varsity/JV Schedule
END:VEVENT
BEGIN:VEVENT
DTSTART;VALUE=DATE:20251206
DTEND;VALUE=DATE:20251207
DTSTAMP:20260423T152256
CREATED:20250205T042523Z
LAST-MODIFIED:20250321T184904Z
UID:2948-1764979200-1765065599@camasfootball.com
SUMMARY:Varsity Game WIAA State Championship Game
DESCRIPTION:Varsity\, WIAA 4A State Championship Game
URL:https://camasfootball.com/event/select-varsity-game-wiaa-state-championship-game/
LOCATION:Washington
CATEGORIES:Football Games,Varsity/JV Schedule
END:VEVENT
BEGIN:VEVENT
DTSTART;TZID=America/Los_Angeles:20251215T183000
DTEND;TZID=America/Los_Angeles:20251215T203000
DTSTAMP:20260423T152256
CREATED:20251204T193630Z
LAST-MODIFIED:20251204T193630Z
UID:3951-1765823400-1765830600@camasfootball.com
SUMMARY:#Team_117 Annual Celebration
DESCRIPTION:Join us as we celebrate the end of the 2025 football season and all that Team 117 accomplished including winning the 4A GSHL Championship and an 8-3 season that included a trip to the WIAA 4A State Playoffs.
URL:https://camasfootball.com/event/team_117-annual-celebration/
LOCATION:North Commons\, 26900 SE 15th St.\, Camas\, Washington\, 98607
CATEGORIES:Varsity/JV Schedule
END:VEVENT
END:VCALENDAR