BEGIN:VCALENDAR
VERSION:2.0
PRODID:-//Camas Football - ECPv6.15.3//NONSGML v1.0//EN
CALSCALE:GREGORIAN
METHOD:PUBLISH
X-WR-CALNAME:Camas Football
X-ORIGINAL-URL:https://camasfootball.com
X-WR-CALDESC:Events for Camas Football
REFRESH-INTERVAL;VALUE=DURATION:PT1H
X-Robots-Tag:noindex
X-PUBLISHED-TTL:PT1H
BEGIN:VTIMEZONE
TZID:America/Los_Angeles
BEGIN:DAYLIGHT
TZOFFSETFROM:-0800
TZOFFSETTO:-0700
TZNAME:PDT
DTSTART:20260308T100000
END:DAYLIGHT
BEGIN:STANDARD
TZOFFSETFROM:-0700
TZOFFSETTO:-0800
TZNAME:PST
DTSTART:20261101T090000
END:STANDARD
END:VTIMEZONE
BEGIN:VEVENT
DTSTART;TZID=America/Los_Angeles:20260419T163000
DTEND;TZID=America/Los_Angeles:20260419T173000
DTSTAMP:20260423T101757
CREATED:20260215T001026Z
LAST-MODIFIED:20260215T001301Z
UID:4219-1776616200-1776619800@camasfootball.com
SUMMARY:#ToTheTop Youth Football Skills Camp - Grade: 5-7 Week 1
DESCRIPTION:#ToTheTop Youth Football Skills Camp – Week 1 \n4th – 7th Grade\, Code: TBD\nQB & RB Focus \nThis camp is for beginner to intermediate level youth football players. Join in the fun as we instruct and practice the basics of football position specific skills with some of SW WA best high school players! This traditional “Big Guys – Little Guys” Camp will focus mostly on position specific fundaments in a manner that will not only be enjoyable\, but will undoubtedly translate into a fun and successful venture into youth football. Bring a water bottle and wear athletic attire (athletic shoes or molded cleats). \nThe camp will be coached by members of the CHS 2025 High School football program\, with director oversight from Camas Head Football Coach Adam Mathieson and members of the CHS football Coaching staff. \n$TBD for all 4 Weeks \nThis is a 4 week camp that meets every Sunday from April 19 through May 17.
URL:https://camasfootball.com/event/tothetop-youth-football-skills-camp-grade-5-7-week-1-2026/
LOCATION:Field House\, 26900 SE 15th St.\, Camas\, Washington\, 98607
CATEGORIES:Frosh Calendar,Varsity/JV Schedule,Youth Football Camp
END:VEVENT
BEGIN:VEVENT
DTSTART;TZID=America/Los_Angeles:20260419T150000
DTEND;TZID=America/Los_Angeles:20260419T160000
DTSTAMP:20260423T101757
CREATED:20260215T000908Z
LAST-MODIFIED:20260215T001034Z
UID:4215-1776610800-1776614400@camasfootball.com
SUMMARY:#ToTheTop Youth Football Skills Camp - Grade: 2-4 Week 1
DESCRIPTION:#ToTheTop Youth Football Skills Camp – Week 1 \n2nd – 4th Grade\, Code: TBD\nQB & RB Focus \nThis camp is for beginner to intermediate level youth football players. Join in the fun as we instruct and practice the basics of football position specific skills with some of SW WA best high school players! This traditional “Big Guys – Little Guys” Camp will focus mostly on position specific fundaments in a manner that will not only be enjoyable\, but will undoubtedly translate into a fun and successful venture into youth football. Bring a water bottle and wear athletic attire (athletic shoes or molded cleats). \nThe camp will be coached by members of the CHS 2025 High School football program\, with director oversight from Camas Head Football Coach Adam Mathieson and members of the CHS football Coaching staff. \n$TBD for all 4 Weeks \nThis is a 4 week camp that meets every Sunday from April 19 through May 17.
URL:https://camasfootball.com/event/tothetop-youth-football-skills-camp-grade-2-4-week-1-2026/
LOCATION:Field House\, 26900 SE 15th St.\, Camas\, Washington\, 98607
CATEGORIES:Frosh Calendar,Varsity/JV Schedule,Youth Football Camp
END:VEVENT
BEGIN:VEVENT
DTSTART;TZID=America/Los_Angeles:20260417T071500
DTEND;TZID=America/Los_Angeles:20260417T081500
DTSTAMP:20260423T101757
CREATED:20260214T233105Z
LAST-MODIFIED:20260214T233105Z
UID:4123-1776410100-1776413700@camasfootball.com
SUMMARY:Champions Hour
DESCRIPTION:Champions Hour\n7:15 AM – 8:15 AM\n(Weight Room) \nChampions are build in the weight room!
URL:https://camasfootball.com/event/champions-hour-102/
LOCATION:Camas Weight Room\, 26900 SE 15th St.\, Camas\, Washington\, 98607
CATEGORIES:Champions Hour,Varsity/JV Schedule
END:VEVENT
BEGIN:VEVENT
DTSTART;TZID=America/Los_Angeles:20260416T071500
DTEND;TZID=America/Los_Angeles:20260416T081500
DTSTAMP:20260423T101757
CREATED:20260214T233047Z
LAST-MODIFIED:20260214T233047Z
UID:4122-1776323700-1776327300@camasfootball.com
SUMMARY:Champions Hour
DESCRIPTION:Champions Hour\n7:15 AM – 8:15 AM\n(Weight Room) \nChampions are build in the weight room!
URL:https://camasfootball.com/event/champions-hour-101/
LOCATION:Camas Weight Room\, 26900 SE 15th St.\, Camas\, Washington\, 98607
CATEGORIES:Champions Hour,Varsity/JV Schedule
END:VEVENT
BEGIN:VEVENT
DTSTART;TZID=America/Los_Angeles:20260415T071500
DTEND;TZID=America/Los_Angeles:20260415T081500
DTSTAMP:20260423T101757
CREATED:20260214T235327Z
LAST-MODIFIED:20260214T235327Z
UID:4179-1776237300-1776240900@camasfootball.com
SUMMARY:SAQ Pass #9
DESCRIPTION:Speed Agility Quickness Pass #9\n7:15 AM – 8:15 AM\n(Field House)
URL:https://camasfootball.com/event/saq-pass-9-3/
LOCATION:Field House\, 26900 SE 15th St.\, Camas\, Washington\, 98607
CATEGORIES:Speed Agility Quickness,Varsity/JV Schedule
END:VEVENT
BEGIN:VEVENT
DTSTART;TZID=America/Los_Angeles:20260414T071500
DTEND;TZID=America/Los_Angeles:20260414T081500
DTSTAMP:20260423T101757
CREATED:20260214T233028Z
LAST-MODIFIED:20260214T233028Z
UID:4121-1776150900-1776154500@camasfootball.com
SUMMARY:Champions Hour
DESCRIPTION:Champions Hour\n7:15 AM – 8:15 AM\n(Weight Room) \nChampions are build in the weight room!
URL:https://camasfootball.com/event/champions-hour-100/
LOCATION:Camas Weight Room\, 26900 SE 15th St.\, Camas\, Washington\, 98607
CATEGORIES:Champions Hour,Varsity/JV Schedule
END:VEVENT
BEGIN:VEVENT
DTSTART;TZID=America/Los_Angeles:20260413T071500
DTEND;TZID=America/Los_Angeles:20260413T081500
DTSTAMP:20260423T101757
CREATED:20260214T233006Z
LAST-MODIFIED:20260214T233006Z
UID:4120-1776064500-1776068100@camasfootball.com
SUMMARY:Champions Hour
DESCRIPTION:Champions Hour\n7:15 AM – 8:15 AM\n(Weight Room) \nChampions are build in the weight room!
URL:https://camasfootball.com/event/champions-hour-99/
LOCATION:Camas Weight Room\, 26900 SE 15th St.\, Camas\, Washington\, 98607
CATEGORIES:Champions Hour,Varsity/JV Schedule
END:VEVENT
BEGIN:VEVENT
DTSTART;VALUE=DATE:20260410
DTEND;VALUE=DATE:20260411
DTSTAMP:20260423T101757
CREATED:20260214T232752Z
LAST-MODIFIED:20260214T232752Z
UID:4111-1775779200-1775865599@camasfootball.com
SUMMARY:No School
DESCRIPTION:
URL:https://camasfootball.com/event/no-school-16/
LOCATION:Washington
CATEGORIES:Frosh Calendar,Varsity/JV Schedule
END:VEVENT
BEGIN:VEVENT
DTSTART;VALUE=DATE:20260409
DTEND;VALUE=DATE:20260410
DTSTAMP:20260423T101757
CREATED:20260214T232739Z
LAST-MODIFIED:20260214T232739Z
UID:4110-1775692800-1775779199@camasfootball.com
SUMMARY:No School
DESCRIPTION:
URL:https://camasfootball.com/event/no-school-15/
LOCATION:Washington
CATEGORIES:Frosh Calendar,Varsity/JV Schedule
END:VEVENT
BEGIN:VEVENT
DTSTART;VALUE=DATE:20260408
DTEND;VALUE=DATE:20260409
DTSTAMP:20260423T101757
CREATED:20260214T232726Z
LAST-MODIFIED:20260214T232726Z
UID:4109-1775606400-1775692799@camasfootball.com
SUMMARY:No School
DESCRIPTION:
URL:https://camasfootball.com/event/no-school-14/
LOCATION:Washington
CATEGORIES:Frosh Calendar,Varsity/JV Schedule
END:VEVENT
BEGIN:VEVENT
DTSTART;VALUE=DATE:20260407
DTEND;VALUE=DATE:20260408
DTSTAMP:20260423T101757
CREATED:20260214T232714Z
LAST-MODIFIED:20260214T232714Z
UID:4108-1775520000-1775606399@camasfootball.com
SUMMARY:No School
DESCRIPTION:
URL:https://camasfootball.com/event/no-school-13/
LOCATION:Washington
CATEGORIES:Frosh Calendar,Varsity/JV Schedule
END:VEVENT
BEGIN:VEVENT
DTSTART;VALUE=DATE:20260406
DTEND;VALUE=DATE:20260407
DTSTAMP:20260423T101757
CREATED:20260214T232656Z
LAST-MODIFIED:20260214T232656Z
UID:4113-1775433600-1775519999@camasfootball.com
SUMMARY:No School
DESCRIPTION:
URL:https://camasfootball.com/event/no-school-12/
LOCATION:Washington
CATEGORIES:Frosh Calendar,Varsity/JV Schedule
END:VEVENT
BEGIN:VEVENT
DTSTART;TZID=America/Los_Angeles:20260403T071500
DTEND;TZID=America/Los_Angeles:20260403T081500
DTSTAMP:20260423T101757
CREATED:20260214T232444Z
LAST-MODIFIED:20260214T232444Z
UID:4087-1775200500-1775204100@camasfootball.com
SUMMARY:Champions Hour
DESCRIPTION:Champions Hour\n7:15 AM – 8:15 AM\n(Weight Room) \nChampions are build in the weight room!
URL:https://camasfootball.com/event/champions-hour-98/
LOCATION:Camas Weight Room\, 26900 SE 15th St.\, Camas\, Washington\, 98607
CATEGORIES:Champions Hour,Varsity/JV Schedule
END:VEVENT
BEGIN:VEVENT
DTSTART;TZID=America/Los_Angeles:20260402T071500
DTEND;TZID=America/Los_Angeles:20260402T081500
DTSTAMP:20260423T101757
CREATED:20260214T232428Z
LAST-MODIFIED:20260214T232428Z
UID:4086-1775114100-1775117700@camasfootball.com
SUMMARY:Champions Hour
DESCRIPTION:Champions Hour\n7:15 AM – 8:15 AM\n(Weight Room) \nChampions are build in the weight room!
URL:https://camasfootball.com/event/champions-hour-97/
LOCATION:Camas Weight Room\, 26900 SE 15th St.\, Camas\, Washington\, 98607
CATEGORIES:Champions Hour,Varsity/JV Schedule
END:VEVENT
BEGIN:VEVENT
DTSTART;TZID=America/Los_Angeles:20260401T071500
DTEND;TZID=America/Los_Angeles:20260401T081500
DTSTAMP:20260423T101757
CREATED:20260214T235241Z
LAST-MODIFIED:20260214T235241Z
UID:4180-1775027700-1775031300@camasfootball.com
SUMMARY:SAQ Pass #8
DESCRIPTION:Speed Agility Quickness Pass #8\n7:15 AM – 8:15 AM\n(Field House)
URL:https://camasfootball.com/event/saq-pass-8-3/
LOCATION:Field House\, 26900 SE 15th St.\, Camas\, Washington\, 98607
CATEGORIES:Speed Agility Quickness,Varsity/JV Schedule
END:VEVENT
BEGIN:VEVENT
DTSTART;TZID=America/Los_Angeles:20260331T071500
DTEND;TZID=America/Los_Angeles:20260331T081500
DTSTAMP:20260423T101757
CREATED:20260214T232409Z
LAST-MODIFIED:20260214T232409Z
UID:4085-1774941300-1774944900@camasfootball.com
SUMMARY:Champions Hour
DESCRIPTION:Champions Hour\n7:15 AM – 8:15 AM\n(Weight Room) \nChampions are build in the weight room!
URL:https://camasfootball.com/event/champions-hour-96/
LOCATION:Camas Weight Room\, 26900 SE 15th St.\, Camas\, Washington\, 98607
CATEGORIES:Champions Hour,Varsity/JV Schedule
END:VEVENT
BEGIN:VEVENT
DTSTART;TZID=America/Los_Angeles:20260330T071500
DTEND;TZID=America/Los_Angeles:20260330T081500
DTSTAMP:20260423T101757
CREATED:20260214T232351Z
LAST-MODIFIED:20260214T232351Z
UID:4084-1774854900-1774858500@camasfootball.com
SUMMARY:Champions Hour
DESCRIPTION:Champions Hour\n7:15 AM – 8:15 AM\n(Weight Room) \nChampions are build in the weight room!
URL:https://camasfootball.com/event/champions-hour-95/
LOCATION:Camas Weight Room\, 26900 SE 15th St.\, Camas\, Washington\, 98607
CATEGORIES:Champions Hour,Varsity/JV Schedule
END:VEVENT
BEGIN:VEVENT
DTSTART;TZID=America/Los_Angeles:20260327T071500
DTEND;TZID=America/Los_Angeles:20260327T081500
DTSTAMP:20260423T101757
CREATED:20260214T232333Z
LAST-MODIFIED:20260214T232333Z
UID:4083-1774595700-1774599300@camasfootball.com
SUMMARY:Champions Hour
DESCRIPTION:Champions Hour\n7:15 AM – 8:15 AM\n(Weight Room) \nChampions are build in the weight room!
URL:https://camasfootball.com/event/champions-hour-94/
LOCATION:Camas Weight Room\, 26900 SE 15th St.\, Camas\, Washington\, 98607
CATEGORIES:Champions Hour,Varsity/JV Schedule
END:VEVENT
BEGIN:VEVENT
DTSTART;TZID=America/Los_Angeles:20260326T071500
DTEND;TZID=America/Los_Angeles:20260326T081500
DTSTAMP:20260423T101757
CREATED:20260214T232317Z
LAST-MODIFIED:20260214T232317Z
UID:4082-1774509300-1774512900@camasfootball.com
SUMMARY:Champions Hour
DESCRIPTION:Champions Hour\n7:15 AM – 8:15 AM\n(Weight Room) \nChampions are build in the weight room!
URL:https://camasfootball.com/event/champions-hour-93/
LOCATION:Camas Weight Room\, 26900 SE 15th St.\, Camas\, Washington\, 98607
CATEGORIES:Champions Hour,Varsity/JV Schedule
END:VEVENT
BEGIN:VEVENT
DTSTART;TZID=America/Los_Angeles:20260325T071500
DTEND;TZID=America/Los_Angeles:20260325T081500
DTSTAMP:20260423T101757
CREATED:20260214T235223Z
LAST-MODIFIED:20260214T235223Z
UID:4175-1774422900-1774426500@camasfootball.com
SUMMARY:SAQ Pass #7
DESCRIPTION:Speed Agility Quickness Pass #7\n7:15 AM – 8:15 AM\n(Field House)
URL:https://camasfootball.com/event/saq-pass-7-3/
LOCATION:Field House\, 26900 SE 15th St.\, Camas\, Washington\, 98607
CATEGORIES:Speed Agility Quickness,Varsity/JV Schedule
END:VEVENT
BEGIN:VEVENT
DTSTART;TZID=America/Los_Angeles:20260324T071500
DTEND;TZID=America/Los_Angeles:20260324T081500
DTSTAMP:20260423T101757
CREATED:20260214T232255Z
LAST-MODIFIED:20260214T232255Z
UID:4081-1774336500-1774340100@camasfootball.com
SUMMARY:Champions Hour
DESCRIPTION:Champions Hour\n7:15 AM – 8:15 AM\n(Weight Room) \nChampions are build in the weight room!
URL:https://camasfootball.com/event/champions-hour-92/
LOCATION:Camas Weight Room\, 26900 SE 15th St.\, Camas\, Washington\, 98607
CATEGORIES:Champions Hour,Varsity/JV Schedule
END:VEVENT
BEGIN:VEVENT
DTSTART;TZID=America/Los_Angeles:20260323T071500
DTEND;TZID=America/Los_Angeles:20260323T081500
DTSTAMP:20260423T101757
CREATED:20260214T232236Z
LAST-MODIFIED:20260214T232236Z
UID:4080-1774250100-1774253700@camasfootball.com
SUMMARY:Champions Hour
DESCRIPTION:Champions Hour\n7:15 AM – 8:15 AM\n(Weight Room) \nChampions are build in the weight room!
URL:https://camasfootball.com/event/champions-hour-91/
LOCATION:Camas Weight Room\, 26900 SE 15th St.\, Camas\, Washington\, 98607
CATEGORIES:Champions Hour,Varsity/JV Schedule
END:VEVENT
BEGIN:VEVENT
DTSTART;TZID=America/Los_Angeles:20260320T071500
DTEND;TZID=America/Los_Angeles:20260320T081500
DTSTAMP:20260423T101757
CREATED:20260214T232221Z
LAST-MODIFIED:20260214T232221Z
UID:4079-1773990900-1773994500@camasfootball.com
SUMMARY:Champions Hour
DESCRIPTION:Champions Hour\n7:15 AM – 8:15 AM\n(Weight Room) \nChampions are build in the weight room!
URL:https://camasfootball.com/event/champions-hour-90/
LOCATION:Camas Weight Room\, 26900 SE 15th St.\, Camas\, Washington\, 98607
CATEGORIES:Champions Hour,Varsity/JV Schedule
END:VEVENT
BEGIN:VEVENT
DTSTART;TZID=America/Los_Angeles:20260319T071500
DTEND;TZID=America/Los_Angeles:20260319T081500
DTSTAMP:20260423T101757
CREATED:20260214T232204Z
LAST-MODIFIED:20260214T232204Z
UID:4078-1773904500-1773908100@camasfootball.com
SUMMARY:Champions Hour
DESCRIPTION:Champions Hour\n7:15 AM – 8:15 AM\n(Weight Room) \nChampions are build in the weight room!
URL:https://camasfootball.com/event/champions-hour-89/
LOCATION:Camas Weight Room\, 26900 SE 15th St.\, Camas\, Washington\, 98607
CATEGORIES:Champions Hour,Varsity/JV Schedule
END:VEVENT
BEGIN:VEVENT
DTSTART;TZID=America/Los_Angeles:20260318T071500
DTEND;TZID=America/Los_Angeles:20260318T081500
DTSTAMP:20260423T101757
CREATED:20260214T235203Z
LAST-MODIFIED:20260214T235203Z
UID:4178-1773818100-1773821700@camasfootball.com
SUMMARY:SAQ Pass #6
DESCRIPTION:Speed Agility Quickness Pass #6\n7:15 AM – 8:15 AM\n(Field House)
URL:https://camasfootball.com/event/saq-pass-6-3/
LOCATION:Field House\, 26900 SE 15th St.\, Camas\, Washington\, 98607
CATEGORIES:Speed Agility Quickness,Varsity/JV Schedule
END:VEVENT
BEGIN:VEVENT
DTSTART;TZID=America/Los_Angeles:20260317T071500
DTEND;TZID=America/Los_Angeles:20260317T081500
DTSTAMP:20260423T101757
CREATED:20260214T232147Z
LAST-MODIFIED:20260214T232147Z
UID:4077-1773731700-1773735300@camasfootball.com
SUMMARY:Champions Hour
DESCRIPTION:Champions Hour\n7:15 AM – 8:15 AM\n(Weight Room) \nChampions are build in the weight room!
URL:https://camasfootball.com/event/champions-hour-88/
LOCATION:Camas Weight Room\, 26900 SE 15th St.\, Camas\, Washington\, 98607
CATEGORIES:Champions Hour,Varsity/JV Schedule
END:VEVENT
BEGIN:VEVENT
DTSTART;TZID=America/Los_Angeles:20260316T071500
DTEND;TZID=America/Los_Angeles:20260316T081500
DTSTAMP:20260423T101757
CREATED:20260214T232130Z
LAST-MODIFIED:20260214T232130Z
UID:4076-1773645300-1773648900@camasfootball.com
SUMMARY:Champions Hour
DESCRIPTION:Champions Hour\n7:15 AM – 8:15 AM\n(Weight Room) \nChampions are build in the weight room!
URL:https://camasfootball.com/event/champions-hour-87/
LOCATION:Camas Weight Room\, 26900 SE 15th St.\, Camas\, Washington\, 98607
CATEGORIES:Champions Hour,Varsity/JV Schedule
END:VEVENT
BEGIN:VEVENT
DTSTART;TZID=America/Los_Angeles:20260313T071500
DTEND;TZID=America/Los_Angeles:20260313T081500
DTSTAMP:20260423T101757
CREATED:20260214T232057Z
LAST-MODIFIED:20260214T232057Z
UID:4075-1773386100-1773389700@camasfootball.com
SUMMARY:Champions Hour
DESCRIPTION:Champions Hour\n7:15 AM – 8:15 AM\n(Weight Room) \nChampions are build in the weight room!
URL:https://camasfootball.com/event/champions-hour-86/
LOCATION:Camas Weight Room\, 26900 SE 15th St.\, Camas\, Washington\, 98607
CATEGORIES:Champions Hour,Varsity/JV Schedule
END:VEVENT
BEGIN:VEVENT
DTSTART;TZID=America/Los_Angeles:20260312T071500
DTEND;TZID=America/Los_Angeles:20260312T081500
DTSTAMP:20260423T101757
CREATED:20260214T232039Z
LAST-MODIFIED:20260214T232039Z
UID:4074-1773299700-1773303300@camasfootball.com
SUMMARY:Champions Hour
DESCRIPTION:Champions Hour\n7:15 AM – 8:15 AM\n(Weight Room) \nChampions are build in the weight room!
URL:https://camasfootball.com/event/champions-hour-85/
LOCATION:Camas Weight Room\, 26900 SE 15th St.\, Camas\, Washington\, 98607
CATEGORIES:Champions Hour,Varsity/JV Schedule
END:VEVENT
BEGIN:VEVENT
DTSTART;TZID=America/Los_Angeles:20260311T071500
DTEND;TZID=America/Los_Angeles:20260311T081500
DTSTAMP:20260423T101757
CREATED:20260214T235139Z
LAST-MODIFIED:20260214T235139Z
UID:4182-1773213300-1773216900@camasfootball.com
SUMMARY:SAQ Pass #5
DESCRIPTION:Speed Agility Quickness Pass #5\n7:15 AM – 8:15 AM\n(Field House)
URL:https://camasfootball.com/event/saq-pass-5-3/
LOCATION:Field House\, 26900 SE 15th St.\, Camas\, Washington\, 98607
CATEGORIES:Speed Agility Quickness,Varsity/JV Schedule
END:VEVENT
END:VCALENDAR