BEGIN:VCALENDAR
VERSION:2.0
PRODID:-//Camas Football - ECPv6.15.3//NONSGML v1.0//EN
CALSCALE:GREGORIAN
METHOD:PUBLISH
X-WR-CALNAME:Camas Football
X-ORIGINAL-URL:https://camasfootball.com
X-WR-CALDESC:Events for Camas Football
REFRESH-INTERVAL;VALUE=DURATION:PT1H
X-Robots-Tag:noindex
X-PUBLISHED-TTL:PT1H
BEGIN:VTIMEZONE
TZID:America/Los_Angeles
BEGIN:DAYLIGHT
TZOFFSETFROM:-0800
TZOFFSETTO:-0700
TZNAME:PDT
DTSTART:20240310T100000
END:DAYLIGHT
BEGIN:STANDARD
TZOFFSETFROM:-0700
TZOFFSETTO:-0800
TZNAME:PST
DTSTART:20241103T090000
END:STANDARD
BEGIN:DAYLIGHT
TZOFFSETFROM:-0800
TZOFFSETTO:-0700
TZNAME:PDT
DTSTART:20250309T100000
END:DAYLIGHT
BEGIN:STANDARD
TZOFFSETFROM:-0700
TZOFFSETTO:-0800
TZNAME:PST
DTSTART:20251102T090000
END:STANDARD
END:VTIMEZONE
BEGIN:VEVENT
DTSTART;TZID=America/Los_Angeles:20250225T071500
DTEND;TZID=America/Los_Angeles:20250225T081500
DTSTAMP:20260424T025956
CREATED:20250204T172740Z
LAST-MODIFIED:20250321T202952Z
UID:2465-1740467700-1740471300@camasfootball.com
SUMMARY:Champions Hour
DESCRIPTION:Champions Hour\n7:15 AM – 8:15 AM\n(Weight Room) \nChampions are build in the weight room!
URL:https://camasfootball.com/event/champions-hour-16/
LOCATION:Camas Weight Room\, 26900 SE 15th St.\, Camas\, Washington\, 98607
CATEGORIES:Champions Hour,Varsity/JV Schedule
END:VEVENT
BEGIN:VEVENT
DTSTART;TZID=America/Los_Angeles:20250224T071500
DTEND;TZID=America/Los_Angeles:20250224T081500
DTSTAMP:20260424T025956
CREATED:20250204T172716Z
LAST-MODIFIED:20250321T202948Z
UID:2464-1740381300-1740384900@camasfootball.com
SUMMARY:Champions Hour
DESCRIPTION:Champions Hour\n7:15 AM – 8:15 AM\n(Weight Room) \nChampions are build in the weight room!
URL:https://camasfootball.com/event/champions-hour-15/
LOCATION:Camas Weight Room\, 26900 SE 15th St.\, Camas\, Washington\, 98607
CATEGORIES:Champions Hour,Varsity/JV Schedule
END:VEVENT
BEGIN:VEVENT
DTSTART;VALUE=DATE:20250223
DTEND;VALUE=DATE:20250224
DTSTAMP:20260424T025956
CREATED:20250204T173209Z
LAST-MODIFIED:20250321T202944Z
UID:2491-1740268800-1740355199@camasfootball.com
SUMMARY:Glazier Clinic - Seattle
DESCRIPTION:Glazier Clinic in Seattle \nDay 3
URL:https://camasfootball.com/event/glazier-clinic-seattle-3/
LOCATION:Washington
CATEGORIES:Coaches Clinic,Varsity/JV Schedule
END:VEVENT
BEGIN:VEVENT
DTSTART;VALUE=DATE:20250222
DTEND;VALUE=DATE:20250223
DTSTAMP:20260424T025956
CREATED:20250204T173204Z
LAST-MODIFIED:20250321T203345Z
UID:2490-1740182400-1740268799@camasfootball.com
SUMMARY:Glazier Clinic - Seattle
DESCRIPTION:Glazier Clinic in Seattle \nDay 2
URL:https://camasfootball.com/event/glazier-clinic-seattle-2/
LOCATION:Washington
CATEGORIES:Coaches Clinic,Varsity/JV Schedule
END:VEVENT
BEGIN:VEVENT
DTSTART;TZID=America/Los_Angeles:20250221T071500
DTEND;TZID=America/Los_Angeles:20250221T081500
DTSTAMP:20260424T025956
CREATED:20250204T172659Z
LAST-MODIFIED:20250321T203342Z
UID:2463-1740122100-1740125700@camasfootball.com
SUMMARY:Champions Hour
DESCRIPTION:Champions Hour\n7:15 AM – 8:15 AM\n(Weight Room) \nChampions are build in the weight room!
URL:https://camasfootball.com/event/champions-hour-14/
LOCATION:Camas Weight Room\, 26900 SE 15th St.\, Camas\, Washington\, 98607
CATEGORIES:Champions Hour,Varsity/JV Schedule
END:VEVENT
BEGIN:VEVENT
DTSTART;VALUE=DATE:20250221
DTEND;VALUE=DATE:20250222
DTSTAMP:20260424T025956
CREATED:20250204T173117Z
LAST-MODIFIED:20250321T203338Z
UID:2487-1740096000-1740182399@camasfootball.com
SUMMARY:Glazier Clinic - Seattle
DESCRIPTION:Glazier Clinic in Seattle \nDay 1
URL:https://camasfootball.com/event/glazier-clinic-seattle/
LOCATION:Washington
CATEGORIES:Coaches Clinic,Varsity/JV Schedule
END:VEVENT
BEGIN:VEVENT
DTSTART;TZID=America/Los_Angeles:20250220T071500
DTEND;TZID=America/Los_Angeles:20250220T081500
DTSTAMP:20260424T025956
CREATED:20250204T172600Z
LAST-MODIFIED:20250321T203334Z
UID:2460-1740035700-1740039300@camasfootball.com
SUMMARY:Champions Hour
DESCRIPTION:Champions Hour\n7:15 AM – 8:15 AM\n(Weight Room) \nChampions are build in the weight room!
URL:https://camasfootball.com/event/champions-hour-11/
LOCATION:Camas Weight Room\, 26900 SE 15th St.\, Camas\, Washington\, 98607
CATEGORIES:Champions Hour,Varsity/JV Schedule
END:VEVENT
BEGIN:VEVENT
DTSTART;TZID=America/Los_Angeles:20250219T070000
DTEND;TZID=America/Los_Angeles:20250219T081500
DTSTAMP:20260424T025956
CREATED:20250204T171602Z
LAST-MODIFIED:20250321T203328Z
UID:2445-1739948400-1739952900@camasfootball.com
SUMMARY:SAQ Pass #4
DESCRIPTION:Speed Agility Quickness Pass #4\n7:00 AM – 8:15 AM\n(Field House)
URL:https://camasfootball.com/event/saq-pass-4-2/
LOCATION:Field House\, 26900 SE 15th St.\, Camas\, Washington\, 98607
CATEGORIES:Speed Agility Quickness,Varsity/JV Schedule
END:VEVENT
BEGIN:VEVENT
DTSTART;TZID=America/Los_Angeles:20250218T071500
DTEND;TZID=America/Los_Angeles:20250218T081500
DTSTAMP:20260424T025956
CREATED:20250204T172640Z
LAST-MODIFIED:20250321T203321Z
UID:2462-1739862900-1739866500@camasfootball.com
SUMMARY:Champions Hour
DESCRIPTION:Champions Hour\n7:15 AM – 8:15 AM\n(Weight Room) \nChampions are build in the weight room!
URL:https://camasfootball.com/event/champions-hour-13/
LOCATION:Camas Weight Room\, 26900 SE 15th St.\, Camas\, Washington\, 98607
CATEGORIES:Champions Hour,Varsity/JV Schedule
END:VEVENT
BEGIN:VEVENT
DTSTART;VALUE=DATE:20250217
DTEND;VALUE=DATE:20250218
DTSTAMP:20260424T025956
CREATED:20250204T173307Z
LAST-MODIFIED:20250321T203317Z
UID:2497-1739750400-1739836799@camasfootball.com
SUMMARY:No School
DESCRIPTION:
URL:https://camasfootball.com/event/no-school-4/
LOCATION:Washington
CATEGORIES:Frosh Calendar,Varsity/JV Schedule
END:VEVENT
BEGIN:VEVENT
DTSTART;TZID=America/Los_Angeles:20250214T071500
DTEND;TZID=America/Los_Angeles:20250214T081500
DTSTAMP:20260424T025956
CREATED:20250204T172623Z
LAST-MODIFIED:20250321T203313Z
UID:2461-1739517300-1739520900@camasfootball.com
SUMMARY:Champions Hour
DESCRIPTION:Champions Hour\n7:15 AM – 8:15 AM\n(Weight Room) \nChampions are build in the weight room!
URL:https://camasfootball.com/event/champions-hour-12/
LOCATION:Camas Weight Room\, 26900 SE 15th St.\, Camas\, Washington\, 98607
CATEGORIES:Champions Hour,Varsity/JV Schedule
END:VEVENT
BEGIN:VEVENT
DTSTART;TZID=America/Los_Angeles:20250213T071500
DTEND;TZID=America/Los_Angeles:20250213T081500
DTSTAMP:20260424T025956
CREATED:20250204T172534Z
LAST-MODIFIED:20250321T203308Z
UID:2459-1739430900-1739434500@camasfootball.com
SUMMARY:Champions Hour
DESCRIPTION:Champions Hour\n7:15 AM – 8:15 AM\n(Weight Room) \nChampions are build in the weight room!
URL:https://camasfootball.com/event/champions-hour-10/
LOCATION:Camas Weight Room\, 26900 SE 15th St.\, Camas\, Washington\, 98607
CATEGORIES:Champions Hour,Varsity/JV Schedule
END:VEVENT
BEGIN:VEVENT
DTSTART;TZID=America/Los_Angeles:20250212T070000
DTEND;TZID=America/Los_Angeles:20250212T081500
DTSTAMP:20260424T025956
CREATED:20250204T171519Z
LAST-MODIFIED:20250321T203304Z
UID:2443-1739343600-1739348100@camasfootball.com
SUMMARY:SAQ Pass #3
DESCRIPTION:Speed Agility Quickness Pass #3\n7:00 AM – 8:15 AM\n(Field House)
URL:https://camasfootball.com/event/saq-pass-3-2/
LOCATION:Field House\, 26900 SE 15th St.\, Camas\, Washington\, 98607
CATEGORIES:Speed Agility Quickness,Varsity/JV Schedule
END:VEVENT
BEGIN:VEVENT
DTSTART;TZID=America/Los_Angeles:20250211T071500
DTEND;TZID=America/Los_Angeles:20250211T081500
DTSTAMP:20260424T025956
CREATED:20250204T172517Z
LAST-MODIFIED:20250321T203259Z
UID:2458-1739258100-1739261700@camasfootball.com
SUMMARY:Champions Hour
DESCRIPTION:Champions Hour\n7:15 AM – 8:15 AM\n(Weight Room) \nChampions are build in the weight room!
URL:https://camasfootball.com/event/champions-hour-9/
LOCATION:Camas Weight Room\, 26900 SE 15th St.\, Camas\, Washington\, 98607
CATEGORIES:Champions Hour,Varsity/JV Schedule
END:VEVENT
BEGIN:VEVENT
DTSTART;TZID=America/Los_Angeles:20250210T071500
DTEND;TZID=America/Los_Angeles:20250210T081500
DTSTAMP:20260424T025956
CREATED:20250204T172442Z
LAST-MODIFIED:20250321T203253Z
UID:2457-1739171700-1739175300@camasfootball.com
SUMMARY:Champions Hour
DESCRIPTION:Champions Hour\n7:15 AM – 8:15 AM\n(Weight Room) \nChampions are build in the weight room!
URL:https://camasfootball.com/event/champions-hour-8/
LOCATION:Camas Weight Room\, 26900 SE 15th St.\, Camas\, Washington\, 98607
CATEGORIES:Champions Hour,Varsity/JV Schedule
END:VEVENT
BEGIN:VEVENT
DTSTART;TZID=America/Los_Angeles:20250207T071500
DTEND;TZID=America/Los_Angeles:20250207T081500
DTSTAMP:20260424T025956
CREATED:20250204T172350Z
LAST-MODIFIED:20250321T203248Z
UID:2456-1738912500-1738916100@camasfootball.com
SUMMARY:Champions Hour
DESCRIPTION:Champions Hour\n7:15 AM – 8:15 AM\n(Weight Room) \nChampions are build in the weight room!
URL:https://camasfootball.com/event/champions-hour-7/
LOCATION:Camas Weight Room\, 26900 SE 15th St.\, Camas\, Washington\, 98607
CATEGORIES:Champions Hour,Varsity/JV Schedule
END:VEVENT
BEGIN:VEVENT
DTSTART;TZID=America/Los_Angeles:20250206T071500
DTEND;TZID=America/Los_Angeles:20250206T081500
DTSTAMP:20260424T025956
CREATED:20250204T172334Z
LAST-MODIFIED:20250321T203243Z
UID:2455-1738826100-1738829700@camasfootball.com
SUMMARY:Champions Hour
DESCRIPTION:Champions Hour\n7:15 AM – 8:15 AM\n(Weight Room) \nChampions are build in the weight room!
URL:https://camasfootball.com/event/champions-hour-6/
LOCATION:Camas Weight Room\, 26900 SE 15th St.\, Camas\, Washington\, 98607
CATEGORIES:Champions Hour,Varsity/JV Schedule
END:VEVENT
BEGIN:VEVENT
DTSTART;TZID=America/Los_Angeles:20250205T080000
DTEND;TZID=America/Los_Angeles:20250205T090000
DTSTAMP:20260424T025956
CREATED:20250204T172940Z
LAST-MODIFIED:20250321T203240Z
UID:2485-1738742400-1738746000@camasfootball.com
SUMMARY:National Signing Day
DESCRIPTION:National Signing Day
URL:https://camasfootball.com/event/national-signing-day-2/
LOCATION:Main Gym\, 26900 SE 15th St.\, Camas\, Washington\, 98607
CATEGORIES:National Signing Day,Varsity/JV Schedule
END:VEVENT
BEGIN:VEVENT
DTSTART;TZID=America/Los_Angeles:20250205T070000
DTEND;TZID=America/Los_Angeles:20250205T081500
DTSTAMP:20260424T025956
CREATED:20250204T171431Z
LAST-MODIFIED:20250321T203235Z
UID:2441-1738738800-1738743300@camasfootball.com
SUMMARY:SAQ Pass #2
DESCRIPTION:Speed Agility Quickness Pass #2\n7:00 AM – 8:15 AM\n(Field House)
URL:https://camasfootball.com/event/saq-pass-2-2/
LOCATION:Field House\, 26900 SE 15th St.\, Camas\, Washington\, 98607
CATEGORIES:Speed Agility Quickness,Varsity/JV Schedule
END:VEVENT
BEGIN:VEVENT
DTSTART;TZID=America/Los_Angeles:20250204T071500
DTEND;TZID=America/Los_Angeles:20250204T081500
DTSTAMP:20260424T025956
CREATED:20250204T172315Z
LAST-MODIFIED:20250321T203232Z
UID:2454-1738653300-1738656900@camasfootball.com
SUMMARY:Champions Hour
DESCRIPTION:Champions Hour\n7:15 AM – 8:15 AM\n(Weight Room) \nChampions are build in the weight room!
URL:https://camasfootball.com/event/champions-hour-5/
LOCATION:Camas Weight Room\, 26900 SE 15th St.\, Camas\, Washington\, 98607
CATEGORIES:Champions Hour,Varsity/JV Schedule
END:VEVENT
BEGIN:VEVENT
DTSTART;TZID=America/Los_Angeles:20250203T071500
DTEND;TZID=America/Los_Angeles:20250203T081500
DTSTAMP:20260424T025956
CREATED:20250204T172258Z
LAST-MODIFIED:20250321T203228Z
UID:2453-1738566900-1738570500@camasfootball.com
SUMMARY:Champions Hour
DESCRIPTION:Champions Hour\n7:15 AM – 8:15 AM\n(Weight Room) \nChampions are build in the weight room!
URL:https://camasfootball.com/event/champions-hour-4/
LOCATION:Camas Weight Room\, 26900 SE 15th St.\, Camas\, Washington\, 98607
CATEGORIES:Champions Hour,Varsity/JV Schedule
END:VEVENT
BEGIN:VEVENT
DTSTART;TZID=America/Los_Angeles:20250131T071500
DTEND;TZID=America/Los_Angeles:20250131T081500
DTSTAMP:20260424T025956
CREATED:20250204T172230Z
LAST-MODIFIED:20250321T203225Z
UID:2452-1738307700-1738311300@camasfootball.com
SUMMARY:Champions Hour
DESCRIPTION:Champions Hour\n7:15 AM – 8:15 AM\n(Weight Room) \nChampions are build in the weight room!
URL:https://camasfootball.com/event/champions-hour-3/
LOCATION:Camas Weight Room\, 26900 SE 15th St.\, Camas\, Washington\, 98607
CATEGORIES:Champions Hour,Varsity/JV Schedule
END:VEVENT
BEGIN:VEVENT
DTSTART;TZID=America/Los_Angeles:20250130T071500
DTEND;TZID=America/Los_Angeles:20250130T081500
DTSTAMP:20260424T025956
CREATED:20250204T172152Z
LAST-MODIFIED:20250321T203222Z
UID:2451-1738221300-1738224900@camasfootball.com
SUMMARY:Champions Hour
DESCRIPTION:Champions Hour\n7:00 AM – 8:15 AM\n(Weight Room) \nChampions are build in the weight room!
URL:https://camasfootball.com/event/champions-hour-2/
LOCATION:Camas Weight Room\, 26900 SE 15th St.\, Camas\, Washington\, 98607
CATEGORIES:Champions Hour,Varsity/JV Schedule
END:VEVENT
BEGIN:VEVENT
DTSTART;TZID=America/Los_Angeles:20250129T070000
DTEND;TZID=America/Los_Angeles:20250129T081500
DTSTAMP:20260424T025956
CREATED:20250204T171345Z
LAST-MODIFIED:20250321T203437Z
UID:2438-1738134000-1738138500@camasfootball.com
SUMMARY:SAQ Pass #1
DESCRIPTION:Speed Agility Quickness Pass #1\n7:00 AM – 8:15 AM\n(Field House)
URL:https://camasfootball.com/event/saq-pass-1-2/
LOCATION:Field House\, 26900 SE 15th St.\, Camas\, Washington\, 98607
CATEGORIES:Speed Agility Quickness,Varsity/JV Schedule
END:VEVENT
BEGIN:VEVENT
DTSTART;TZID=America/Los_Angeles:20250128T071500
DTEND;TZID=America/Los_Angeles:20250128T081500
DTSTAMP:20260424T025956
CREATED:20250204T171941Z
LAST-MODIFIED:20250321T203434Z
UID:2449-1738048500-1738052100@camasfootball.com
SUMMARY:Champions Hour
DESCRIPTION:Champions Hour\n7:00 AM – 8:15 AM\n(Weight Room) \nChampions are build in the weight room! \n 
URL:https://camasfootball.com/event/champions-hour/
LOCATION:Camas Weight Room\, 26900 SE 15th St.\, Camas\, Washington\, 98607
CATEGORIES:Champions Hour,Varsity/JV Schedule
END:VEVENT
BEGIN:VEVENT
DTSTART;VALUE=DATE:20250127
DTEND;VALUE=DATE:20250128
DTSTAMP:20260424T025956
CREATED:20250204T173259Z
LAST-MODIFIED:20250321T203428Z
UID:2495-1737936000-1738022399@camasfootball.com
SUMMARY:No School
DESCRIPTION:
URL:https://camasfootball.com/event/no-school-3/
LOCATION:Washington
CATEGORIES:Frosh Calendar,Varsity/JV Schedule
END:VEVENT
BEGIN:VEVENT
DTSTART;TZID=America/Los_Angeles:20250113T183000
DTEND;TZID=America/Los_Angeles:20250113T203000
DTSTAMP:20260424T025956
CREATED:20240224T004423Z
LAST-MODIFIED:20250321T203423Z
UID:1249-1736793000-1736800200@camasfootball.com
SUMMARY:#Team_116 Annual Celebration
DESCRIPTION:Join us as we celebrate the end of the 2024 football season and all that Team 116 accomplished including winning the 4A GSHL Championship and a 13-1 season that included a trip to the WIAA 4A State Championship game.
URL:https://camasfootball.com/event/team_116-annual-celebration/
LOCATION:North Commons\, 26900 SE 15th St.\, Camas\, Washington\, 98607
CATEGORIES:Varsity/JV Schedule
END:VEVENT
BEGIN:VEVENT
DTSTART;TZID=America/Los_Angeles:20241207T190000
DTEND;TZID=America/Los_Angeles:20241207T220000
DTSTAMP:20260424T025956
CREATED:20240224T004153Z
LAST-MODIFIED:20241126T032230Z
UID:1243-1733598000-1733608800@camasfootball.com
SUMMARY:Varsity Game WIAA State Championship Game
DESCRIPTION:Varsity\, WIAA 4A State Championship Game at Husky Stadium.
URL:https://camasfootball.com/event/varsity-game-wiaa-state-championship-game/
LOCATION:Husky Stadium\, 3800 Montlake Blvd NE\, Seattle\, Washington\, 98105
CATEGORIES:Football Games
END:VEVENT
BEGIN:VEVENT
DTSTART;VALUE=DATE:20241206
DTEND;VALUE=DATE:20241207
DTSTAMP:20260424T025956
CREATED:20240224T002451Z
LAST-MODIFIED:20241126T032011Z
UID:1214-1733443200-1733529599@camasfootball.com
SUMMARY:Practice
DESCRIPTION:Friday Varsity/J.V. Practice \nFull Pac \nSEE FINAL FORMS WEEKLY ANNOUNCEMENT FOR UPDATED TIMES
URL:https://camasfootball.com/event/practice-49/
LOCATION:Cardon Field\, 26900 SE 15th St.\, Camas\, Washington\, 98607
CATEGORIES:Varsity Practice
END:VEVENT
BEGIN:VEVENT
DTSTART;VALUE=DATE:20241205
DTEND;VALUE=DATE:20241206
DTSTAMP:20260424T025956
CREATED:20240224T002853Z
LAST-MODIFIED:20241126T032007Z
UID:1211-1733356800-1733443199@camasfootball.com
SUMMARY:Practice
DESCRIPTION:Thursday Varsity/J.V. Practice \nFull Pac \nSEE FINAL FORMS WEEKLY ANNOUNCEMENT FOR UPDATED TIMES
URL:https://camasfootball.com/event/practice-58/
LOCATION:Cardon Field\, 26900 SE 15th St.\, Camas\, Washington\, 98607
CATEGORIES:Varsity Practice
END:VEVENT
END:VCALENDAR