BEGIN:VCALENDAR
VERSION:2.0
PRODID:-//Camas Football - ECPv6.15.3//NONSGML v1.0//EN
CALSCALE:GREGORIAN
METHOD:PUBLISH
X-WR-CALNAME:Camas Football
X-ORIGINAL-URL:https://camasfootball.com
X-WR-CALDESC:Events for Camas Football
REFRESH-INTERVAL;VALUE=DURATION:PT1H
X-Robots-Tag:noindex
X-PUBLISHED-TTL:PT1H
BEGIN:VTIMEZONE
TZID:America/Los_Angeles
BEGIN:DAYLIGHT
TZOFFSETFROM:-0800
TZOFFSETTO:-0700
TZNAME:PDT
DTSTART:20240310T100000
END:DAYLIGHT
BEGIN:STANDARD
TZOFFSETFROM:-0700
TZOFFSETTO:-0800
TZNAME:PST
DTSTART:20241103T090000
END:STANDARD
END:VTIMEZONE
BEGIN:VEVENT
DTSTART;TZID=America/Los_Angeles:20240805T183000
DTEND;TZID=America/Los_Angeles:20240805T200000
DTSTAMP:20260423T130035
CREATED:20240223T110632Z
LAST-MODIFIED:20240308T041259Z
UID:1028-1722882600-1722888000@camasfootball.com
SUMMARY:Future Champions Youth Football Camp Day 1
DESCRIPTION:Future Champions Youth Football Camp Day 1 \n2nd – 8th Grade \nThis camp is for beginner to intermediate level youth football players. Join in the fun as we instruct and practice the basics of football position specific skills with some of SW WA best high school players! This traditional “Big Guys – Little Guys” Camp will focus mostly on position specific fundaments in a manner that will not only be enjoyable\, but will undoubtedly translate into a fun and successful venture into youth football. Bring a water bottle and wear athletic attire (athletic shoes or molded cleats). \nThe camp will be coached by members of the CHS 2024 High School football program\, with director oversight from Camas Head Football Coach Adam Mathieson and members of the CHS football Coaching staff.
URL:https://camasfootball.com/event/future-champions-youth-football-camp-day-1/
LOCATION:Cardon Field\, 26900 SE 15th St.\, Camas\, Washington\, 98607
CATEGORIES:Youth Football Camp
END:VEVENT
BEGIN:VEVENT
DTSTART;TZID=America/Los_Angeles:20240727T130000
DTEND;TZID=America/Los_Angeles:20240727T160000
DTSTAMP:20260423T130035
CREATED:20240223T101333Z
LAST-MODIFIED:20240308T041159Z
UID:976-1722085200-1722096000@camasfootball.com
SUMMARY:#ToTheTop QB Camp Day 2 Session II
DESCRIPTION:#ToTheTop QB Camp Day 2 Session II \n3rd – 12th (Event is open to all students\, not just Camas’ residents) \nThis camp is for beginner through advanced level youth and high school football players interested in advancing their skills as a quarterback. This two-day immersion camp will focus on grade level appropriate fundaments and overall quarterback development\, as instructed by some of the best QB coaches in the country. Join in the development as we instruct\, practice and compete in this one-of-a-kind regional quarterback training event. Bring a water bottle and wear athletic attire (athletic shoes or molded cleats). \nNote: There will be a 1-hour break on Saturday for lunch. Campers are expected to bring their own lunch or there are several eating options available within 10 minutes’ drive of campus. \nAdditionally\, there will be a session Saturday afternoon devoted to educating parents\, students and guests about the world of recruiting\, personal nutrition and how best to maximize one’s athletic experience moving forward. \n\nFriday Evening Session: 5 PM – 8 PM\nSaturday: Session I: 9 AM – 12 PM\nLunch Break: 12 PM – 1 PM\nSaturday: Session II: 1 PM – 4 PM\n\nThe camp will be directed by Camas High School Head Football Coach Adam Mathieson\, and will feature prominent regional and national quarterback trainers.
URL:https://camasfootball.com/event/tothetop-qb-camp-day-2-session-ii/
LOCATION:Cardon Field\, 26900 SE 15th St.\, Camas\, Washington\, 98607
CATEGORIES:Youth Football Camp
END:VEVENT
BEGIN:VEVENT
DTSTART;TZID=America/Los_Angeles:20240727T090000
DTEND;TZID=America/Los_Angeles:20240727T120000
DTSTAMP:20260423T130035
CREATED:20240223T101232Z
LAST-MODIFIED:20240308T041155Z
UID:974-1722070800-1722081600@camasfootball.com
SUMMARY:#ToTheTop QB Camp Day 2 Session I
DESCRIPTION:#ToTheTop QB Camp Day 2 Session I \n3rd – 12th (Event is open to all students\, not just Camas’ residents) \nThis camp is for beginner through advanced level youth and high school football players interested in advancing their skills as a quarterback. This two-day immersion camp will focus on grade level appropriate fundaments and overall quarterback development\, as instructed by some of the best QB coaches in the country. Join in the development as we instruct\, practice and compete in this one-of-a-kind regional quarterback training event. Bring a water bottle and wear athletic attire (athletic shoes or molded cleats). \nNote: There will be a 1-hour break on Saturday for lunch. Campers are expected to bring their own lunch or there are several eating options available within 10 minutes’ drive of campus. \nAdditionally\, there will be a session Saturday afternoon devoted to educating parents\, students and guests about the world of recruiting\, personal nutrition and how best to maximize one’s athletic experience moving forward. \n\nFriday Evening Session: 5 PM – 8 PM\nSaturday: Session I: 9 AM – 12 PM\nLunch Break: 12 PM – 1 PM\nSaturday: Session II: 1 PM – 4 PM\n\nThe camp will be directed by Camas High School Head Football Coach Adam Mathieson\, and will feature prominent regional and national quarterback trainers.
URL:https://camasfootball.com/event/tothetop-qb-camp-day-2-session-i/
LOCATION:Cardon Field\, 26900 SE 15th St.\, Camas\, Washington\, 98607
CATEGORIES:Youth Football Camp
END:VEVENT
BEGIN:VEVENT
DTSTART;TZID=America/Los_Angeles:20240726T170000
DTEND;TZID=America/Los_Angeles:20240726T200000
DTSTAMP:20260423T130035
CREATED:20240223T101100Z
LAST-MODIFIED:20240308T041151Z
UID:972-1722013200-1722024000@camasfootball.com
SUMMARY:#ToTheTop QB Camp Day 1
DESCRIPTION:#ToTheTop QB Camp Day 1 \n3rd – 12th (Event is open to all students\, not just Camas’ residents) \nThis camp is for beginner through advanced level youth and high school football players interested in advancing their skills as a quarterback. This two-day immersion camp will focus on grade level appropriate fundaments and overall quarterback development\, as instructed by some of the best QB coaches in the country. Join in the development as we instruct\, practice and compete in this one-of-a-kind regional quarterback training event. Bring a water bottle and wear athletic attire (athletic shoes or molded cleats). \nNote: There will be a 1-hour break on Saturday for lunch. Campers are expected to bring their own lunch or there are several eating options available within 10 minutes’ drive of campus. \nAdditionally\, there will be a session Saturday afternoon devoted to educating parents\, students and guests about the world of recruiting\, personal nutrition and how best to maximize one’s athletic experience moving forward. \n\nFriday Evening Session: 5 PM – 8 PM\nSaturday: Session I: 9 AM – 12 PM\nLunch Break: 12 PM – 1 PM\nSaturday: Session II: 1 PM – 4 PM\n\nThe camp will be directed by Camas High School Head Football Coach Adam Mathieson\, and will feature prominent regional and national quarterback trainers.
URL:https://camasfootball.com/event/tothetop-qb-camp-day-1/
LOCATION:Cardon Field\, 26900 SE 15th St.\, Camas\, Washington\, 98607
CATEGORIES:Youth Football Camp
END:VEVENT
BEGIN:VEVENT
DTSTART;TZID=America/Los_Angeles:20240519T163000
DTEND;TZID=America/Los_Angeles:20240519T173000
DTSTAMP:20260423T130035
CREATED:20240223T070957Z
LAST-MODIFIED:20240308T040646Z
UID:936-1716136200-1716139800@camasfootball.com
SUMMARY:#ToTheTop Youth Football Skills Camp - Grade: 5-7 Week 6
DESCRIPTION:#ToTheTop Youth Football Skills Camp – Week 6 \n5th – 7th Grade\, Code: 3043-24\nFlag Games \nThis camp is for beginner to intermediate level youth football players. Join in the fun as we instruct and practice the basics of football position specific skills with some of SW WA best high school players! This traditional “Big Guys – Little Guys” Camp will focus mostly on position specific fundaments in a manner that will not only be enjoyable\, but will undoubtedly translate into a fun and successful venture into youth football. Bring a water bottle and wear athletic attire (athletic shoes or molded cleats). \nThe camp will be coached by members of the CHS 2024 High School football program\, with director oversight from Camas Head Football Coach Adam Mathieson and members of the CHS football Coaching staff. \n$99 for all 6 Weeks \nThis is a 6 week camp that meets every Sunday from April 14 through May 19.
URL:https://camasfootball.com/event/tothetop-youth-football-skills-camp-grade-5-7-week-6/
LOCATION:Field House\, 26900 SE 15th St.\, Camas\, Washington\, 98607
CATEGORIES:Youth Football Camp
END:VEVENT
BEGIN:VEVENT
DTSTART;TZID=America/Los_Angeles:20240519T150000
DTEND;TZID=America/Los_Angeles:20240519T160000
DTSTAMP:20260423T130035
CREATED:20240223T014711Z
LAST-MODIFIED:20240308T040641Z
UID:766-1716130800-1716134400@camasfootball.com
SUMMARY:#ToTheTop Youth Football Skills Camp - Grade: 2-4 Week 6
DESCRIPTION:#ToTheTop Youth Football Skills Camp – Week 6 \n2nd – 4th Grade\, Code: 3042-24\nFlag Games \nThis camp is for beginner to intermediate level youth football players. Join in the fun as we instruct and practice the basics of football position specific skills with some of SW WA best high school players! This traditional “Big Guys – Little Guys” Camp will focus mostly on position specific fundaments in a manner that will not only be enjoyable\, but will undoubtedly translate into a fun and successful venture into youth football. Bring a water bottle and wear athletic attire (athletic shoes or molded cleats). \nThe camp will be coached by members of the CHS 2024 High School football program\, with director oversight from Camas Head Football Coach Adam Mathieson and members of the CHS football Coaching staff. \n$99 for all 6 Weeks \nThis is a 6 week camp that meets every Sunday from April 14 through May 19.
URL:https://camasfootball.com/event/tothetop-youth-football-skills-camp-week-6-2/
LOCATION:Cardon Field\, 26900 SE 15th St.\, Camas\, Washington\, 98607
CATEGORIES:Youth Football Camp
END:VEVENT
BEGIN:VEVENT
DTSTART;TZID=America/Los_Angeles:20240512T163000
DTEND;TZID=America/Los_Angeles:20240512T173000
DTSTAMP:20260423T130035
CREATED:20240223T070910Z
LAST-MODIFIED:20240308T040423Z
UID:934-1715531400-1715535000@camasfootball.com
SUMMARY:#ToTheTop Youth Football Skills Camp - Grade: 5-7 Week 5
DESCRIPTION:#ToTheTop Youth Football Skills Camp – Week 5 \n5th – 7th Grade\, Code: 3043-24\nDB & LB Focus \nThis camp is for beginner to intermediate level youth football players. Join in the fun as we instruct and practice the basics of football position specific skills with some of SW WA best high school players! This traditional “Big Guys – Little Guys” Camp will focus mostly on position specific fundaments in a manner that will not only be enjoyable\, but will undoubtedly translate into a fun and successful venture into youth football. Bring a water bottle and wear athletic attire (athletic shoes or molded cleats). \nThe camp will be coached by members of the CHS 2024 High School football program\, with director oversight from Camas Head Football Coach Adam Mathieson and members of the CHS football Coaching staff. \n$99 for all 6 Weeks \nThis is a 6 week camp that meets every Sunday from April 14 through May 19.
URL:https://camasfootball.com/event/tothetop-youth-football-skills-camp-grade-5-7-week-5/
LOCATION:Field House\, 26900 SE 15th St.\, Camas\, Washington\, 98607
CATEGORIES:Youth Football Camp
END:VEVENT
BEGIN:VEVENT
DTSTART;TZID=America/Los_Angeles:20240512T150000
DTEND;TZID=America/Los_Angeles:20240512T160000
DTSTAMP:20260423T130035
CREATED:20240223T015134Z
LAST-MODIFIED:20240308T040419Z
UID:774-1715526000-1715529600@camasfootball.com
SUMMARY:#ToTheTop Youth Football Skills Camp - Grade: 2-4 Week 5
DESCRIPTION:#ToTheTop Youth Football Skills Camp – Week 5 \n2nd – 4th Grade\, Code: 3042-24\nDB & LB Focus \nThis camp is for beginner to intermediate level youth football players. Join in the fun as we instruct and practice the basics of football position specific skills with some of SW WA best high school players! This traditional “Big Guys – Little Guys” Camp will focus mostly on position specific fundaments in a manner that will not only be enjoyable\, but will undoubtedly translate into a fun and successful venture into youth football. Bring a water bottle and wear athletic attire (athletic shoes or molded cleats). \nThe camp will be coached by members of the CHS 2024 High School football program\, with director oversight from Camas Head Football Coach Adam Mathieson and members of the CHS football Coaching staff. \n$99 for all 6 Weeks \nThis is a 6 week camp that meets every Sunday from April 14 through May 19.
URL:https://camasfootball.com/event/tothetop-youth-football-skills-camp-week-5/
LOCATION:Field House\, 26900 SE 15th St.\, Camas\, Washington\, 98607
CATEGORIES:Youth Football Camp
END:VEVENT
BEGIN:VEVENT
DTSTART;TZID=America/Los_Angeles:20240505T163000
DTEND;TZID=America/Los_Angeles:20240505T173000
DTSTAMP:20260423T130035
CREATED:20240223T070817Z
LAST-MODIFIED:20240308T040403Z
UID:932-1714926600-1714930200@camasfootball.com
SUMMARY:#ToTheTop Youth Football Skills Camp - Grade: 5-7 Week 4
DESCRIPTION:#ToTheTop Youth Football Skills Camp – Week 4 \n5th – 7th Grade\, Code: 3043-24\nDB & LB Focus \nThis camp is for beginner to intermediate level youth football players. Join in the fun as we instruct and practice the basics of football position specific skills with some of SW WA best high school players! This traditional “Big Guys – Little Guys” Camp will focus mostly on position specific fundaments in a manner that will not only be enjoyable\, but will undoubtedly translate into a fun and successful venture into youth football. Bring a water bottle and wear athletic attire (athletic shoes or molded cleats). \nThe camp will be coached by members of the CHS 2024 High School football program\, with director oversight from Camas Head Football Coach Adam Mathieson and members of the CHS football Coaching staff. \n$99 for all 6 Weeks \nThis is a 6 week camp that meets every Sunday from April 14 through May 19.
URL:https://camasfootball.com/event/tothetop-youth-football-skills-camp-grade-5-7-week-4/
LOCATION:Field House\, 26900 SE 15th St.\, Camas\, Washington\, 98607
CATEGORIES:Youth Football Camp
END:VEVENT
BEGIN:VEVENT
DTSTART;TZID=America/Los_Angeles:20240505T150000
DTEND;TZID=America/Los_Angeles:20240505T160000
DTSTAMP:20260423T130035
CREATED:20240223T014526Z
LAST-MODIFIED:20240308T040359Z
UID:762-1714921200-1714924800@camasfootball.com
SUMMARY:#ToTheTop Youth Football Skills Camp - Grade: 2-4 Week 4
DESCRIPTION:#ToTheTop Youth Football Skills Camp – Week 4 \n2nd – 4th Grade\, Code: 3042-24\nDB & LB Focus \nThis camp is for beginner to intermediate level youth football players. Join in the fun as we instruct and practice the basics of football position specific skills with some of SW WA best high school players! This traditional “Big Guys – Little Guys” Camp will focus mostly on position specific fundaments in a manner that will not only be enjoyable\, but will undoubtedly translate into a fun and successful venture into youth football. Bring a water bottle and wear athletic attire (athletic shoes or molded cleats). \nThe camp will be coached by members of the CHS 2024 High School football program\, with director oversight from Camas Head Football Coach Adam Mathieson and members of the CHS football Coaching staff. \n$99 for all 6 Weeks \nThis is a 6 week camp that meets every Sunday from April 14 through May 19.
URL:https://camasfootball.com/event/tothetop-youth-football-skills-camp-week-4/
LOCATION:Field House\, 26900 SE 15th St.\, Camas\, Washington\, 98607
CATEGORIES:Youth Football Camp
END:VEVENT
BEGIN:VEVENT
DTSTART;TZID=America/Los_Angeles:20240428T163000
DTEND;TZID=America/Los_Angeles:20240428T173000
DTSTAMP:20260423T130035
CREATED:20240223T070700Z
LAST-MODIFIED:20240308T040351Z
UID:930-1714321800-1714325400@camasfootball.com
SUMMARY:#ToTheTop Youth Football Skills Camp - Grade: 5-7 Week 3
DESCRIPTION:#ToTheTop Youth Football Skills Camp – Week 3 \n5th – 7th Grade\, Code: 3043-24\nQB\, RB & WR Focus \nThis camp is for beginner to intermediate level youth football players. Join in the fun as we instruct and practice the basics of football position specific skills with some of SW WA best high school players! This traditional “Big Guys – Little Guys” Camp will focus mostly on position specific fundaments in a manner that will not only be enjoyable\, but will undoubtedly translate into a fun and successful venture into youth football. Bring a water bottle and wear athletic attire (athletic shoes or molded cleats). \nThe camp will be coached by members of the CHS 2024 High School football program\, with director oversight from Camas Head Football Coach Adam Mathieson and members of the CHS football Coaching staff. \n$99 for all 6 Weeks \nThis is a 6 week camp that meets every Sunday from April 14 through May 19.
URL:https://camasfootball.com/event/tothetop-youth-football-skills-camp-grade-5-7-week-3/
LOCATION:Field House\, 26900 SE 15th St.\, Camas\, Washington\, 98607
CATEGORIES:Youth Football Camp
END:VEVENT
BEGIN:VEVENT
DTSTART;TZID=America/Los_Angeles:20240428T150000
DTEND;TZID=America/Los_Angeles:20240428T160000
DTSTAMP:20260423T130035
CREATED:20240223T014414Z
LAST-MODIFIED:20240308T040348Z
UID:760-1714316400-1714320000@camasfootball.com
SUMMARY:#ToTheTop Youth Football Skills Camp - Grade: 2-4 Week 3
DESCRIPTION:#ToTheTop Youth Football Skills Camp – Week 3 \n2nd – 4th Grade\, Code: 3042-24\nQB\, RB & WR Focus \nThis camp is for beginner to intermediate level youth football players. Join in the fun as we instruct and practice the basics of football position specific skills with some of SW WA best high school players! This traditional “Big Guys – Little Guys” Camp will focus mostly on position specific fundaments in a manner that will not only be enjoyable\, but will undoubtedly translate into a fun and successful venture into youth football. Bring a water bottle and wear athletic attire (athletic shoes or molded cleats). \nThe camp will be coached by members of the CHS 2024 High School football program\, with director oversight from Camas Head Football Coach Adam Mathieson and members of the CHS football Coaching staff. \n$99 for all 6 Weeks \nThis is a 6 week camp that meets every Sunday from April 14 through May 19.
URL:https://camasfootball.com/event/tothetop-youth-football-skills-camp-week-3/
LOCATION:Field House\, 26900 SE 15th St.\, Camas\, Washington\, 98607
CATEGORIES:Youth Football Camp
END:VEVENT
BEGIN:VEVENT
DTSTART;TZID=America/Los_Angeles:20240421T163000
DTEND;TZID=America/Los_Angeles:20240421T173000
DTSTAMP:20260423T130035
CREATED:20240223T070613Z
LAST-MODIFIED:20240308T040339Z
UID:928-1713717000-1713720600@camasfootball.com
SUMMARY:#ToTheTop Youth Football Skills Camp - Grade: 5-7 Week 2
DESCRIPTION:#ToTheTop Youth Football Skills Camp – Week 2 \n5th – 7th Grade\, Code: 3043-24\nQB & WR Focus \nThis camp is for beginner to intermediate level youth football players. Join in the fun as we instruct and practice the basics of football position specific skills with some of SW WA best high school players! This traditional “Big Guys – Little Guys” Camp will focus mostly on position specific fundaments in a manner that will not only be enjoyable\, but will undoubtedly translate into a fun and successful venture into youth football. Bring a water bottle and wear athletic attire (athletic shoes or molded cleats). \nThe camp will be coached by members of the CHS 2024 High School football program\, with director oversight from Camas Head Football Coach Adam Mathieson and members of the CHS football Coaching staff. \n$99 for all 6 Weeks \nThis is a 6 week camp that meets every Sunday from April 14 through May 19.
URL:https://camasfootball.com/event/tothetop-youth-football-skills-camp-grade-5-7-week-2/
LOCATION:Field House\, 26900 SE 15th St.\, Camas\, Washington\, 98607
CATEGORIES:Youth Football Camp
END:VEVENT
BEGIN:VEVENT
DTSTART;TZID=America/Los_Angeles:20240421T150000
DTEND;TZID=America/Los_Angeles:20240421T160000
DTSTAMP:20260423T130035
CREATED:20240223T014257Z
LAST-MODIFIED:20240308T040335Z
UID:758-1713711600-1713715200@camasfootball.com
SUMMARY:#ToTheTop Youth Football Skills Camp - Grade: 2-4 Week 2
DESCRIPTION:#ToTheTop Youth Football Skills Camp – Week 2 \n2nd – 4th Grade\, Code: 3042-24\nQB & WR Focus \nThis camp is for beginner to intermediate level youth football players. Join in the fun as we instruct and practice the basics of football position specific skills with some of SW WA best high school players! This traditional “Big Guys – Little Guys” Camp will focus mostly on position specific fundaments in a manner that will not only be enjoyable\, but will undoubtedly translate into a fun and successful venture into youth football. Bring a water bottle and wear athletic attire (athletic shoes or molded cleats). \nThe camp will be coached by members of the CHS 2024 High School football program\, with director oversight from Camas Head Football Coach Adam Mathieson and members of the CHS football Coaching staff. \n$99 for all 6 Weeks \nThis is a 6 week camp that meets every Sunday from April 14 through May 19.
URL:https://camasfootball.com/event/tothetop-youth-football-skills-camp-week-2/
LOCATION:Field House\, 26900 SE 15th St.\, Camas\, Washington\, 98607
CATEGORIES:Youth Football Camp
END:VEVENT
BEGIN:VEVENT
DTSTART;TZID=America/Los_Angeles:20240414T163000
DTEND;TZID=America/Los_Angeles:20240414T173000
DTSTAMP:20260423T130035
CREATED:20240223T070500Z
LAST-MODIFIED:20240308T035939Z
UID:926-1713112200-1713115800@camasfootball.com
SUMMARY:#ToTheTop Youth Football Skills Camp - Grade: 5-7 Week 1
DESCRIPTION:#ToTheTop Youth Football Skills Camp – Week 1 \n4th – 7th Grade\, Code: 3043-24\nQB & RB Focus \nThis camp is for beginner to intermediate level youth football players. Join in the fun as we instruct and practice the basics of football position specific skills with some of SW WA best high school players! This traditional “Big Guys – Little Guys” Camp will focus mostly on position specific fundaments in a manner that will not only be enjoyable\, but will undoubtedly translate into a fun and successful venture into youth football. Bring a water bottle and wear athletic attire (athletic shoes or molded cleats). \nThe camp will be coached by members of the CHS 2024 High School football program\, with director oversight from Camas Head Football Coach Adam Mathieson and members of the CHS football Coaching staff. \n$99 for all 6 Weeks \nThis is a 6 week camp that meets every Sunday from April 14 through May 19.
URL:https://camasfootball.com/event/tothetop-youth-football-skills-camp-grade-5-7-week-1/
LOCATION:Field House\, 26900 SE 15th St.\, Camas\, Washington\, 98607
CATEGORIES:Youth Football Camp
END:VEVENT
BEGIN:VEVENT
DTSTART;TZID=America/Los_Angeles:20240414T150000
DTEND;TZID=America/Los_Angeles:20240414T160000
DTSTAMP:20260423T130035
CREATED:20240222T044627Z
LAST-MODIFIED:20240308T035927Z
UID:752-1713106800-1713110400@camasfootball.com
SUMMARY:#ToTheTop Youth Football Skills Camp - Grade: 2-4 Week 1
DESCRIPTION:#ToTheTop Youth Football Skills Camp – Week 1 \n2nd – 4th Grade\, Code: 3042-24\nQB & RB Focus \nThis camp is for beginner to intermediate level youth football players. Join in the fun as we instruct and practice the basics of football position specific skills with some of SW WA best high school players! This traditional “Big Guys – Little Guys” Camp will focus mostly on position specific fundaments in a manner that will not only be enjoyable\, but will undoubtedly translate into a fun and successful venture into youth football. Bring a water bottle and wear athletic attire (athletic shoes or molded cleats). \nThe camp will be coached by members of the CHS 2024 High School football program\, with director oversight from Camas Head Football Coach Adam Mathieson and members of the CHS football Coaching staff. \n$99 for all 6 Weeks \nThis is a 6 week camp that meets every Sunday from April 14 through May 19.
URL:https://camasfootball.com/event/tothetop-youth-football-skills-camp-week-1/
LOCATION:Field House\, 26900 SE 15th St.\, Camas\, Washington\, 98607
CATEGORIES:Youth Football Camp
END:VEVENT
END:VCALENDAR