BEGIN:VCALENDAR
VERSION:2.0
PRODID:-//Camas Football - ECPv6.15.3//NONSGML v1.0//EN
CALSCALE:GREGORIAN
METHOD:PUBLISH
X-ORIGINAL-URL:https://camasfootball.com
X-WR-CALDESC:Events for Camas Football
REFRESH-INTERVAL;VALUE=DURATION:PT1H
X-Robots-Tag:noindex
X-PUBLISHED-TTL:PT1H
BEGIN:VTIMEZONE
TZID:America/Los_Angeles
BEGIN:DAYLIGHT
TZOFFSETFROM:-0800
TZOFFSETTO:-0700
TZNAME:PDT
DTSTART:20240310T100000
END:DAYLIGHT
BEGIN:STANDARD
TZOFFSETFROM:-0700
TZOFFSETTO:-0800
TZNAME:PST
DTSTART:20241103T090000
END:STANDARD
END:VTIMEZONE
BEGIN:VEVENT
DTSTART;TZID=America/Los_Angeles:20240428T183000
DTEND;TZID=America/Los_Angeles:20240428T200000
DTSTAMP:20260425T045712
CREATED:20240408T062457Z
LAST-MODIFIED:20240418T164851Z
UID:1817-1714329000-1714334400@camasfootball.com
SUMMARY:Youth Coaches Summit I
DESCRIPTION:Youth Coaches Summit I at Round Table Pizza in Camas.
URL:https://camasfootball.com/event/youth-coaches-summit-i/
LOCATION:Round Table Pizza\, Camas\, 3136 NE 3rd Avenue\, Camas\, WA\, 98607
CATEGORIES:Frosh Calendar,Youth Coaches Summit
END:VEVENT
END:VCALENDAR