BEGIN:VCALENDAR
VERSION:2.0
PRODID:-//Camas Football - ECPv6.15.3//NONSGML v1.0//EN
CALSCALE:GREGORIAN
METHOD:PUBLISH
X-ORIGINAL-URL:https://camasfootball.com
X-WR-CALDESC:Events for Camas Football
REFRESH-INTERVAL;VALUE=DURATION:PT1H
X-Robots-Tag:noindex
X-PUBLISHED-TTL:PT1H
BEGIN:VTIMEZONE
TZID:America/Los_Angeles
BEGIN:DAYLIGHT
TZOFFSETFROM:-0800
TZOFFSETTO:-0700
TZNAME:PDT
DTSTART:20250309T100000
END:DAYLIGHT
BEGIN:STANDARD
TZOFFSETFROM:-0700
TZOFFSETTO:-0800
TZNAME:PST
DTSTART:20251102T090000
END:STANDARD
END:VTIMEZONE
BEGIN:VEVENT
DTSTART;TZID=America/Los_Angeles:20251015T034500
DTEND;TZID=America/Los_Angeles:20251015T181500
DTSTAMP:20260423T162941
CREATED:20250205T044733Z
LAST-MODIFIED:20250321T185818Z
UID:3007-1760499900-1760552100@camasfootball.com
SUMMARY:Practice
DESCRIPTION:Wednesday Varsity/J.V. Practice \nFull Pac
URL:https://camasfootball.com/event/practice-101/
LOCATION:Cardon Field\, 26900 SE 15th St.\, Camas\, Washington\, 98607
CATEGORIES:Varsity Practice,Varsity/JV Schedule
END:VEVENT
BEGIN:VEVENT
DTSTART;TZID=America/Los_Angeles:20251014T154500
DTEND;TZID=America/Los_Angeles:20251014T181500
DTSTAMP:20260423T162941
CREATED:20250205T044712Z
LAST-MODIFIED:20250321T185823Z
UID:3006-1760456700-1760465700@camasfootball.com
SUMMARY:Practice
DESCRIPTION:Tuesday Varsity/J.V. Practice \nFull Pac
URL:https://camasfootball.com/event/practice-100/
LOCATION:Cardon Field\, 26900 SE 15th St.\, Camas\, Washington\, 98607
CATEGORIES:Varsity Practice,Varsity/JV Schedule
END:VEVENT
BEGIN:VEVENT
DTSTART;TZID=America/Los_Angeles:20251013T160000
DTEND;TZID=America/Los_Angeles:20251013T180000
DTSTAMP:20260423T162941
CREATED:20250205T043154Z
LAST-MODIFIED:20250321T185830Z
UID:2971-1760371200-1760378400@camasfootball.com
SUMMARY:Practice
DESCRIPTION:Monday Varsity/J.V. Practice \n1/2 Pac
URL:https://camasfootball.com/event/practice-79/
LOCATION:Cardon Field\, 26900 SE 15th St.\, Camas\, Washington\, 98607
CATEGORIES:Varsity Practice,Varsity/JV Schedule
END:VEVENT
BEGIN:VEVENT
DTSTART;VALUE=DATE:20251013
DTEND;VALUE=DATE:20251014
DTSTAMP:20260423T162941
CREATED:20250818T234203Z
LAST-MODIFIED:20250818T234203Z
UID:3854-1760313600-1760399999@camasfootball.com
SUMMARY:JV Game #6 Skyview
DESCRIPTION:JV Game #6 \nat Skyview \nPlease visit Arbiter for all game updates including date\, time and location.
URL:https://camasfootball.com/event/jv-game-6-skyview/
LOCATION:Skyview High School\, 1300 NW 139th St\, Vancouver\, 98685\, United States
CATEGORIES:Football Games,Varsity/JV Schedule
END:VEVENT
BEGIN:VEVENT
DTSTART;VALUE=DATE:20251012
DTEND;VALUE=DATE:20251013
DTSTAMP:20260423T162941
CREATED:20250205T025426Z
LAST-MODIFIED:20250321T185834Z
UID:2885-1760227200-1760313599@camasfootball.com
SUMMARY:Staff Meeting
DESCRIPTION:Staff Meeting \nTime/Location TBD
URL:https://camasfootball.com/event/staff-meeting-19/
LOCATION:Washington
CATEGORIES:Staff Meeting,Varsity/JV Schedule
END:VEVENT
BEGIN:VEVENT
DTSTART;VALUE=DATE:20251010
DTEND;VALUE=DATE:20251011
DTSTAMP:20260423T162941
CREATED:20250205T034327Z
LAST-MODIFIED:20250818T232940Z
UID:2940-1760054400-1760140799@camasfootball.com
SUMMARY:Varsity Game #6 Monroe
DESCRIPTION:Varsity Game #6 \nvs Monroe \nPlease visit Arbiter for all game updates including date\, time and location.
URL:https://camasfootball.com/event/varsity-game-6-2/
LOCATION:Doc Harris Stadium\, 841 NE 22nd Ave.\, Camas\, Washington\, 98607
CATEGORIES:Football Games,Varsity/JV Schedule
END:VEVENT
BEGIN:VEVENT
DTSTART;TZID=America/Los_Angeles:20251009T153000
DTEND;TZID=America/Los_Angeles:20251009T174500
DTSTAMP:20260423T162941
CREATED:20250205T033219Z
LAST-MODIFIED:20250321T185945Z
UID:2912-1760023800-1760031900@camasfootball.com
SUMMARY:Practice
DESCRIPTION:Thursday Varsity/J.V. Practice \nFull Pac
URL:https://camasfootball.com/event/practice-65/
LOCATION:Cardon Field\, 26900 SE 15th St.\, Camas\, Washington\, 98607
CATEGORIES:Varsity Practice,Varsity/JV Schedule
END:VEVENT
BEGIN:VEVENT
DTSTART;TZID=America/Los_Angeles:20251008T154500
DTEND;TZID=America/Los_Angeles:20251008T181500
DTSTAMP:20260423T162941
CREATED:20250205T044650Z
LAST-MODIFIED:20250321T185941Z
UID:3005-1759938300-1759947300@camasfootball.com
SUMMARY:Practice
DESCRIPTION:Wednesday Varsity/J.V. Practice \nFull Pac
URL:https://camasfootball.com/event/practice-99/
LOCATION:Cardon Field\, 26900 SE 15th St.\, Camas\, Washington\, 98607
CATEGORIES:Varsity Practice,Varsity/JV Schedule
END:VEVENT
BEGIN:VEVENT
DTSTART;TZID=America/Los_Angeles:20251007T154500
DTEND;TZID=America/Los_Angeles:20251007T181500
DTSTAMP:20260423T162941
CREATED:20250205T044630Z
LAST-MODIFIED:20250321T185937Z
UID:3004-1759851900-1759860900@camasfootball.com
SUMMARY:Practice
DESCRIPTION:Tuesday Varsity/J.V. Practice \nFull Pac
URL:https://camasfootball.com/event/practice-98/
LOCATION:Cardon Field\, 26900 SE 15th St.\, Camas\, Washington\, 98607
CATEGORIES:Varsity Practice,Varsity/JV Schedule
END:VEVENT
BEGIN:VEVENT
DTSTART;TZID=America/Los_Angeles:20251006T160000
DTEND;TZID=America/Los_Angeles:20251006T180000
DTSTAMP:20260423T162941
CREATED:20250205T043131Z
LAST-MODIFIED:20250321T185934Z
UID:2970-1759766400-1759773600@camasfootball.com
SUMMARY:Practice
DESCRIPTION:Monday Varsity/J.V. Practice \n1/2 Pac
URL:https://camasfootball.com/event/practice-78/
LOCATION:Cardon Field\, 26900 SE 15th St.\, Camas\, Washington\, 98607
CATEGORIES:Varsity Practice,Varsity/JV Schedule
END:VEVENT
BEGIN:VEVENT
DTSTART;VALUE=DATE:20251005
DTEND;VALUE=DATE:20251006
DTSTAMP:20260423T162941
CREATED:20250205T025408Z
LAST-MODIFIED:20250321T185930Z
UID:2884-1759622400-1759708799@camasfootball.com
SUMMARY:Staff Meeting
DESCRIPTION:Staff Meeting \nTime/Location TBD
URL:https://camasfootball.com/event/staff-meeting-18/
LOCATION:Washington
CATEGORIES:Staff Meeting,Varsity/JV Schedule
END:VEVENT
BEGIN:VEVENT
DTSTART;VALUE=DATE:20251003
DTEND;VALUE=DATE:20251004
DTSTAMP:20260423T162941
CREATED:20250205T034256Z
LAST-MODIFIED:20250818T232935Z
UID:2939-1759449600-1759535999@camasfootball.com
SUMMARY:Varsity Game #5 Coeur d'Alene
DESCRIPTION:Varsity Game #5 \nvs Coeur d’Alene\, Idaho \nPlease visit Arbiter for all game updates including date\, time and location.
URL:https://camasfootball.com/event/varsity-game-5-2/
LOCATION:Doc Harris Stadium\, 841 NE 22nd Ave.\, Camas\, Washington\, 98607
CATEGORIES:Football Games,Varsity/JV Schedule
END:VEVENT
BEGIN:VEVENT
DTSTART;VALUE=DATE:20251003
DTEND;VALUE=DATE:20251004
DTSTAMP:20260423T162941
CREATED:20250818T233733Z
LAST-MODIFIED:20250818T234041Z
UID:3851-1759449600-1759535999@camasfootball.com
SUMMARY:JV Game #5 Coeur D’Alene
DESCRIPTION:JV Game #5 \nvs Coeur D’Alene \nPlease visit Arbiter for all game updates including date\, time and location.
URL:https://camasfootball.com/event/jv-game-5-coeur-dalene/
LOCATION:Doc Harris Stadium\, 841 NE 22nd Ave.\, Camas\, Washington\, 98607
CATEGORIES:Football Games,Varsity/JV Schedule
END:VEVENT
BEGIN:VEVENT
DTSTART;TZID=America/Los_Angeles:20251002T153000
DTEND;TZID=America/Los_Angeles:20251002T174500
DTSTAMP:20260423T162941
CREATED:20250205T033159Z
LAST-MODIFIED:20250321T185845Z
UID:2911-1759419000-1759427100@camasfootball.com
SUMMARY:Practice
DESCRIPTION:Thursday Varsity/J.V. Practice \nFull Pac
URL:https://camasfootball.com/event/practice-64/
LOCATION:Cardon Field\, 26900 SE 15th St.\, Camas\, Washington\, 98607
CATEGORIES:Varsity Practice,Varsity/JV Schedule
END:VEVENT
BEGIN:VEVENT
DTSTART;TZID=America/Los_Angeles:20251001T154500
DTEND;TZID=America/Los_Angeles:20251001T181500
DTSTAMP:20260423T162941
CREATED:20250205T044604Z
LAST-MODIFIED:20250321T185839Z
UID:3003-1759333500-1759342500@camasfootball.com
SUMMARY:Practice
DESCRIPTION:Wednesday Varsity/J.V. Practice \nFull Pac
URL:https://camasfootball.com/event/practice-97/
LOCATION:Cardon Field\, 26900 SE 15th St.\, Camas\, Washington\, 98607
CATEGORIES:Varsity Practice,Varsity/JV Schedule
END:VEVENT
BEGIN:VEVENT
DTSTART;TZID=America/Los_Angeles:20250930T154500
DTEND;TZID=America/Los_Angeles:20250930T181500
DTSTAMP:20260423T162941
CREATED:20250205T044521Z
LAST-MODIFIED:20250321T190450Z
UID:3002-1759247100-1759256100@camasfootball.com
SUMMARY:Practice
DESCRIPTION:Tuesday Varsity/J.V. Practice \nFull Pac
URL:https://camasfootball.com/event/practice-96/
LOCATION:Cardon Field\, 26900 SE 15th St.\, Camas\, Washington\, 98607
CATEGORIES:Varsity Practice,Varsity/JV Schedule
END:VEVENT
BEGIN:VEVENT
DTSTART;TZID=America/Los_Angeles:20250929T160000
DTEND;TZID=America/Los_Angeles:20250929T180000
DTSTAMP:20260423T162941
CREATED:20250205T043105Z
LAST-MODIFIED:20250321T190447Z
UID:2969-1759161600-1759168800@camasfootball.com
SUMMARY:Practice
DESCRIPTION:Monday Varsity/J.V. Practice \n1/2 Pac
URL:https://camasfootball.com/event/practice-77/
LOCATION:Cardon Field\, 26900 SE 15th St.\, Camas\, Washington\, 98607
CATEGORIES:Varsity Practice,Varsity/JV Schedule
END:VEVENT
BEGIN:VEVENT
DTSTART;VALUE=DATE:20250928
DTEND;VALUE=DATE:20250929
DTSTAMP:20260423T162941
CREATED:20250205T025349Z
LAST-MODIFIED:20250321T190441Z
UID:2883-1759017600-1759103999@camasfootball.com
SUMMARY:Staff Meeting
DESCRIPTION:Staff Meeting \nTime/Location TBD
URL:https://camasfootball.com/event/staff-meeting-17/
LOCATION:Washington
CATEGORIES:Staff Meeting,Varsity/JV Schedule
END:VEVENT
BEGIN:VEVENT
DTSTART;VALUE=DATE:20250927
DTEND;VALUE=DATE:20250928
DTSTAMP:20260423T162941
CREATED:20250818T233623Z
LAST-MODIFIED:20250818T233623Z
UID:3849-1758931200-1759017599@camasfootball.com
SUMMARY:JV Game #4 West Linn
DESCRIPTION:JV Game #4 \nvs West Linn \nPlease visit Arbiter for all game updates including date\, time and location.
URL:https://camasfootball.com/event/jv-game-4-west-linn/
LOCATION:Doc Harris Stadium\, 841 NE 22nd Ave.\, Camas\, Washington\, 98607
CATEGORIES:Football Games,Varsity/JV Schedule
END:VEVENT
BEGIN:VEVENT
DTSTART;VALUE=DATE:20250926
DTEND;VALUE=DATE:20250927
DTSTAMP:20260423T162941
CREATED:20250205T034213Z
LAST-MODIFIED:20250818T232903Z
UID:2938-1758844800-1758931199@camasfootball.com
SUMMARY:Varsity Game #4 at West Linn
DESCRIPTION:Varsity Game #4 \nat West Linn\, Oregon \nPlease visit Arbiter for all game updates including date\, time and location.
URL:https://camasfootball.com/event/varsity-game-4-2/
LOCATION:Washington
CATEGORIES:Football Games,Varsity/JV Schedule
END:VEVENT
BEGIN:VEVENT
DTSTART;TZID=America/Los_Angeles:20250925T153000
DTEND;TZID=America/Los_Angeles:20250925T174500
DTSTAMP:20260423T162941
CREATED:20250205T033058Z
LAST-MODIFIED:20250321T190430Z
UID:2910-1758814200-1758822300@camasfootball.com
SUMMARY:Practice
DESCRIPTION:Thursday Varsity/J.V. Practice \nFull Pac
URL:https://camasfootball.com/event/practice-63/
LOCATION:Cardon Field\, 26900 SE 15th St.\, Camas\, Washington\, 98607
CATEGORIES:Varsity Practice,Varsity/JV Schedule
END:VEVENT
BEGIN:VEVENT
DTSTART;TZID=America/Los_Angeles:20250924T154500
DTEND;TZID=America/Los_Angeles:20250924T181500
DTSTAMP:20260423T162941
CREATED:20250205T044459Z
LAST-MODIFIED:20250321T190427Z
UID:3001-1758728700-1758737700@camasfootball.com
SUMMARY:Practice
DESCRIPTION:Wednesday Varsity/J.V. Practice \nFull Pac
URL:https://camasfootball.com/event/practice-95/
LOCATION:Cardon Field\, 26900 SE 15th St.\, Camas\, Washington\, 98607
CATEGORIES:Varsity Practice,Varsity/JV Schedule
END:VEVENT
BEGIN:VEVENT
DTSTART;TZID=America/Los_Angeles:20250923T154500
DTEND;TZID=America/Los_Angeles:20250923T181500
DTSTAMP:20260423T162941
CREATED:20250205T044435Z
LAST-MODIFIED:20250321T190423Z
UID:3000-1758642300-1758651300@camasfootball.com
SUMMARY:Practice
DESCRIPTION:Tuesday Varsity/J.V. Practice \nFull Pac
URL:https://camasfootball.com/event/practice-94/
LOCATION:Cardon Field\, 26900 SE 15th St.\, Camas\, Washington\, 98607
CATEGORIES:Varsity Practice,Varsity/JV Schedule
END:VEVENT
BEGIN:VEVENT
DTSTART;TZID=America/Los_Angeles:20250922T160000
DTEND;TZID=America/Los_Angeles:20250922T180000
DTSTAMP:20260423T162941
CREATED:20250205T043044Z
LAST-MODIFIED:20250321T190418Z
UID:2968-1758556800-1758564000@camasfootball.com
SUMMARY:Practice
DESCRIPTION:Monday Varsity/J.V. Practice \n1/2 Pac
URL:https://camasfootball.com/event/practice-76/
LOCATION:Cardon Field\, 26900 SE 15th St.\, Camas\, Washington\, 98607
CATEGORIES:Varsity Practice,Varsity/JV Schedule
END:VEVENT
BEGIN:VEVENT
DTSTART;VALUE=DATE:20250922
DTEND;VALUE=DATE:20250923
DTSTAMP:20260423T162941
CREATED:20250818T233509Z
LAST-MODIFIED:20250818T233509Z
UID:3846-1758499200-1758585599@camasfootball.com
SUMMARY:JV Game #3
DESCRIPTION:JV Game #3 \nTBD \nPlease visit Arbiter for all game updates including date\, time and location.
URL:https://camasfootball.com/event/jv-game-3-2/
LOCATION:Washington
CATEGORIES:Football Games,Varsity/JV Schedule
END:VEVENT
BEGIN:VEVENT
DTSTART;VALUE=DATE:20250921
DTEND;VALUE=DATE:20250922
DTSTAMP:20260423T162941
CREATED:20250205T025334Z
LAST-MODIFIED:20250321T190402Z
UID:2882-1758412800-1758499199@camasfootball.com
SUMMARY:Staff Meeting
DESCRIPTION:Staff Meeting \nTime/Location TBD
URL:https://camasfootball.com/event/staff-meeting-16/
LOCATION:Washington
CATEGORIES:Staff Meeting,Varsity/JV Schedule
END:VEVENT
BEGIN:VEVENT
DTSTART;TZID=America/Los_Angeles:20250920T173000
DTEND;TZID=America/Los_Angeles:20250920T193000
DTSTAMP:20260423T162941
CREATED:20250818T235305Z
LAST-MODIFIED:20250818T235305Z
UID:3860-1758389400-1758396600@camasfootball.com
SUMMARY:CHS Hall of Fame Banquet
DESCRIPTION:2025 CHS Hall of Fame Banquet
URL:https://camasfootball.com/event/chs-hall-of-fame-banquet/
LOCATION:North Commons\, 26900 SE 15th St.\, Camas\, Washington\, 98607
CATEGORIES:Community Outreach,Frosh Calendar,Varsity/JV Schedule
END:VEVENT
BEGIN:VEVENT
DTSTART;VALUE=DATE:20250919
DTEND;VALUE=DATE:20250920
DTSTAMP:20260423T162941
CREATED:20250205T034130Z
LAST-MODIFIED:20250818T232839Z
UID:2937-1758240000-1758326399@camasfootball.com
SUMMARY:Varsity Game #3 Lincoln (Tacoma)
DESCRIPTION:Varsity Game #3 \nvs Lincoln (Tacoma) \nPlease visit Arbiter for all game updates including date\, time and location.
URL:https://camasfootball.com/event/varsity-game-3-2/
LOCATION:Doc Harris Stadium\, 841 NE 22nd Ave.\, Camas\, Washington\, 98607
CATEGORIES:Football Games,Varsity/JV Schedule
END:VEVENT
BEGIN:VEVENT
DTSTART;TZID=America/Los_Angeles:20250918T153000
DTEND;TZID=America/Los_Angeles:20250918T174500
DTSTAMP:20260423T162941
CREATED:20250205T033036Z
LAST-MODIFIED:20250321T190352Z
UID:2909-1758209400-1758217500@camasfootball.com
SUMMARY:Practice
DESCRIPTION:Thursday Varsity/J.V. Practice \nFull Pac
URL:https://camasfootball.com/event/practice-62/
LOCATION:Cardon Field\, 26900 SE 15th St.\, Camas\, Washington\, 98607
CATEGORIES:Varsity Practice,Varsity/JV Schedule
END:VEVENT
BEGIN:VEVENT
DTSTART;TZID=America/Los_Angeles:20250917T154500
DTEND;TZID=America/Los_Angeles:20250917T181500
DTSTAMP:20260423T162941
CREATED:20250205T044411Z
LAST-MODIFIED:20250321T190349Z
UID:2999-1758123900-1758132900@camasfootball.com
SUMMARY:Practice
DESCRIPTION:Wednesday Varsity/J.V. Practice \nFull Pac
URL:https://camasfootball.com/event/practice-93/
LOCATION:Cardon Field\, 26900 SE 15th St.\, Camas\, Washington\, 98607
CATEGORIES:Varsity Practice,Varsity/JV Schedule
END:VEVENT
END:VCALENDAR