BEGIN:VCALENDAR
VERSION:2.0
PRODID:-//Camas Football - ECPv6.15.3//NONSGML v1.0//EN
CALSCALE:GREGORIAN
METHOD:PUBLISH
X-ORIGINAL-URL:https://camasfootball.com
X-WR-CALDESC:Events for Camas Football
REFRESH-INTERVAL;VALUE=DURATION:PT1H
X-Robots-Tag:noindex
X-PUBLISHED-TTL:PT1H
BEGIN:VTIMEZONE
TZID:America/Los_Angeles
BEGIN:DAYLIGHT
TZOFFSETFROM:-0800
TZOFFSETTO:-0700
TZNAME:PDT
DTSTART:20260308T100000
END:DAYLIGHT
BEGIN:STANDARD
TZOFFSETFROM:-0700
TZOFFSETTO:-0800
TZNAME:PST
DTSTART:20261101T090000
END:STANDARD
END:VTIMEZONE
BEGIN:VEVENT
DTSTART;VALUE=DATE:20260622
DTEND;VALUE=DATE:20260623
DTSTAMP:20260423T163353
CREATED:20260215T003530Z
LAST-MODIFIED:20260215T003530Z
UID:4242-1782086400-1782172799@camasfootball.com
SUMMARY:SUMMER BREAK
DESCRIPTION:Summer Break
URL:https://camasfootball.com/event/summer-break/
LOCATION:Washington
CATEGORIES:Frosh Calendar,Varsity/JV Schedule
END:VEVENT
BEGIN:VEVENT
DTSTART;VALUE=DATE:20260623
DTEND;VALUE=DATE:20260624
DTSTAMP:20260423T163353
CREATED:20260215T003715Z
LAST-MODIFIED:20260215T003715Z
UID:4244-1782172800-1782259199@camasfootball.com
SUMMARY:SUMMER BREAK
DESCRIPTION:Summer Break
URL:https://camasfootball.com/event/summer-break-2/
LOCATION:Washington
CATEGORIES:Frosh Calendar,Varsity/JV Schedule
END:VEVENT
BEGIN:VEVENT
DTSTART;TZID=America/Los_Angeles:20260623T080000
DTEND;TZID=America/Los_Angeles:20260623T170000
DTSTAMP:20260423T163353
CREATED:20260420T203516Z
LAST-MODIFIED:20260420T203841Z
UID:4704-1782201600-1782234000@camasfootball.com
SUMMARY:Eastern Washington University Football Skills Camp
DESCRIPTION:EWU Football is hosting a Skills Camp – This is a prospect camp designed specifically for offensive and defensive skills players (QB\, RB\, WR\, CB\, SAF\, LB) looking to compete at the next level. \nRegistration: https://ewufootball.totalcamps.com/shop/product/590331
URL:https://camasfootball.com/event/eastern-washington-university-football-skills-camp-2026/
LOCATION:Roos Field (Eastern Washington University)\, 1136 Washington St\, Cheney\, washington\, 99004
CATEGORIES:Prospect Camp,Varsity/JV Schedule
END:VEVENT
BEGIN:VEVENT
DTSTART;VALUE=DATE:20260624
DTEND;VALUE=DATE:20260625
DTSTAMP:20260423T163353
CREATED:20260215T003733Z
LAST-MODIFIED:20260215T003733Z
UID:4245-1782259200-1782345599@camasfootball.com
SUMMARY:SUMMER BREAK
DESCRIPTION:Summer Break
URL:https://camasfootball.com/event/summer-break-3/
LOCATION:Washington
CATEGORIES:Frosh Calendar,Varsity/JV Schedule
END:VEVENT
BEGIN:VEVENT
DTSTART;VALUE=DATE:20260625
DTEND;VALUE=DATE:20260626
DTSTAMP:20260423T163353
CREATED:20260215T003749Z
LAST-MODIFIED:20260215T003749Z
UID:4246-1782345600-1782431999@camasfootball.com
SUMMARY:SUMMER BREAK
DESCRIPTION:Summer Break
URL:https://camasfootball.com/event/summer-break-4/
LOCATION:Washington
CATEGORIES:Frosh Calendar,Varsity/JV Schedule
END:VEVENT
BEGIN:VEVENT
DTSTART;VALUE=DATE:20260626
DTEND;VALUE=DATE:20260627
DTSTAMP:20260423T163353
CREATED:20260215T003803Z
LAST-MODIFIED:20260215T003803Z
UID:4247-1782432000-1782518399@camasfootball.com
SUMMARY:SUMMER BREAK
DESCRIPTION:Summer Break
URL:https://camasfootball.com/event/summer-break-5/
LOCATION:Washington
CATEGORIES:Frosh Calendar,Varsity/JV Schedule
END:VEVENT
BEGIN:VEVENT
DTSTART;VALUE=DATE:20260629
DTEND;VALUE=DATE:20260630
DTSTAMP:20260423T163353
CREATED:20260215T003818Z
LAST-MODIFIED:20260215T003818Z
UID:4248-1782691200-1782777599@camasfootball.com
SUMMARY:SUMMER BREAK
DESCRIPTION:Summer Break
URL:https://camasfootball.com/event/summer-break-6/
LOCATION:Washington
CATEGORIES:Frosh Calendar,Varsity/JV Schedule
END:VEVENT
BEGIN:VEVENT
DTSTART;VALUE=DATE:20260630
DTEND;VALUE=DATE:20260701
DTSTAMP:20260423T163353
CREATED:20260215T003832Z
LAST-MODIFIED:20260215T003832Z
UID:4249-1782777600-1782863999@camasfootball.com
SUMMARY:SUMMER BREAK
DESCRIPTION:Summer Break
URL:https://camasfootball.com/event/summer-break-7/
LOCATION:Washington
CATEGORIES:Frosh Calendar,Varsity/JV Schedule
END:VEVENT
BEGIN:VEVENT
DTSTART;VALUE=DATE:20260701
DTEND;VALUE=DATE:20260702
DTSTAMP:20260423T163353
CREATED:20260215T003847Z
LAST-MODIFIED:20260215T003847Z
UID:4250-1782864000-1782950399@camasfootball.com
SUMMARY:SUMMER BREAK
DESCRIPTION:Summer Break
URL:https://camasfootball.com/event/summer-break-8/
LOCATION:Washington
CATEGORIES:Frosh Calendar,Varsity/JV Schedule
END:VEVENT
BEGIN:VEVENT
DTSTART;VALUE=DATE:20260702
DTEND;VALUE=DATE:20260703
DTSTAMP:20260423T163353
CREATED:20260215T003901Z
LAST-MODIFIED:20260215T003901Z
UID:4251-1782950400-1783036799@camasfootball.com
SUMMARY:SUMMER BREAK
DESCRIPTION:Summer Break
URL:https://camasfootball.com/event/summer-break-9/
LOCATION:Washington
CATEGORIES:Frosh Calendar,Varsity/JV Schedule
END:VEVENT
BEGIN:VEVENT
DTSTART;VALUE=DATE:20260703
DTEND;VALUE=DATE:20260704
DTSTAMP:20260423T163353
CREATED:20260215T003916Z
LAST-MODIFIED:20260215T003916Z
UID:4252-1783036800-1783123199@camasfootball.com
SUMMARY:SUMMER BREAK
DESCRIPTION:Summer Break
URL:https://camasfootball.com/event/summer-break-10/
LOCATION:Washington
CATEGORIES:Frosh Calendar,Varsity/JV Schedule
END:VEVENT
BEGIN:VEVENT
DTSTART;VALUE=DATE:20260704
DTEND;VALUE=DATE:20260705
DTSTAMP:20260423T163353
CREATED:20260215T004159Z
LAST-MODIFIED:20260215T004210Z
UID:4268-1783123200-1783209599@camasfootball.com
SUMMARY:Independence Day
DESCRIPTION:
URL:https://camasfootball.com/event/independence-day-2026/
LOCATION:Washington
CATEGORIES:Frosh Calendar,Middle School,Varsity/JV Schedule
END:VEVENT
BEGIN:VEVENT
DTSTART;TZID=America/Los_Angeles:20260706T080000
DTEND;TZID=America/Los_Angeles:20260706T093000
DTSTAMP:20260423T163353
CREATED:20260215T235947Z
LAST-MODIFIED:20260215T235947Z
UID:4333-1783324800-1783330200@camasfootball.com
SUMMARY:Weight Training - Varsity
DESCRIPTION:Weight Training at the Camas High School weight room for 10-12 grade players.
URL:https://camasfootball.com/event/weight-training-varsity-36/
LOCATION:Camas Weight Room\, 26900 SE 15th St.\, Camas\, Washington\, 98607
CATEGORIES:Strength and Conditioning,Varsity/JV Schedule
END:VEVENT
BEGIN:VEVENT
DTSTART;TZID=America/Los_Angeles:20260706T083000
DTEND;TZID=America/Los_Angeles:20260706T100000
DTSTAMP:20260423T163353
CREATED:20260216T000846Z
LAST-MODIFIED:20260216T000846Z
UID:4369-1783326600-1783332000@camasfootball.com
SUMMARY:Weight Training - Frosh
DESCRIPTION:Weight Training at the Camas High School weight room for Freshmen players.
URL:https://camasfootball.com/event/weight-training-frosh-37/
LOCATION:Camas Weight Room\, 26900 SE 15th St.\, Camas\, Washington\, 98607
CATEGORIES:Frosh Calendar,Strength and Conditioning,Varsity/JV Schedule
END:VEVENT
BEGIN:VEVENT
DTSTART;TZID=America/Los_Angeles:20260707T080000
DTEND;TZID=America/Los_Angeles:20260707T093000
DTSTAMP:20260423T163353
CREATED:20260216T000013Z
LAST-MODIFIED:20260216T000013Z
UID:4334-1783411200-1783416600@camasfootball.com
SUMMARY:Weight Training - Varsity
DESCRIPTION:Weight Training at the Camas High School weight room for 10-12 grade players.
URL:https://camasfootball.com/event/weight-training-varsity-37/
LOCATION:Camas Weight Room\, 26900 SE 15th St.\, Camas\, Washington\, 98607
CATEGORIES:Strength and Conditioning,Varsity/JV Schedule
END:VEVENT
BEGIN:VEVENT
DTSTART;TZID=America/Los_Angeles:20260707T083000
DTEND;TZID=America/Los_Angeles:20260707T100000
DTSTAMP:20260423T163353
CREATED:20260216T000914Z
LAST-MODIFIED:20260216T000914Z
UID:4386-1783413000-1783418400@camasfootball.com
SUMMARY:Weight Training - Frosh
DESCRIPTION:Weight Training at the Camas High School weight room for Freshmen players.
URL:https://camasfootball.com/event/weight-training-frosh-38/
LOCATION:Camas Weight Room\, 26900 SE 15th St.\, Camas\, Washington\, 98607
CATEGORIES:Frosh Calendar,Strength and Conditioning,Varsity/JV Schedule
END:VEVENT
BEGIN:VEVENT
DTSTART;TZID=America/Los_Angeles:20260708T180000
DTEND;TZID=America/Los_Angeles:20260708T200000
DTSTAMP:20260423T163353
CREATED:20260216T001847Z
LAST-MODIFIED:20260216T001847Z
UID:4405-1783533600-1783540800@camasfootball.com
SUMMARY:7 on 7
DESCRIPTION:July 7 on 7 at TBD \nALL GRADES \nOpponent: TBD
URL:https://camasfootball.com/event/7-on-7-11/
LOCATION:Washington
CATEGORIES:7 on 7,Frosh Calendar,Varsity/JV Schedule
END:VEVENT
BEGIN:VEVENT
DTSTART;TZID=America/Los_Angeles:20260709T080000
DTEND;TZID=America/Los_Angeles:20260709T093000
DTSTAMP:20260423T163353
CREATED:20260216T000032Z
LAST-MODIFIED:20260216T000032Z
UID:4335-1783584000-1783589400@camasfootball.com
SUMMARY:Weight Training - Varsity
DESCRIPTION:Weight Training at the Camas High School weight room for 10-12 grade players.
URL:https://camasfootball.com/event/weight-training-varsity-38/
LOCATION:Camas Weight Room\, 26900 SE 15th St.\, Camas\, Washington\, 98607
CATEGORIES:Strength and Conditioning,Varsity/JV Schedule
END:VEVENT
BEGIN:VEVENT
DTSTART;TZID=America/Los_Angeles:20260709T083000
DTEND;TZID=America/Los_Angeles:20260709T100000
DTSTAMP:20260423T163353
CREATED:20260216T000935Z
LAST-MODIFIED:20260216T000935Z
UID:4370-1783585800-1783591200@camasfootball.com
SUMMARY:Weight Training - Frosh
DESCRIPTION:Weight Training at the Camas High School weight room for Freshmen players.
URL:https://camasfootball.com/event/weight-training-frosh-39/
LOCATION:Camas Weight Room\, 26900 SE 15th St.\, Camas\, Washington\, 98607
CATEGORIES:Frosh Calendar,Strength and Conditioning,Varsity/JV Schedule
END:VEVENT
BEGIN:VEVENT
DTSTART;TZID=America/Los_Angeles:20260713T080000
DTEND;TZID=America/Los_Angeles:20260713T093000
DTSTAMP:20260423T163353
CREATED:20260216T000058Z
LAST-MODIFIED:20260216T000058Z
UID:4336-1783929600-1783935000@camasfootball.com
SUMMARY:Weight Training - Varsity
DESCRIPTION:Weight Training at the Camas High School weight room for 10-12 grade players.
URL:https://camasfootball.com/event/weight-training-varsity-39/
LOCATION:Camas Weight Room\, 26900 SE 15th St.\, Camas\, Washington\, 98607
CATEGORIES:Strength and Conditioning,Varsity/JV Schedule
END:VEVENT
BEGIN:VEVENT
DTSTART;TZID=America/Los_Angeles:20260713T083000
DTEND;TZID=America/Los_Angeles:20260713T100000
DTSTAMP:20260423T163353
CREATED:20260216T001002Z
LAST-MODIFIED:20260216T001002Z
UID:4371-1783931400-1783936800@camasfootball.com
SUMMARY:Weight Training - Frosh
DESCRIPTION:Weight Training at the Camas High School weight room for Freshmen players.
URL:https://camasfootball.com/event/weight-training-frosh-40/
LOCATION:Camas Weight Room\, 26900 SE 15th St.\, Camas\, Washington\, 98607
CATEGORIES:Frosh Calendar,Strength and Conditioning,Varsity/JV Schedule
END:VEVENT
BEGIN:VEVENT
DTSTART;TZID=America/Los_Angeles:20260714T080000
DTEND;TZID=America/Los_Angeles:20260714T093000
DTSTAMP:20260423T163353
CREATED:20260216T000114Z
LAST-MODIFIED:20260216T000114Z
UID:4337-1784016000-1784021400@camasfootball.com
SUMMARY:Weight Training - Varsity
DESCRIPTION:Weight Training at the Camas High School weight room for 10-12 grade players.
URL:https://camasfootball.com/event/weight-training-varsity-40/
LOCATION:Camas Weight Room\, 26900 SE 15th St.\, Camas\, Washington\, 98607
CATEGORIES:Strength and Conditioning,Varsity/JV Schedule
END:VEVENT
BEGIN:VEVENT
DTSTART;TZID=America/Los_Angeles:20260714T083000
DTEND;TZID=America/Los_Angeles:20260714T100000
DTSTAMP:20260423T163353
CREATED:20260216T001024Z
LAST-MODIFIED:20260216T001024Z
UID:4372-1784017800-1784023200@camasfootball.com
SUMMARY:Weight Training - Frosh
DESCRIPTION:Weight Training at the Camas High School weight room for Freshmen players.
URL:https://camasfootball.com/event/weight-training-frosh-41/
LOCATION:Camas Weight Room\, 26900 SE 15th St.\, Camas\, Washington\, 98607
CATEGORIES:Frosh Calendar,Strength and Conditioning,Varsity/JV Schedule
END:VEVENT
BEGIN:VEVENT
DTSTART;TZID=America/Los_Angeles:20260715T180000
DTEND;TZID=America/Los_Angeles:20260715T200000
DTSTAMP:20260423T163353
CREATED:20260216T001912Z
LAST-MODIFIED:20260216T001912Z
UID:4406-1784138400-1784145600@camasfootball.com
SUMMARY:7 on 7
DESCRIPTION:July 7 on 7 at TBD \nALL GRADES \nOpponent: TBD
URL:https://camasfootball.com/event/7-on-7-12/
LOCATION:Washington
CATEGORIES:7 on 7,Frosh Calendar,Varsity/JV Schedule
END:VEVENT
BEGIN:VEVENT
DTSTART;TZID=America/Los_Angeles:20260716T080000
DTEND;TZID=America/Los_Angeles:20260716T093000
DTSTAMP:20260423T163353
CREATED:20260216T000132Z
LAST-MODIFIED:20260216T000132Z
UID:4338-1784188800-1784194200@camasfootball.com
SUMMARY:Weight Training - Varsity
DESCRIPTION:Weight Training at the Camas High School weight room for 10-12 grade players.
URL:https://camasfootball.com/event/weight-training-varsity-41/
LOCATION:Camas Weight Room\, 26900 SE 15th St.\, Camas\, Washington\, 98607
CATEGORIES:Strength and Conditioning,Varsity/JV Schedule
END:VEVENT
BEGIN:VEVENT
DTSTART;TZID=America/Los_Angeles:20260716T083000
DTEND;TZID=America/Los_Angeles:20260716T100000
DTSTAMP:20260423T163353
CREATED:20260216T001046Z
LAST-MODIFIED:20260216T001046Z
UID:4373-1784190600-1784196000@camasfootball.com
SUMMARY:Weight Training - Frosh
DESCRIPTION:Weight Training at the Camas High School weight room for Freshmen players.
URL:https://camasfootball.com/event/weight-training-frosh-42/
LOCATION:Camas Weight Room\, 26900 SE 15th St.\, Camas\, Washington\, 98607
CATEGORIES:Frosh Calendar,Strength and Conditioning,Varsity/JV Schedule
END:VEVENT
BEGIN:VEVENT
DTSTART;TZID=America/Los_Angeles:20260720T080000
DTEND;TZID=America/Los_Angeles:20260720T093000
DTSTAMP:20260423T163353
CREATED:20260216T000152Z
LAST-MODIFIED:20260216T000152Z
UID:4339-1784534400-1784539800@camasfootball.com
SUMMARY:Weight Training - Varsity
DESCRIPTION:Weight Training at the Camas High School weight room for 10-12 grade players.
URL:https://camasfootball.com/event/weight-training-varsity-42/
LOCATION:Camas Weight Room\, 26900 SE 15th St.\, Camas\, Washington\, 98607
CATEGORIES:Strength and Conditioning,Varsity/JV Schedule
END:VEVENT
BEGIN:VEVENT
DTSTART;TZID=America/Los_Angeles:20260720T083000
DTEND;TZID=America/Los_Angeles:20260720T100000
DTSTAMP:20260423T163353
CREATED:20260216T001117Z
LAST-MODIFIED:20260216T001117Z
UID:4374-1784536200-1784541600@camasfootball.com
SUMMARY:Weight Training - Frosh
DESCRIPTION:Weight Training at the Camas High School weight room for Freshmen players.
URL:https://camasfootball.com/event/weight-training-frosh-43/
LOCATION:Camas Weight Room\, 26900 SE 15th St.\, Camas\, Washington\, 98607
CATEGORIES:Frosh Calendar,Strength and Conditioning,Varsity/JV Schedule
END:VEVENT
BEGIN:VEVENT
DTSTART;TZID=America/Los_Angeles:20260721T080000
DTEND;TZID=America/Los_Angeles:20260721T093000
DTSTAMP:20260423T163353
CREATED:20260216T000210Z
LAST-MODIFIED:20260216T000210Z
UID:4340-1784620800-1784626200@camasfootball.com
SUMMARY:Weight Training - Varsity
DESCRIPTION:Weight Training at the Camas High School weight room for 10-12 grade players.
URL:https://camasfootball.com/event/weight-training-varsity-43/
LOCATION:Camas Weight Room\, 26900 SE 15th St.\, Camas\, Washington\, 98607
CATEGORIES:Strength and Conditioning,Varsity/JV Schedule
END:VEVENT
BEGIN:VEVENT
DTSTART;TZID=America/Los_Angeles:20260721T083000
DTEND;TZID=America/Los_Angeles:20260721T100000
DTSTAMP:20260423T163353
CREATED:20260216T001139Z
LAST-MODIFIED:20260216T001139Z
UID:4375-1784622600-1784628000@camasfootball.com
SUMMARY:Weight Training - Frosh
DESCRIPTION:Weight Training at the Camas High School weight room for Freshmen players.
URL:https://camasfootball.com/event/weight-training-frosh-44/
LOCATION:Camas Weight Room\, 26900 SE 15th St.\, Camas\, Washington\, 98607
CATEGORIES:Frosh Calendar,Strength and Conditioning,Varsity/JV Schedule
END:VEVENT
END:VCALENDAR