BEGIN:VCALENDAR
VERSION:2.0
PRODID:-//Camas Football - ECPv6.15.3//NONSGML v1.0//EN
CALSCALE:GREGORIAN
METHOD:PUBLISH
X-ORIGINAL-URL:https://camasfootball.com
X-WR-CALDESC:Events for Camas Football
REFRESH-INTERVAL;VALUE=DURATION:PT1H
X-Robots-Tag:noindex
X-PUBLISHED-TTL:PT1H
BEGIN:VTIMEZONE
TZID:America/Los_Angeles
BEGIN:DAYLIGHT
TZOFFSETFROM:-0800
TZOFFSETTO:-0700
TZNAME:PDT
DTSTART:20260308T100000
END:DAYLIGHT
BEGIN:STANDARD
TZOFFSETFROM:-0700
TZOFFSETTO:-0800
TZNAME:PST
DTSTART:20261101T090000
END:STANDARD
END:VTIMEZONE
BEGIN:VEVENT
DTSTART;TZID=America/Los_Angeles:20260828T170000
DTEND;TZID=America/Los_Angeles:20260828T213000
DTSTAMP:20260423T163812
CREATED:20260216T010557Z
LAST-MODIFIED:20260216T010557Z
UID:4467-1787936400-1787952600@camasfootball.com
SUMMARY:Jamboree (Var/JV/Frosh)
DESCRIPTION:Varsity\, J.V.\, and Freshmen Jamboree \nLocation: TBD\nTime: Frosh TBD – JV TBD – Varsity TBD
URL:https://camasfootball.com/event/jamboree-var-jv-frosh-2026/
LOCATION:Washington
CATEGORIES:Football Games,Frosh Calendar,Varsity/JV Schedule
END:VEVENT
BEGIN:VEVENT
DTSTART;TZID=America/Los_Angeles:20260829T080000
DTEND;TZID=America/Los_Angeles:20260829T090000
DTSTAMP:20260423T163812
CREATED:20260216T010935Z
LAST-MODIFIED:20260216T010935Z
UID:4471-1787990400-1787994000@camasfootball.com
SUMMARY:Varsity Jamboree Film Review
DESCRIPTION:Team Pictures and Pre-Game Walkthrough. \nFull Pac \n8 AM: Varsity Jamboree Film Review\n9 AM: Team Pictures (all levels)\n11 AM: Practice (All Levels) \nNOTE: TBD
URL:https://camasfootball.com/event/varsity-jamboree-film-review-2026/
LOCATION:Washington
CATEGORIES:Varsity Practice,Varsity/JV Schedule
END:VEVENT
BEGIN:VEVENT
DTSTART;TZID=America/Los_Angeles:20260829T090000
DTEND;TZID=America/Los_Angeles:20260829T120000
DTSTAMP:20260423T163812
CREATED:20260216T010817Z
LAST-MODIFIED:20260216T010828Z
UID:4469-1787994000-1788004800@camasfootball.com
SUMMARY:Team Pictures & Pre-Game Walkthrough
DESCRIPTION:Team Pictures and Pre-Game Walkthrough. \nFull Pac \n8 AM: Varsity Jamboree Film Review\n9 AM: Team Pictures (all levels)\n11 AM: Practice (All Levels) \nNOTE: TBD
URL:https://camasfootball.com/event/team-pictures-pre-game-walkthrough-2026/
LOCATION:Washington
CATEGORIES:Frosh Calendar,Varsity Practice,Varsity/JV Schedule
END:VEVENT
BEGIN:VEVENT
DTSTART;TZID=America/Los_Angeles:20260831T160000
DTEND;TZID=America/Los_Angeles:20260831T180000
DTSTAMP:20260423T163812
CREATED:20260216T025616Z
LAST-MODIFIED:20260216T025616Z
UID:4536-1788192000-1788199200@camasfootball.com
SUMMARY:Practice
DESCRIPTION:Monday Varsity/J.V. Practice \n1/2 Pac
URL:https://camasfootball.com/event/practice-120/
LOCATION:Cardon Field\, 26900 SE 15th St.\, Camas\, Washington\, 98607
CATEGORIES:Varsity Practice,Varsity/JV Schedule
END:VEVENT
BEGIN:VEVENT
DTSTART;TZID=America/Los_Angeles:20260901T154500
DTEND;TZID=America/Los_Angeles:20260901T181500
DTSTAMP:20260423T163812
CREATED:20260216T030746Z
LAST-MODIFIED:20260216T030746Z
UID:4569-1788277500-1788286500@camasfootball.com
SUMMARY:Practice
DESCRIPTION:Tuesday Varsity/J.V. Practice \nFull Pac
URL:https://camasfootball.com/event/practice-134/
LOCATION:Cardon Field\, 26900 SE 15th St.\, Camas\, Washington\, 98607
CATEGORIES:Varsity Practice,Varsity/JV Schedule
END:VEVENT
BEGIN:VEVENT
DTSTART;TZID=America/Los_Angeles:20260902T154500
DTEND;TZID=America/Los_Angeles:20260902T181500
DTSTAMP:20260423T163812
CREATED:20260216T032403Z
LAST-MODIFIED:20260216T032403Z
UID:4592-1788363900-1788372900@camasfootball.com
SUMMARY:Practice
DESCRIPTION:Wednesday Varsity/J.V. Practice \nFull Pac
URL:https://camasfootball.com/event/practice-148/
LOCATION:Cardon Field\, 26900 SE 15th St.\, Camas\, Washington\, 98607
CATEGORIES:Varsity Practice,Varsity/JV Schedule
END:VEVENT
BEGIN:VEVENT
DTSTART;TZID=America/Los_Angeles:20260903T153000
DTEND;TZID=America/Los_Angeles:20260903T174500
DTSTAMP:20260423T163812
CREATED:20260216T033656Z
LAST-MODIFIED:20260216T033656Z
UID:4621-1788449400-1788457500@camasfootball.com
SUMMARY:Practice
DESCRIPTION:Thursday Varsity/J.V. Practice \nFull Pac
URL:https://camasfootball.com/event/practice-162/
LOCATION:Cardon Field\, 26900 SE 15th St.\, Camas\, Washington\, 98607
CATEGORIES:Varsity Practice,Varsity/JV Schedule
END:VEVENT
BEGIN:VEVENT
DTSTART;TZID=America/Los_Angeles:20260904T190000
DTEND;TZID=America/Los_Angeles:20260904T220000
DTSTAMP:20260423T163812
CREATED:20260216T011828Z
LAST-MODIFIED:20260216T011828Z
UID:4499-1788548400-1788559200@camasfootball.com
SUMMARY:Varsity Game #1 vs Chiawana
DESCRIPTION:Varsity Game #1 \nvs Chiawana at Doc Harris Stadium \nPlease visit Arbiter for all game updates including date\, time and location.
URL:https://camasfootball.com/event/varsity-game-1-2026-vs-chiawana/
LOCATION:Doc Harris Stadium\, 841 NE 22nd Ave.\, Camas\, Washington\, 98607
CATEGORIES:Football Games,Varsity/JV Schedule
END:VEVENT
BEGIN:VEVENT
DTSTART;VALUE=DATE:20260906
DTEND;VALUE=DATE:20260907
DTSTAMP:20260423T163812
CREATED:20260216T011204Z
LAST-MODIFIED:20260216T011204Z
UID:4473-1788652800-1788739199@camasfootball.com
SUMMARY:Staff Meeting
DESCRIPTION:Staff Meeting \nTime/Location TBD
URL:https://camasfootball.com/event/staff-meeting-27/
LOCATION:Washington
CATEGORIES:Staff Meeting,Varsity/JV Schedule
END:VEVENT
BEGIN:VEVENT
DTSTART;TZID=America/Los_Angeles:20260907T160000
DTEND;TZID=America/Los_Angeles:20260907T180000
DTSTAMP:20260423T163812
CREATED:20260216T025638Z
LAST-MODIFIED:20260216T025638Z
UID:4537-1788796800-1788804000@camasfootball.com
SUMMARY:Practice
DESCRIPTION:Monday Varsity/J.V. Practice \n1/2 Pac
URL:https://camasfootball.com/event/practice-121/
LOCATION:Cardon Field\, 26900 SE 15th St.\, Camas\, Washington\, 98607
CATEGORIES:Varsity Practice,Varsity/JV Schedule
END:VEVENT
BEGIN:VEVENT
DTSTART;TZID=America/Los_Angeles:20260908T154500
DTEND;TZID=America/Los_Angeles:20260908T181500
DTSTAMP:20260423T163812
CREATED:20260216T030809Z
LAST-MODIFIED:20260216T030809Z
UID:4564-1788882300-1788891300@camasfootball.com
SUMMARY:Practice
DESCRIPTION:Tuesday Varsity/J.V. Practice \nFull Pac
URL:https://camasfootball.com/event/practice-135/
LOCATION:Cardon Field\, 26900 SE 15th St.\, Camas\, Washington\, 98607
CATEGORIES:Varsity Practice,Varsity/JV Schedule
END:VEVENT
BEGIN:VEVENT
DTSTART;TZID=America/Los_Angeles:20260909T154500
DTEND;TZID=America/Los_Angeles:20260909T181500
DTSTAMP:20260423T163812
CREATED:20260216T032430Z
LAST-MODIFIED:20260216T032430Z
UID:4593-1788968700-1788977700@camasfootball.com
SUMMARY:Practice
DESCRIPTION:Wednesday Varsity/J.V. Practice \nFull Pac
URL:https://camasfootball.com/event/practice-149/
LOCATION:Cardon Field\, 26900 SE 15th St.\, Camas\, Washington\, 98607
CATEGORIES:Varsity Practice,Varsity/JV Schedule
END:VEVENT
BEGIN:VEVENT
DTSTART;TZID=America/Los_Angeles:20260910T153000
DTEND;TZID=America/Los_Angeles:20260910T174500
DTSTAMP:20260423T163812
CREATED:20260216T033720Z
LAST-MODIFIED:20260216T033720Z
UID:4622-1789054200-1789062300@camasfootball.com
SUMMARY:Practice
DESCRIPTION:Thursday Varsity/J.V. Practice \nFull Pac
URL:https://camasfootball.com/event/practice-163/
LOCATION:Cardon Field\, 26900 SE 15th St.\, Camas\, Washington\, 98607
CATEGORIES:Varsity Practice,Varsity/JV Schedule
END:VEVENT
BEGIN:VEVENT
DTSTART;TZID=America/Los_Angeles:20260911T190000
DTEND;TZID=America/Los_Angeles:20260911T220000
DTSTAMP:20260423T163812
CREATED:20260216T012219Z
LAST-MODIFIED:20260216T012426Z
UID:4511-1789153200-1789164000@camasfootball.com
SUMMARY:Varsity Game #2 at Curits
DESCRIPTION:Varsity Game #2 \nat Curtis at Vikings Stadium \nPlease visit Arbiter for all game updates including date\, time and location.
URL:https://camasfootball.com/event/varsity-game-2-2026-at-curits/
LOCATION:Viking Stadium (University Place)\, 8425 40th St West\, University Place\, WA\, 98466\, United States
CATEGORIES:Football Games,Varsity/JV Schedule
END:VEVENT
BEGIN:VEVENT
DTSTART;VALUE=DATE:20260913
DTEND;VALUE=DATE:20260914
DTSTAMP:20260423T163812
CREATED:20260216T011222Z
LAST-MODIFIED:20260216T011222Z
UID:4474-1789257600-1789343999@camasfootball.com
SUMMARY:Staff Meeting
DESCRIPTION:Staff Meeting \nTime/Location TBD
URL:https://camasfootball.com/event/staff-meeting-28/
LOCATION:Washington
CATEGORIES:Staff Meeting,Varsity/JV Schedule
END:VEVENT
BEGIN:VEVENT
DTSTART;TZID=America/Los_Angeles:20260914T160000
DTEND;TZID=America/Los_Angeles:20260914T180000
DTSTAMP:20260423T163812
CREATED:20260216T025701Z
LAST-MODIFIED:20260216T025701Z
UID:4538-1789401600-1789408800@camasfootball.com
SUMMARY:Practice
DESCRIPTION:Monday Varsity/J.V. Practice \n1/2 Pac
URL:https://camasfootball.com/event/practice-122/
LOCATION:Cardon Field\, 26900 SE 15th St.\, Camas\, Washington\, 98607
CATEGORIES:Varsity Practice,Varsity/JV Schedule
END:VEVENT
BEGIN:VEVENT
DTSTART;TZID=America/Los_Angeles:20260915T154500
DTEND;TZID=America/Los_Angeles:20260915T181500
DTSTAMP:20260423T163812
CREATED:20260216T030830Z
LAST-MODIFIED:20260216T030830Z
UID:4565-1789487100-1789496100@camasfootball.com
SUMMARY:Practice
DESCRIPTION:Tuesday Varsity/J.V. Practice \nFull Pac
URL:https://camasfootball.com/event/practice-136/
LOCATION:Cardon Field\, 26900 SE 15th St.\, Camas\, Washington\, 98607
CATEGORIES:Varsity Practice,Varsity/JV Schedule
END:VEVENT
BEGIN:VEVENT
DTSTART;TZID=America/Los_Angeles:20260916T154500
DTEND;TZID=America/Los_Angeles:20260916T181500
DTSTAMP:20260423T163812
CREATED:20260216T032455Z
LAST-MODIFIED:20260216T032455Z
UID:4594-1789573500-1789582500@camasfootball.com
SUMMARY:Practice
DESCRIPTION:Wednesday Varsity/J.V. Practice \nFull Pac
URL:https://camasfootball.com/event/practice-150/
LOCATION:Cardon Field\, 26900 SE 15th St.\, Camas\, Washington\, 98607
CATEGORIES:Varsity Practice,Varsity/JV Schedule
END:VEVENT
BEGIN:VEVENT
DTSTART;TZID=America/Los_Angeles:20260917T153000
DTEND;TZID=America/Los_Angeles:20260917T174500
DTSTAMP:20260423T163812
CREATED:20260216T033744Z
LAST-MODIFIED:20260216T033744Z
UID:4623-1789659000-1789667100@camasfootball.com
SUMMARY:Practice
DESCRIPTION:Thursday Varsity/J.V. Practice \nFull Pac
URL:https://camasfootball.com/event/practice-164/
LOCATION:Cardon Field\, 26900 SE 15th St.\, Camas\, Washington\, 98607
CATEGORIES:Varsity Practice,Varsity/JV Schedule
END:VEVENT
BEGIN:VEVENT
DTSTART;TZID=America/Los_Angeles:20260918T190000
DTEND;TZID=America/Los_Angeles:20260918T220000
DTSTAMP:20260423T163812
CREATED:20260216T012539Z
LAST-MODIFIED:20260216T012539Z
UID:4516-1789758000-1789768800@camasfootball.com
SUMMARY:Varsity Game #3 at Skyview
DESCRIPTION:Varsity Game #3 \nat Skyview\, Gary Boggs Field at Kiggins Bowl \nPlease visit Arbiter for all game updates including date\, time and location.
URL:https://camasfootball.com/event/varsity-game-3-2026-at-skyview/
LOCATION:Gary Boggs Field at Kiggins Bowl\, 800 E 40th St\, Vancouver\, Washington\, 98663
CATEGORIES:Football Games,Varsity/JV Schedule
END:VEVENT
BEGIN:VEVENT
DTSTART;VALUE=DATE:20260920
DTEND;VALUE=DATE:20260921
DTSTAMP:20260423T163812
CREATED:20260216T011241Z
LAST-MODIFIED:20260216T011241Z
UID:4475-1789862400-1789948799@camasfootball.com
SUMMARY:Staff Meeting
DESCRIPTION:Staff Meeting \nTime/Location TBD
URL:https://camasfootball.com/event/staff-meeting-29/
LOCATION:Washington
CATEGORIES:Staff Meeting,Varsity/JV Schedule
END:VEVENT
BEGIN:VEVENT
DTSTART;TZID=America/Los_Angeles:20260921T160000
DTEND;TZID=America/Los_Angeles:20260921T180000
DTSTAMP:20260423T163812
CREATED:20260216T025723Z
LAST-MODIFIED:20260216T025723Z
UID:4539-1790006400-1790013600@camasfootball.com
SUMMARY:Practice
DESCRIPTION:Monday Varsity/J.V. Practice \n1/2 Pac
URL:https://camasfootball.com/event/practice-123/
LOCATION:Cardon Field\, 26900 SE 15th St.\, Camas\, Washington\, 98607
CATEGORIES:Varsity Practice,Varsity/JV Schedule
END:VEVENT
BEGIN:VEVENT
DTSTART;TZID=America/Los_Angeles:20260922T154500
DTEND;TZID=America/Los_Angeles:20260922T181500
DTSTAMP:20260423T163812
CREATED:20260216T030851Z
LAST-MODIFIED:20260216T030851Z
UID:4566-1790091900-1790100900@camasfootball.com
SUMMARY:Practice
DESCRIPTION:Tuesday Varsity/J.V. Practice \nFull Pac
URL:https://camasfootball.com/event/practice-137/
LOCATION:Cardon Field\, 26900 SE 15th St.\, Camas\, Washington\, 98607
CATEGORIES:Varsity Practice,Varsity/JV Schedule
END:VEVENT
BEGIN:VEVENT
DTSTART;TZID=America/Los_Angeles:20260923T154500
DTEND;TZID=America/Los_Angeles:20260923T181500
DTSTAMP:20260423T163812
CREATED:20260216T032518Z
LAST-MODIFIED:20260216T032518Z
UID:4595-1790178300-1790187300@camasfootball.com
SUMMARY:Practice
DESCRIPTION:Wednesday Varsity/J.V. Practice \nFull Pac
URL:https://camasfootball.com/event/practice-151/
LOCATION:Cardon Field\, 26900 SE 15th St.\, Camas\, Washington\, 98607
CATEGORIES:Varsity Practice,Varsity/JV Schedule
END:VEVENT
BEGIN:VEVENT
DTSTART;TZID=America/Los_Angeles:20260924T153000
DTEND;TZID=America/Los_Angeles:20260924T174500
DTSTAMP:20260423T163812
CREATED:20260216T033818Z
LAST-MODIFIED:20260216T033818Z
UID:4624-1790263800-1790271900@camasfootball.com
SUMMARY:Practice
DESCRIPTION:Thursday Varsity/J.V. Practice \nFull Pac
URL:https://camasfootball.com/event/practice-165/
LOCATION:Cardon Field\, 26900 SE 15th St.\, Camas\, Washington\, 98607
CATEGORIES:Varsity Practice,Varsity/JV Schedule
END:VEVENT
BEGIN:VEVENT
DTSTART;TZID=America/Los_Angeles:20260925T190000
DTEND;TZID=America/Los_Angeles:20260925T220000
DTSTAMP:20260423T163812
CREATED:20260216T012649Z
LAST-MODIFIED:20260216T012649Z
UID:4502-1790362800-1790373600@camasfootball.com
SUMMARY:Varsity Game #4 vs Union
DESCRIPTION:Varsity Game #4 \nvs Union at Doc Harris Stadium \nPlease visit Arbiter for all game updates including date\, time and location.
URL:https://camasfootball.com/event/varsity-game-4-2026-vs-union/
LOCATION:Doc Harris Stadium\, 841 NE 22nd Ave.\, Camas\, Washington\, 98607
CATEGORIES:Football Games,Varsity/JV Schedule
END:VEVENT
BEGIN:VEVENT
DTSTART;VALUE=DATE:20260927
DTEND;VALUE=DATE:20260928
DTSTAMP:20260423T163812
CREATED:20260216T011255Z
LAST-MODIFIED:20260216T011255Z
UID:4476-1790467200-1790553599@camasfootball.com
SUMMARY:Staff Meeting
DESCRIPTION:Staff Meeting \nTime/Location TBD
URL:https://camasfootball.com/event/staff-meeting-30/
LOCATION:Washington
CATEGORIES:Staff Meeting,Varsity/JV Schedule
END:VEVENT
BEGIN:VEVENT
DTSTART;TZID=America/Los_Angeles:20260928T160000
DTEND;TZID=America/Los_Angeles:20260928T180000
DTSTAMP:20260423T163812
CREATED:20260216T025746Z
LAST-MODIFIED:20260216T025746Z
UID:4540-1790611200-1790618400@camasfootball.com
SUMMARY:Practice
DESCRIPTION:Monday Varsity/J.V. Practice \n1/2 Pac
URL:https://camasfootball.com/event/practice-124/
LOCATION:Cardon Field\, 26900 SE 15th St.\, Camas\, Washington\, 98607
CATEGORIES:Varsity Practice,Varsity/JV Schedule
END:VEVENT
BEGIN:VEVENT
DTSTART;TZID=America/Los_Angeles:20260929T154500
DTEND;TZID=America/Los_Angeles:20260929T181500
DTSTAMP:20260423T163812
CREATED:20260216T030913Z
LAST-MODIFIED:20260216T030913Z
UID:4567-1790696700-1790705700@camasfootball.com
SUMMARY:Practice
DESCRIPTION:Tuesday Varsity/J.V. Practice \nFull Pac
URL:https://camasfootball.com/event/practice-138/
LOCATION:Cardon Field\, 26900 SE 15th St.\, Camas\, Washington\, 98607
CATEGORIES:Varsity Practice,Varsity/JV Schedule
END:VEVENT
BEGIN:VEVENT
DTSTART;TZID=America/Los_Angeles:20260930T154500
DTEND;TZID=America/Los_Angeles:20260930T181500
DTSTAMP:20260423T163812
CREATED:20260216T032545Z
LAST-MODIFIED:20260216T032545Z
UID:4596-1790783100-1790792100@camasfootball.com
SUMMARY:Practice
DESCRIPTION:Wednesday Varsity/J.V. Practice \nFull Pac
URL:https://camasfootball.com/event/practice-152/
LOCATION:Cardon Field\, 26900 SE 15th St.\, Camas\, Washington\, 98607
CATEGORIES:Varsity Practice,Varsity/JV Schedule
END:VEVENT
END:VCALENDAR