BEGIN:VCALENDAR
VERSION:2.0
PRODID:-//Camas Football - ECPv6.15.3//NONSGML v1.0//EN
CALSCALE:GREGORIAN
METHOD:PUBLISH
X-ORIGINAL-URL:https://camasfootball.com
X-WR-CALDESC:Events for Camas Football
REFRESH-INTERVAL;VALUE=DURATION:PT1H
X-Robots-Tag:noindex
X-PUBLISHED-TTL:PT1H
BEGIN:VTIMEZONE
TZID:America/Los_Angeles
BEGIN:DAYLIGHT
TZOFFSETFROM:-0800
TZOFFSETTO:-0700
TZNAME:PDT
DTSTART:20240310T100000
END:DAYLIGHT
BEGIN:STANDARD
TZOFFSETFROM:-0700
TZOFFSETTO:-0800
TZNAME:PST
DTSTART:20241103T090000
END:STANDARD
BEGIN:DAYLIGHT
TZOFFSETFROM:-0800
TZOFFSETTO:-0700
TZNAME:PDT
DTSTART:20250309T100000
END:DAYLIGHT
BEGIN:STANDARD
TZOFFSETFROM:-0700
TZOFFSETTO:-0800
TZNAME:PST
DTSTART:20251102T090000
END:STANDARD
END:VTIMEZONE
BEGIN:VEVENT
DTSTART;TZID=America/Los_Angeles:20250113T183000
DTEND;TZID=America/Los_Angeles:20250113T203000
DTSTAMP:20260424T115516
CREATED:20240224T004423Z
LAST-MODIFIED:20250321T203423Z
UID:1249-1736793000-1736800200@camasfootball.com
SUMMARY:#Team_116 Annual Celebration
DESCRIPTION:Join us as we celebrate the end of the 2024 football season and all that Team 116 accomplished including winning the 4A GSHL Championship and a 13-1 season that included a trip to the WIAA 4A State Championship game.
URL:https://camasfootball.com/event/team_116-annual-celebration/
LOCATION:North Commons\, 26900 SE 15th St.\, Camas\, Washington\, 98607
CATEGORIES:Varsity/JV Schedule
END:VEVENT
BEGIN:VEVENT
DTSTART;VALUE=DATE:20241102
DTEND;VALUE=DATE:20241103
DTSTAMP:20260424T115516
CREATED:20240603T205050Z
LAST-MODIFIED:20250421T153021Z
UID:2042-1730505600-1730591999@camasfootball.com
SUMMARY:CCYF Day
DESCRIPTION:CCYF Day #2 \nMore info to follow.
URL:https://camasfootball.com/event/ccyf-day-2/
LOCATION:Doc Harris Stadium\, 841 NE 22nd Ave.\, Camas\, Washington\, 98607
CATEGORIES:CCYF Day,Frosh Calendar,Varsity/JV Schedule
END:VEVENT
BEGIN:VEVENT
DTSTART;VALUE=DATE:20241026
DTEND;VALUE=DATE:20241027
DTSTAMP:20260424T115516
CREATED:20240603T205013Z
LAST-MODIFIED:20250421T153026Z
UID:2040-1729900800-1729987199@camasfootball.com
SUMMARY:CCYF Day
DESCRIPTION:CCYF Day #1 \nMore info to follow.
URL:https://camasfootball.com/event/ccyf-day/
LOCATION:Doc Harris Stadium\, 841 NE 22nd Ave.\, Camas\, Washington\, 98607
CATEGORIES:CCYF Day,Frosh Calendar,Varsity/JV Schedule
END:VEVENT
BEGIN:VEVENT
DTSTART;TZID=America/Los_Angeles:20240727T090000
DTEND;TZID=America/Los_Angeles:20240727T120000
DTSTAMP:20260424T115516
CREATED:20240327T162148Z
LAST-MODIFIED:20250325T021329Z
UID:1779-1722070800-1722081600@camasfootball.com
SUMMARY:Camas Days Parade
DESCRIPTION:Join us as we walk in the annual Camas Days Parade! \nMeet at Doc Harris Stadium.
URL:https://camasfootball.com/event/camas-days-parade/
LOCATION:Doc Harris Stadium\, 841 NE 22nd Ave.\, Camas\, Washington\, 98607
CATEGORIES:Community Outreach,Varsity/JV Schedule
END:VEVENT
END:VCALENDAR