BEGIN:VCALENDAR
VERSION:2.0
PRODID:-//Camas Football - ECPv6.15.3//NONSGML v1.0//EN
CALSCALE:GREGORIAN
METHOD:PUBLISH
X-WR-CALNAME:Camas Football
X-ORIGINAL-URL:https://camasfootball.com
X-WR-CALDESC:Events for Camas Football
REFRESH-INTERVAL;VALUE=DURATION:PT1H
X-Robots-Tag:noindex
X-PUBLISHED-TTL:PT1H
BEGIN:VTIMEZONE
TZID:America/Los_Angeles
BEGIN:DAYLIGHT
TZOFFSETFROM:-0800
TZOFFSETTO:-0700
TZNAME:PDT
DTSTART:20260308T100000
END:DAYLIGHT
BEGIN:STANDARD
TZOFFSETFROM:-0700
TZOFFSETTO:-0800
TZNAME:PST
DTSTART:20261101T090000
END:STANDARD
END:VTIMEZONE
BEGIN:VEVENT
DTSTART;TZID=America/Los_Angeles:20260821T090000
DTEND;TZID=America/Los_Angeles:20260821T120000
DTSTAMP:20260423T125431
CREATED:20260216T005117Z
LAST-MODIFIED:20260216T005117Z
UID:4441-1787302800-1787313600@camasfootball.com
SUMMARY:Varsity Practice #5
DESCRIPTION:Varsity Practice #5 \nHelmets
URL:https://camasfootball.com/event/varsity-practice-5-2026/
LOCATION:Cardon Field\, 26900 SE 15th St.\, Camas\, Washington\, 98607
CATEGORIES:Varsity Practice,Varsity/JV Schedule
END:VEVENT
BEGIN:VEVENT
DTSTART;TZID=America/Los_Angeles:20260821T180000
DTEND;TZID=America/Los_Angeles:20260821T200000
DTSTAMP:20260423T125431
CREATED:20260216T005148Z
LAST-MODIFIED:20260216T005250Z
UID:4442-1787335200-1787342400@camasfootball.com
SUMMARY:Varsity Practice #6
DESCRIPTION:Varsity Practice #6 \nHelmets
URL:https://camasfootball.com/event/varsity-practice-6-2026/
LOCATION:Cardon Field\, 26900 SE 15th St.\, Camas\, Washington\, 98607
CATEGORIES:Varsity Practice,Varsity/JV Schedule
END:VEVENT
END:VCALENDAR