BEGIN:VCALENDAR
VERSION:2.0
PRODID:-//Camas Football - ECPv6.15.3//NONSGML v1.0//EN
CALSCALE:GREGORIAN
METHOD:PUBLISH
X-WR-CALNAME:Camas Football
X-ORIGINAL-URL:https://camasfootball.com
X-WR-CALDESC:Events for Camas Football
REFRESH-INTERVAL;VALUE=DURATION:PT1H
X-Robots-Tag:noindex
X-PUBLISHED-TTL:PT1H
BEGIN:VTIMEZONE
TZID:America/Los_Angeles
BEGIN:DAYLIGHT
TZOFFSETFROM:-0800
TZOFFSETTO:-0700
TZNAME:PDT
DTSTART:20250309T100000
END:DAYLIGHT
BEGIN:STANDARD
TZOFFSETFROM:-0700
TZOFFSETTO:-0800
TZNAME:PST
DTSTART:20251102T090000
END:STANDARD
END:VTIMEZONE
BEGIN:VEVENT
DTSTART;VALUE=DATE:20250906
DTEND;VALUE=DATE:20250907
DTSTAMP:20260423T163006
CREATED:20250205T034022Z
LAST-MODIFIED:20260216T011704Z
UID:2935-1757116800-1757203199@camasfootball.com
SUMMARY:Varsity Game #1 at Roosevelt (Seattle)
DESCRIPTION:Varsity Game #1 \nat Roosevelt (Seattle) \nNOTE: Saturday game\, 3:30 p.m. at Ingraham High School Field\, Seattle \nPlease visit Arbiter for all game updates including date\, time and location.
URL:https://camasfootball.com/event/varsity-game-1-2025/
LOCATION:Ingraham High School Field\, 1819 N 135th St\, Seattle\, WA\, 98133\, United States
CATEGORIES:Football Games,Varsity/JV Schedule
END:VEVENT
END:VCALENDAR