BEGIN:VCALENDAR
VERSION:2.0
PRODID:-//Camas Football - ECPv6.15.3//NONSGML v1.0//EN
CALSCALE:GREGORIAN
METHOD:PUBLISH
X-WR-CALNAME:Camas Football
X-ORIGINAL-URL:https://camasfootball.com
X-WR-CALDESC:Events for Camas Football
REFRESH-INTERVAL;VALUE=DURATION:PT1H
X-Robots-Tag:noindex
X-PUBLISHED-TTL:PT1H
BEGIN:VTIMEZONE
TZID:America/Los_Angeles
BEGIN:DAYLIGHT
TZOFFSETFROM:-0800
TZOFFSETTO:-0700
TZNAME:PDT
DTSTART:20250309T100000
END:DAYLIGHT
BEGIN:STANDARD
TZOFFSETFROM:-0700
TZOFFSETTO:-0800
TZNAME:PST
DTSTART:20251102T090000
END:STANDARD
END:VTIMEZONE
BEGIN:VEVENT
DTSTART;TZID=America/Los_Angeles:20250605T151500
DTEND;TZID=America/Los_Angeles:20250605T154500
DTSTAMP:20260423T203321
CREATED:20250205T011412Z
LAST-MODIFIED:20250323T235154Z
UID:2713-1749136500-1749138300@camasfootball.com
SUMMARY:Install Meeting #3
DESCRIPTION:Install Meeting \nSpring Practice #3 \nClass Room: TBD
URL:https://camasfootball.com/event/install-meeting-2025-3/
LOCATION:washington
CATEGORIES:Varsity Practice,Varsity/JV Schedule
END:VEVENT
BEGIN:VEVENT
DTSTART;TZID=America/Los_Angeles:20250605T160000
DTEND;TZID=America/Los_Angeles:20250605T180000
DTSTAMP:20260423T203321
CREATED:20250205T012417Z
LAST-MODIFIED:20250529T221253Z
UID:2699-1749139200-1749146400@camasfootball.com
SUMMARY:Spring Practice #3
DESCRIPTION:Spring Practice #3 \nHelmets
URL:https://camasfootball.com/event/spring-practice-3-2/
LOCATION:Cardon Field\, 26900 SE 15th St.\, Camas\, Washington\, 98607
CATEGORIES:Varsity Practice,Varsity/JV Schedule
END:VEVENT
END:VCALENDAR