BEGIN:VCALENDAR
VERSION:2.0
PRODID:-//Camas Football - ECPv6.15.3//NONSGML v1.0//EN
CALSCALE:GREGORIAN
METHOD:PUBLISH
X-ORIGINAL-URL:https://camasfootball.com
X-WR-CALDESC:Events for Camas Football
REFRESH-INTERVAL;VALUE=DURATION:PT1H
X-Robots-Tag:noindex
X-PUBLISHED-TTL:PT1H
BEGIN:VTIMEZONE
TZID:America/Los_Angeles
BEGIN:DAYLIGHT
TZOFFSETFROM:-0800
TZOFFSETTO:-0700
TZNAME:PDT
DTSTART:20240310T100000
END:DAYLIGHT
BEGIN:STANDARD
TZOFFSETFROM:-0700
TZOFFSETTO:-0800
TZNAME:PST
DTSTART:20241103T090000
END:STANDARD
END:VTIMEZONE
BEGIN:VEVENT
DTSTART;TZID=America/Los_Angeles:20240910T154500
DTEND;TZID=America/Los_Angeles:20240910T181500
DTSTAMP:20260423T223637
CREATED:20240223T234203Z
LAST-MODIFIED:20240831T193857Z
UID:1099-1725983100-1725992100@camasfootball.com
SUMMARY:Practice
DESCRIPTION:Tuesday Varsity/J.V. Practice \nFull Pac
URL:https://camasfootball.com/event/practice-9/
LOCATION:Cardon Field\, 26900 SE 15th St.\, Camas\, Washington\, 98607
CATEGORIES:Varsity Practice
END:VEVENT
BEGIN:VEVENT
DTSTART;TZID=America/Los_Angeles:20240909T154500
DTEND;TZID=America/Los_Angeles:20240909T180000
DTSTAMP:20260423T223637
CREATED:20240223T234010Z
LAST-MODIFIED:20240831T193854Z
UID:1090-1725896700-1725904800@camasfootball.com
SUMMARY:Practice
DESCRIPTION:Monday Varsity Practice \n1/2 Pac
URL:https://camasfootball.com/event/practice-5/
LOCATION:Cardon Field\, 26900 SE 15th St.\, Camas\, Washington\, 98607
CATEGORIES:Varsity Practice
END:VEVENT
BEGIN:VEVENT
DTSTART;TZID=America/Los_Angeles:20240905T154500
DTEND;TZID=America/Los_Angeles:20240905T174500
DTSTAMP:20260423T223637
CREATED:20240223T115258Z
LAST-MODIFIED:20240308T032113Z
UID:1063-1725551100-1725558300@camasfootball.com
SUMMARY:Practice
DESCRIPTION:Thursday Varsity/J.V. Practice \nFull Pac
URL:https://camasfootball.com/event/practice-4/
LOCATION:Cardon Field\, 26900 SE 15th St.\, Camas\, Washington\, 98607
CATEGORIES:Varsity Practice
END:VEVENT
BEGIN:VEVENT
DTSTART;TZID=America/Los_Angeles:20240904T154500
DTEND;TZID=America/Los_Angeles:20240904T181500
DTSTAMP:20260423T223637
CREATED:20240223T115207Z
LAST-MODIFIED:20240831T193809Z
UID:1062-1725464700-1725473700@camasfootball.com
SUMMARY:Practice
DESCRIPTION:Wednesday Varsity/J.V. Practice \nFull Pac
URL:https://camasfootball.com/event/practice-3/
LOCATION:Cardon Field\, 26900 SE 15th St.\, Camas\, Washington\, 98607
CATEGORIES:Varsity Practice
END:VEVENT
BEGIN:VEVENT
DTSTART;TZID=America/Los_Angeles:20240903T154500
DTEND;TZID=America/Los_Angeles:20240903T181500
DTSTAMP:20260423T223637
CREATED:20240223T115115Z
LAST-MODIFIED:20240831T193806Z
UID:1059-1725378300-1725387300@camasfootball.com
SUMMARY:Practice
DESCRIPTION:Tuesday Varsity/J.V. Practice \nFull Pac
URL:https://camasfootball.com/event/practice-2/
LOCATION:Cardon Field\, 26900 SE 15th St.\, Camas\, Washington\, 98607
CATEGORIES:Varsity Practice
END:VEVENT
BEGIN:VEVENT
DTSTART;TZID=America/Los_Angeles:20240902T154500
DTEND;TZID=America/Los_Angeles:20240902T180000
DTSTAMP:20260423T223637
CREATED:20240223T114943Z
LAST-MODIFIED:20240831T193801Z
UID:1056-1725291900-1725300000@camasfootball.com
SUMMARY:Practice
DESCRIPTION:Monday Varsity/J.V. Practice \n1/2 Pac
URL:https://camasfootball.com/event/practice/
LOCATION:Cardon Field\, 26900 SE 15th St.\, Camas\, Washington\, 98607
CATEGORIES:Varsity Practice
END:VEVENT
BEGIN:VEVENT
DTSTART;TZID=America/Los_Angeles:20240831T090000
DTEND;TZID=America/Los_Angeles:20240831T120000
DTSTAMP:20260423T223637
CREATED:20240223T111312Z
LAST-MODIFIED:20240308T032119Z
UID:1041-1725094800-1725105600@camasfootball.com
SUMMARY:Varsity Practice #12
DESCRIPTION:Varsity Practice #12 \n1/2 Pac
URL:https://camasfootball.com/event/varsity-practice-12/
LOCATION:Cardon Field\, 26900 SE 15th St.\, Camas\, Washington\, 98607
CATEGORIES:Varsity Practice
END:VEVENT
BEGIN:VEVENT
DTSTART;TZID=America/Los_Angeles:20240830T090000
DTEND;TZID=America/Los_Angeles:20240830T120000
DTSTAMP:20260423T223637
CREATED:20240808T172447Z
LAST-MODIFIED:20240808T211829Z
UID:2109-1725008400-1725019200@camasfootball.com
SUMMARY:Varsity Practice #11
DESCRIPTION:Varsity Practice #11 \n1/2 Pac \nNOTE: This morning practice is at Cardon Field and the evening Jamboree will be at Doc Harris Stadium.
URL:https://camasfootball.com/event/varsity-practice-11/
LOCATION:Cardon Field\, 26900 SE 15th St.\, Camas\, Washington\, 98607
CATEGORIES:Varsity Practice
END:VEVENT
BEGIN:VEVENT
DTSTART;TZID=America/Los_Angeles:20240829T154500
DTEND;TZID=America/Los_Angeles:20240829T181500
DTSTAMP:20260423T223637
CREATED:20240223T105656Z
LAST-MODIFIED:20240308T032210Z
UID:1022-1724946300-1724955300@camasfootball.com
SUMMARY:Varsity Practice #10
DESCRIPTION:Varsity Practice #10 \nFull Pac
URL:https://camasfootball.com/event/varsity-practice-10/
LOCATION:Cardon Field\, 26900 SE 15th St.\, Camas\, Washington\, 98607
CATEGORIES:Varsity Practice
END:VEVENT
BEGIN:VEVENT
DTSTART;TZID=America/Los_Angeles:20240828T154500
DTEND;TZID=America/Los_Angeles:20240828T181500
DTSTAMP:20260423T223637
CREATED:20240223T105629Z
LAST-MODIFIED:20240308T032208Z
UID:1023-1724859900-1724868900@camasfootball.com
SUMMARY:Varsity Practice #9
DESCRIPTION:Varsity Practice #9 \nFull Pac
URL:https://camasfootball.com/event/varsity-practice-9/
LOCATION:Cardon Field\, 26900 SE 15th St.\, Camas\, Washington\, 98607
CATEGORIES:Varsity Practice
END:VEVENT
BEGIN:VEVENT
DTSTART;TZID=America/Los_Angeles:20240827T154500
DTEND;TZID=America/Los_Angeles:20240827T181500
DTSTAMP:20260423T223637
CREATED:20240223T105603Z
LAST-MODIFIED:20240308T032205Z
UID:1021-1724773500-1724782500@camasfootball.com
SUMMARY:Varsity Practice #8
DESCRIPTION:Varsity Practice #8 \nFull Pac
URL:https://camasfootball.com/event/varsity-practice-8/
LOCATION:Cardon Field\, 26900 SE 15th St.\, Camas\, Washington\, 98607
CATEGORIES:Varsity Practice
END:VEVENT
BEGIN:VEVENT
DTSTART;TZID=America/Los_Angeles:20240826T154500
DTEND;TZID=America/Los_Angeles:20240826T181500
DTSTAMP:20260423T223637
CREATED:20240223T105519Z
LAST-MODIFIED:20240308T032202Z
UID:1020-1724687100-1724696100@camasfootball.com
SUMMARY:Varsity Practice #7
DESCRIPTION:Varsity Practice #7 \nFull Pac
URL:https://camasfootball.com/event/varsity-practice-7/
LOCATION:Cardon Field\, 26900 SE 15th St.\, Camas\, Washington\, 98607
CATEGORIES:Varsity Practice
END:VEVENT
BEGIN:VEVENT
DTSTART;TZID=America/Los_Angeles:20240824T100000
DTEND;TZID=America/Los_Angeles:20240824T120000
DTSTAMP:20260423T223637
CREATED:20240223T104950Z
LAST-MODIFIED:20240808T171220Z
UID:1018-1724493600-1724500800@camasfootball.com
SUMMARY:Varsity Practice #6
DESCRIPTION:Varsity Practice #6 \n1/2 Pac \nNOTE: Location change for this event. Practice will be following team pictures at Doc Harris Stadium.
URL:https://camasfootball.com/event/varsity-practice-6/
LOCATION:Doc Harris Stadium\, 841 NE 22nd Ave.\, Camas\, Washington\, 98607
CATEGORIES:Varsity Practice
END:VEVENT
BEGIN:VEVENT
DTSTART;TZID=America/Los_Angeles:20240823T180000
DTEND;TZID=America/Los_Angeles:20240823T200000
DTSTAMP:20260423T223637
CREATED:20240223T104826Z
LAST-MODIFIED:20240308T032154Z
UID:1015-1724436000-1724443200@camasfootball.com
SUMMARY:Varsity Practice #5
DESCRIPTION:Varsity Practice #5 \nNo Pac \nNOTE: There are 2 practices today\, Practice 4 in the AM and Practice 5 in the PM
URL:https://camasfootball.com/event/varsity-practice-5/
LOCATION:Cardon Field\, 26900 SE 15th St.\, Camas\, Washington\, 98607
CATEGORIES:Varsity Practice
END:VEVENT
BEGIN:VEVENT
DTSTART;TZID=America/Los_Angeles:20240823T090000
DTEND;TZID=America/Los_Angeles:20240823T120000
DTSTAMP:20260423T223637
CREATED:20240223T104847Z
LAST-MODIFIED:20240308T032149Z
UID:1014-1724403600-1724414400@camasfootball.com
SUMMARY:Varsity Practice #4
DESCRIPTION:Varsity Practice #4 \nNo Pac \nNOTE: There are 2 practices today\, Practice 4 in the AM and Practice 5 in the PM
URL:https://camasfootball.com/event/varsity-practice-4/
LOCATION:Cardon Field\, 26900 SE 15th St.\, Camas\, Washington\, 98607
CATEGORIES:Varsity Practice
END:VEVENT
BEGIN:VEVENT
DTSTART;TZID=America/Los_Angeles:20240822T180000
DTEND;TZID=America/Los_Angeles:20240822T200000
DTSTAMP:20260423T223637
CREATED:20240223T104648Z
LAST-MODIFIED:20240308T032145Z
UID:1011-1724349600-1724356800@camasfootball.com
SUMMARY:Varsity Practice #3
DESCRIPTION:Varsity Practice #3 \nNo Pac \nNOTE: There are 2 practices today\, Practice 2 in the AM and Practice 3 in the PM
URL:https://camasfootball.com/event/varsity-practice-3/
LOCATION:Cardon Field\, 26900 SE 15th St.\, Camas\, Washington\, 98607
CATEGORIES:Varsity Practice
END:VEVENT
BEGIN:VEVENT
DTSTART;TZID=America/Los_Angeles:20240822T090000
DTEND;TZID=America/Los_Angeles:20240822T120000
DTSTAMP:20260423T223637
CREATED:20240223T104650Z
LAST-MODIFIED:20240308T032226Z
UID:1010-1724317200-1724328000@camasfootball.com
SUMMARY:Varsity Practice #2
DESCRIPTION:Varsity Practice #2 \nNo Pac \nNOTE: There are 2 practices today\, Practice 2 in the AM and Practice 3 in the PM
URL:https://camasfootball.com/event/varsity-practice-2/
LOCATION:Cardon Field\, 26900 SE 15th St.\, Camas\, Washington\, 98607
CATEGORIES:Varsity Practice
END:VEVENT
BEGIN:VEVENT
DTSTART;TZID=America/Los_Angeles:20240821T150000
DTEND;TZID=America/Los_Angeles:20240821T180000
DTSTAMP:20260423T223637
CREATED:20240223T104458Z
LAST-MODIFIED:20240308T032223Z
UID:1008-1724252400-1724263200@camasfootball.com
SUMMARY:Varsity Practice #1
DESCRIPTION:Varsity Practice #1 \nNo Pac
URL:https://camasfootball.com/event/varsity-practice-1/
LOCATION:Cardon Field\, 26900 SE 15th St.\, Camas\, Washington\, 98607
CATEGORIES:Varsity Practice
END:VEVENT
BEGIN:VEVENT
DTSTART;TZID=America/Los_Angeles:20240618T160000
DTEND;TZID=America/Los_Angeles:20240618T174500
DTSTAMP:20260423T223637
CREATED:20240223T033751Z
LAST-MODIFIED:20240418T182643Z
UID:809-1718726400-1718732700@camasfootball.com
SUMMARY:Spring Practice #10
DESCRIPTION:Spring Practice #10 \nFull Pac
URL:https://camasfootball.com/event/spring-practice-10/
LOCATION:Cardon Field\, 26900 SE 15th St.\, Camas\, Washington\, 98607
CATEGORIES:Frosh Calendar,Varsity Practice
END:VEVENT
BEGIN:VEVENT
DTSTART;TZID=America/Los_Angeles:20240613T160000
DTEND;TZID=America/Los_Angeles:20240613T174500
DTSTAMP:20260423T223637
CREATED:20240223T033523Z
LAST-MODIFIED:20240418T182638Z
UID:802-1718294400-1718300700@camasfootball.com
SUMMARY:Spring Practice #9
DESCRIPTION:Spring Practice #9 \nFull Pac
URL:https://camasfootball.com/event/spring-practice-9/
LOCATION:Cardon Field\, 26900 SE 15th St.\, Camas\, Washington\, 98607
CATEGORIES:Frosh Calendar,Varsity Practice
END:VEVENT
BEGIN:VEVENT
DTSTART;TZID=America/Los_Angeles:20240611T160000
DTEND;TZID=America/Los_Angeles:20240611T174500
DTSTAMP:20260423T223637
CREATED:20240223T033513Z
LAST-MODIFIED:20240418T182634Z
UID:801-1718121600-1718127900@camasfootball.com
SUMMARY:Spring Practice #8
DESCRIPTION:Spring Practice #8 \nFull Pac
URL:https://camasfootball.com/event/spring-practice-8/
LOCATION:Cardon Field\, 26900 SE 15th St.\, Camas\, Washington\, 98607
CATEGORIES:Frosh Calendar,Varsity Practice
END:VEVENT
BEGIN:VEVENT
DTSTART;TZID=America/Los_Angeles:20240610T160000
DTEND;TZID=America/Los_Angeles:20240610T174500
DTSTAMP:20260423T223637
CREATED:20240223T033502Z
LAST-MODIFIED:20240418T182629Z
UID:800-1718035200-1718041500@camasfootball.com
SUMMARY:Spring Practice #7
DESCRIPTION:Spring Practice #7 \nFull Pac
URL:https://camasfootball.com/event/spring-practice-7/
LOCATION:Cardon Field\, 26900 SE 15th St.\, Camas\, Washington\, 98607
CATEGORIES:Frosh Calendar,Varsity Practice
END:VEVENT
BEGIN:VEVENT
DTSTART;TZID=America/Los_Angeles:20240606T160000
DTEND;TZID=America/Los_Angeles:20240606T174500
DTSTAMP:20260423T223637
CREATED:20240223T031415Z
LAST-MODIFIED:20240514T144113Z
UID:794-1717689600-1717695900@camasfootball.com
SUMMARY:Spring Practice #6
DESCRIPTION:Spring Practice #6 \nFull Pac
URL:https://camasfootball.com/event/spring-practice-6/
LOCATION:Cardon Field\, 26900 SE 15th St.\, Camas\, Washington\, 98607
CATEGORIES:Varsity Practice
END:VEVENT
BEGIN:VEVENT
DTSTART;TZID=America/Los_Angeles:20240604T160000
DTEND;TZID=America/Los_Angeles:20240604T174500
DTSTAMP:20260423T223637
CREATED:20240223T031348Z
LAST-MODIFIED:20250515T002913Z
UID:793-1717516800-1717523100@camasfootball.com
SUMMARY:Spring Practice #5
DESCRIPTION:Spring Practice #5 \n1/2 Pac
URL:https://camasfootball.com/event/spring-practice-5/
LOCATION:Cardon Field\, 26900 SE 15th St.\, Camas\, Washington\, 98607
CATEGORIES:Frosh Calendar,Varsity Practice
END:VEVENT
BEGIN:VEVENT
DTSTART;TZID=America/Los_Angeles:20240603T160000
DTEND;TZID=America/Los_Angeles:20240603T174500
DTSTAMP:20260423T223637
CREATED:20240223T031327Z
LAST-MODIFIED:20240514T144058Z
UID:792-1717430400-1717436700@camasfootball.com
SUMMARY:Spring Practice #4
DESCRIPTION:Spring Practice #4 \n1/2 Pac
URL:https://camasfootball.com/event/spring-practice-4/
LOCATION:Cardon Field\, 26900 SE 15th St.\, Camas\, Washington\, 98607
CATEGORIES:Varsity Practice
END:VEVENT
BEGIN:VEVENT
DTSTART;TZID=America/Los_Angeles:20240530T160000
DTEND;TZID=America/Los_Angeles:20240530T174500
DTSTAMP:20260423T223637
CREATED:20240223T020350Z
LAST-MODIFIED:20240308T040723Z
UID:789-1717084800-1717091100@camasfootball.com
SUMMARY:Spring Practice #3
DESCRIPTION:Spring Practice #3 \nNo Pac
URL:https://camasfootball.com/event/spring-practice-3/
LOCATION:Cardon Field\, 26900 SE 15th St.\, Camas\, Washington\, 98607
CATEGORIES:Varsity Practice
END:VEVENT
BEGIN:VEVENT
DTSTART;TZID=America/Los_Angeles:20240529T160000
DTEND;TZID=America/Los_Angeles:20240529T174500
DTSTAMP:20260423T223637
CREATED:20240223T020347Z
LAST-MODIFIED:20240308T040720Z
UID:788-1716998400-1717004700@camasfootball.com
SUMMARY:Spring Practice #2
DESCRIPTION:Spring Practice #2 \nNo Pac
URL:https://camasfootball.com/event/spring-practice-2/
LOCATION:Cardon Field\, 26900 SE 15th St.\, Camas\, Washington\, 98607
CATEGORIES:Varsity Practice
END:VEVENT
BEGIN:VEVENT
DTSTART;TZID=America/Los_Angeles:20240528T160000
DTEND;TZID=America/Los_Angeles:20240528T174500
DTSTAMP:20260423T223637
CREATED:20240223T020246Z
LAST-MODIFIED:20240308T040716Z
UID:786-1716912000-1716918300@camasfootball.com
SUMMARY:Spring Practice #1
DESCRIPTION:Spring Practice #1 \nNo Pac
URL:https://camasfootball.com/event/spring-practice-1/
LOCATION:Cardon Field\, 26900 SE 15th St.\, Camas\, Washington\, 98607
CATEGORIES:Varsity Practice
END:VEVENT
END:VCALENDAR