BEGIN:VCALENDAR
VERSION:2.0
PRODID:-//Camas Football - ECPv6.15.3//NONSGML v1.0//EN
CALSCALE:GREGORIAN
METHOD:PUBLISH
X-ORIGINAL-URL:https://camasfootball.com
X-WR-CALDESC:Events for Camas Football
REFRESH-INTERVAL;VALUE=DURATION:PT1H
X-Robots-Tag:noindex
X-PUBLISHED-TTL:PT1H
BEGIN:VTIMEZONE
TZID:America/Los_Angeles
BEGIN:DAYLIGHT
TZOFFSETFROM:-0800
TZOFFSETTO:-0700
TZNAME:PDT
DTSTART:20240310T100000
END:DAYLIGHT
BEGIN:STANDARD
TZOFFSETFROM:-0700
TZOFFSETTO:-0800
TZNAME:PST
DTSTART:20241103T090000
END:STANDARD
END:VTIMEZONE
BEGIN:VEVENT
DTSTART;TZID=America/Los_Angeles:20241002T154500
DTEND;TZID=America/Los_Angeles:20241002T181500
DTSTAMP:20260425T093320
CREATED:20240224T001711Z
LAST-MODIFIED:20240831T194036Z
UID:1183-1727883900-1727892900@camasfootball.com
SUMMARY:Practice
DESCRIPTION:Wednesday Varsity/J.V. Practice \nFull Pac
URL:https://camasfootball.com/event/practice-37/
LOCATION:Cardon Field\, 26900 SE 15th St.\, Camas\, Washington\, 98607
CATEGORIES:Varsity Practice
END:VEVENT
BEGIN:VEVENT
DTSTART;TZID=America/Los_Angeles:20241003T154500
DTEND;TZID=America/Los_Angeles:20241003T174500
DTSTAMP:20260425T093320
CREATED:20240224T002532Z
LAST-MODIFIED:20240308T031643Z
UID:1203-1727970300-1727977500@camasfootball.com
SUMMARY:Practice
DESCRIPTION:Thursday Varsity/J.V. Practice \nFull Pac
URL:https://camasfootball.com/event/practice-50/
LOCATION:Cardon Field\, 26900 SE 15th St.\, Camas\, Washington\, 98607
CATEGORIES:Varsity Practice
END:VEVENT
BEGIN:VEVENT
DTSTART;TZID=America/Los_Angeles:20241007T154500
DTEND;TZID=America/Los_Angeles:20241007T180000
DTSTAMP:20260425T093320
CREATED:20240223T235803Z
LAST-MODIFIED:20240831T194126Z
UID:1144-1728315900-1728324000@camasfootball.com
SUMMARY:Practice
DESCRIPTION:Monday Varsity Practice \n1/2 Pac
URL:https://camasfootball.com/event/practice-18/
LOCATION:Cardon Field\, 26900 SE 15th St.\, Camas\, Washington\, 98607
CATEGORIES:Varsity Practice
END:VEVENT
BEGIN:VEVENT
DTSTART;TZID=America/Los_Angeles:20241008T154500
DTEND;TZID=America/Los_Angeles:20241008T181500
DTSTAMP:20260425T093320
CREATED:20240224T001154Z
LAST-MODIFIED:20240831T194129Z
UID:1164-1728402300-1728411300@camasfootball.com
SUMMARY:Practice
DESCRIPTION:Tuesday Varsity/J.V. Practice \nFull Pac
URL:https://camasfootball.com/event/practice-28/
LOCATION:Cardon Field\, 26900 SE 15th St.\, Camas\, Washington\, 98607
CATEGORIES:Varsity Practice
END:VEVENT
BEGIN:VEVENT
DTSTART;TZID=America/Los_Angeles:20241009T154500
DTEND;TZID=America/Los_Angeles:20241009T181500
DTSTAMP:20260425T093320
CREATED:20240224T001732Z
LAST-MODIFIED:20240831T194132Z
UID:1184-1728488700-1728497700@camasfootball.com
SUMMARY:Practice
DESCRIPTION:Wednesday Varsity/J.V. Practice \nFull Pac
URL:https://camasfootball.com/event/practice-38/
LOCATION:Cardon Field\, 26900 SE 15th St.\, Camas\, Washington\, 98607
CATEGORIES:Varsity Practice
END:VEVENT
BEGIN:VEVENT
DTSTART;TZID=America/Los_Angeles:20241014T154500
DTEND;TZID=America/Los_Angeles:20241014T180000
DTSTAMP:20260425T093320
CREATED:20240223T235817Z
LAST-MODIFIED:20240831T194135Z
UID:1145-1728920700-1728928800@camasfootball.com
SUMMARY:Practice
DESCRIPTION:Monday Varsity Practice \n1/2 Pac
URL:https://camasfootball.com/event/practice-19/
LOCATION:Washington
CATEGORIES:Varsity Practice
END:VEVENT
BEGIN:VEVENT
DTSTART;TZID=America/Los_Angeles:20241015T154500
DTEND;TZID=America/Los_Angeles:20241015T181500
DTSTAMP:20260425T093320
CREATED:20240224T001220Z
LAST-MODIFIED:20240831T194139Z
UID:1165-1729007100-1729016100@camasfootball.com
SUMMARY:Practice
DESCRIPTION:Tuesday Varsity/J.V. Practice \nFull Pac
URL:https://camasfootball.com/event/practice-29/
LOCATION:Cardon Field\, 26900 SE 15th St.\, Camas\, Washington\, 98607
CATEGORIES:Varsity Practice
END:VEVENT
BEGIN:VEVENT
DTSTART;TZID=America/Los_Angeles:20241016T154500
DTEND;TZID=America/Los_Angeles:20241016T181500
DTSTAMP:20260425T093320
CREATED:20240224T001752Z
LAST-MODIFIED:20240831T194142Z
UID:1185-1729093500-1729102500@camasfootball.com
SUMMARY:Practice
DESCRIPTION:Wednesday Varsity/J.V. Practice \nFull Pac
URL:https://camasfootball.com/event/practice-39/
LOCATION:Cardon Field\, 26900 SE 15th St.\, Camas\, Washington\, 98607
CATEGORIES:Varsity Practice
END:VEVENT
BEGIN:VEVENT
DTSTART;TZID=America/Los_Angeles:20241017T154500
DTEND;TZID=America/Los_Angeles:20241017T174500
DTSTAMP:20260425T093320
CREATED:20240224T002558Z
LAST-MODIFIED:20240308T031620Z
UID:1204-1729179900-1729187100@camasfootball.com
SUMMARY:Practice
DESCRIPTION:Thursday Varsity/J.V. Practice \nFull Pac
URL:https://camasfootball.com/event/practice-51/
LOCATION:Cardon Field\, 26900 SE 15th St.\, Camas\, Washington\, 98607
CATEGORIES:Varsity Practice
END:VEVENT
BEGIN:VEVENT
DTSTART;TZID=America/Los_Angeles:20241021T154500
DTEND;TZID=America/Los_Angeles:20241021T180000
DTSTAMP:20260425T093320
CREATED:20240223T235831Z
LAST-MODIFIED:20240831T194226Z
UID:1146-1729525500-1729533600@camasfootball.com
SUMMARY:Practice
DESCRIPTION:Monday Varsity Practice \n1/2 Pac
URL:https://camasfootball.com/event/practice-20/
LOCATION:Washington
CATEGORIES:Varsity Practice
END:VEVENT
BEGIN:VEVENT
DTSTART;TZID=America/Los_Angeles:20241022T154500
DTEND;TZID=America/Los_Angeles:20241022T181500
DTSTAMP:20260425T093320
CREATED:20240224T001239Z
LAST-MODIFIED:20240831T194230Z
UID:1166-1729611900-1729620900@camasfootball.com
SUMMARY:Practice
DESCRIPTION:Tuesday Varsity/J.V. Practice \nFull Pac
URL:https://camasfootball.com/event/practice-30/
LOCATION:Cardon Field\, 26900 SE 15th St.\, Camas\, Washington\, 98607
CATEGORIES:Varsity Practice
END:VEVENT
BEGIN:VEVENT
DTSTART;TZID=America/Los_Angeles:20241023T154500
DTEND;TZID=America/Los_Angeles:20241023T181500
DTSTAMP:20260425T093320
CREATED:20240224T001809Z
LAST-MODIFIED:20240831T194234Z
UID:1186-1729698300-1729707300@camasfootball.com
SUMMARY:Practice
DESCRIPTION:Wednesday Varsity/J.V. Practice \nFull Pac
URL:https://camasfootball.com/event/practice-40/
LOCATION:Cardon Field\, 26900 SE 15th St.\, Camas\, Washington\, 98607
CATEGORIES:Varsity Practice
END:VEVENT
BEGIN:VEVENT
DTSTART;TZID=America/Los_Angeles:20241024T154500
DTEND;TZID=America/Los_Angeles:20241024T174500
DTSTAMP:20260425T093320
CREATED:20240224T002621Z
LAST-MODIFIED:20240308T031549Z
UID:1205-1729784700-1729791900@camasfootball.com
SUMMARY:Practice
DESCRIPTION:Thursday Varsity/J.V. Practice \nFull Pac
URL:https://camasfootball.com/event/practice-52/
LOCATION:Cardon Field\, 26900 SE 15th St.\, Camas\, Washington\, 98607
CATEGORIES:Varsity Practice
END:VEVENT
BEGIN:VEVENT
DTSTART;TZID=America/Los_Angeles:20241028T154500
DTEND;TZID=America/Los_Angeles:20241028T180000
DTSTAMP:20260425T093320
CREATED:20240223T235858Z
LAST-MODIFIED:20240831T194238Z
UID:1147-1730130300-1730138400@camasfootball.com
SUMMARY:Practice
DESCRIPTION:Monday Varsity Practice \n1/2 Pac
URL:https://camasfootball.com/event/practice-21/
LOCATION:Cardon Field\, 26900 SE 15th St.\, Camas\, Washington\, 98607
CATEGORIES:Varsity Practice
END:VEVENT
BEGIN:VEVENT
DTSTART;TZID=America/Los_Angeles:20241029T154500
DTEND;TZID=America/Los_Angeles:20241029T181500
DTSTAMP:20260425T093320
CREATED:20240224T001300Z
LAST-MODIFIED:20240831T194241Z
UID:1167-1730216700-1730225700@camasfootball.com
SUMMARY:Practice
DESCRIPTION:Tuesday Varsity/J.V. Practice \nFull Pac
URL:https://camasfootball.com/event/practice-31/
LOCATION:Cardon Field\, 26900 SE 15th St.\, Camas\, Washington\, 98607
CATEGORIES:Varsity Practice
END:VEVENT
BEGIN:VEVENT
DTSTART;TZID=America/Los_Angeles:20241030T154500
DTEND;TZID=America/Los_Angeles:20241030T181500
DTSTAMP:20260425T093320
CREATED:20240224T001828Z
LAST-MODIFIED:20240831T194244Z
UID:1187-1730303100-1730312100@camasfootball.com
SUMMARY:Practice
DESCRIPTION:Wednesday Varsity/J.V. Practice \nFull Pac
URL:https://camasfootball.com/event/practice-41/
LOCATION:Cardon Field\, 26900 SE 15th St.\, Camas\, Washington\, 98607
CATEGORIES:Varsity Practice
END:VEVENT
BEGIN:VEVENT
DTSTART;TZID=America/Los_Angeles:20241031T154500
DTEND;TZID=America/Los_Angeles:20241031T174500
DTSTAMP:20260425T093320
CREATED:20240224T002639Z
LAST-MODIFIED:20240308T031255Z
UID:1206-1730389500-1730396700@camasfootball.com
SUMMARY:Practice
DESCRIPTION:Thursday Varsity/J.V. Practice \nFull Pac
URL:https://camasfootball.com/event/practice-53/
LOCATION:Cardon Field\, 26900 SE 15th St.\, Camas\, Washington\, 98607
CATEGORIES:Varsity Practice
END:VEVENT
BEGIN:VEVENT
DTSTART;TZID=America/Los_Angeles:20241104T154500
DTEND;TZID=America/Los_Angeles:20241104T180000
DTSTAMP:20260425T093320
CREATED:20240223T235914Z
LAST-MODIFIED:20240831T194327Z
UID:1148-1730735100-1730743200@camasfootball.com
SUMMARY:Practice
DESCRIPTION:Monday Varsity Practice \n1/2 Pac
URL:https://camasfootball.com/event/practice-22/
LOCATION:Cardon Field\, 26900 SE 15th St.\, Camas\, Washington\, 98607
CATEGORIES:Varsity Practice
END:VEVENT
BEGIN:VEVENT
DTSTART;TZID=America/Los_Angeles:20241105T154500
DTEND;TZID=America/Los_Angeles:20241105T181500
DTSTAMP:20260425T093320
CREATED:20240224T001323Z
LAST-MODIFIED:20240831T194331Z
UID:1168-1730821500-1730830500@camasfootball.com
SUMMARY:Practice
DESCRIPTION:Tuesday Varsity/J.V. Practice \nFull Pac
URL:https://camasfootball.com/event/practice-32/
LOCATION:Cardon Field\, 26900 SE 15th St.\, Camas\, Washington\, 98607
CATEGORIES:Varsity Practice
END:VEVENT
BEGIN:VEVENT
DTSTART;TZID=America/Los_Angeles:20241106T154500
DTEND;TZID=America/Los_Angeles:20241106T181500
DTSTAMP:20260425T093320
CREATED:20240224T001848Z
LAST-MODIFIED:20240831T194335Z
UID:1188-1730907900-1730916900@camasfootball.com
SUMMARY:Practice
DESCRIPTION:Wednesday Varsity/J.V. Practice \nFull Pac
URL:https://camasfootball.com/event/practice-42/
LOCATION:Cardon Field\, 26900 SE 15th St.\, Camas\, Washington\, 98607
CATEGORIES:Varsity Practice
END:VEVENT
BEGIN:VEVENT
DTSTART;TZID=America/Los_Angeles:20241107T154500
DTEND;TZID=America/Los_Angeles:20241107T174500
DTSTAMP:20260425T093320
CREATED:20240224T002705Z
LAST-MODIFIED:20240308T031234Z
UID:1207-1730994300-1731001500@camasfootball.com
SUMMARY:Practice
DESCRIPTION:Thursday Varsity/J.V. Practice \nFull Pac
URL:https://camasfootball.com/event/practice-54/
LOCATION:Cardon Field\, 26900 SE 15th St.\, Camas\, Washington\, 98607
CATEGORIES:Varsity Practice
END:VEVENT
BEGIN:VEVENT
DTSTART;TZID=America/Los_Angeles:20241111T154500
DTEND;TZID=America/Los_Angeles:20241111T180000
DTSTAMP:20260425T093320
CREATED:20240223T235924Z
LAST-MODIFIED:20240831T194338Z
UID:1149-1731339900-1731348000@camasfootball.com
SUMMARY:Practice
DESCRIPTION:Monday Varsity Practice \n1/2 Pac
URL:https://camasfootball.com/event/practice-23/
LOCATION:Cardon Field\, 26900 SE 15th St.\, Camas\, Washington\, 98607
CATEGORIES:Varsity Practice
END:VEVENT
BEGIN:VEVENT
DTSTART;TZID=America/Los_Angeles:20241112T154500
DTEND;TZID=America/Los_Angeles:20241112T181500
DTSTAMP:20260425T093320
CREATED:20240224T001341Z
LAST-MODIFIED:20240831T194342Z
UID:1169-1731426300-1731435300@camasfootball.com
SUMMARY:Practice
DESCRIPTION:Tuesday Varsity/J.V. Practice \nFull Pac
URL:https://camasfootball.com/event/practice-33/
LOCATION:Cardon Field\, 26900 SE 15th St.\, Camas\, Washington\, 98607
CATEGORIES:Varsity Practice
END:VEVENT
BEGIN:VEVENT
DTSTART;TZID=America/Los_Angeles:20241113T154500
DTEND;TZID=America/Los_Angeles:20241113T181500
DTSTAMP:20260425T093320
CREATED:20240224T001912Z
LAST-MODIFIED:20240831T194346Z
UID:1189-1731512700-1731521700@camasfootball.com
SUMMARY:Practice
DESCRIPTION:Wednesday Varsity/J.V. Practice \nFull Pac
URL:https://camasfootball.com/event/practice-43/
LOCATION:Cardon Field\, 26900 SE 15th St.\, Camas\, Washington\, 98607
CATEGORIES:Varsity Practice
END:VEVENT
BEGIN:VEVENT
DTSTART;TZID=America/Los_Angeles:20241114T154500
DTEND;TZID=America/Los_Angeles:20241114T174500
DTSTAMP:20260425T093320
CREATED:20240224T002725Z
LAST-MODIFIED:20240308T031211Z
UID:1208-1731599100-1731606300@camasfootball.com
SUMMARY:Practice
DESCRIPTION:Thursday Varsity/J.V. Practice \nFull Pac
URL:https://camasfootball.com/event/practice-55/
LOCATION:Cardon Field\, 26900 SE 15th St.\, Camas\, Washington\, 98607
CATEGORIES:Varsity Practice
END:VEVENT
BEGIN:VEVENT
DTSTART;TZID=America/Los_Angeles:20241118T154500
DTEND;TZID=America/Los_Angeles:20241118T180000
DTSTAMP:20260425T093320
CREATED:20240223T235937Z
LAST-MODIFIED:20240831T194426Z
UID:1150-1731944700-1731952800@camasfootball.com
SUMMARY:Practice
DESCRIPTION:Monday Varsity Practice \n1/2 Pac
URL:https://camasfootball.com/event/practice-24/
LOCATION:Cardon Field\, 26900 SE 15th St.\, Camas\, Washington\, 98607
CATEGORIES:Varsity Practice
END:VEVENT
BEGIN:VEVENT
DTSTART;TZID=America/Los_Angeles:20241119T154500
DTEND;TZID=America/Los_Angeles:20241119T181500
DTSTAMP:20260425T093320
CREATED:20240224T001409Z
LAST-MODIFIED:20240831T194430Z
UID:1170-1732031100-1732040100@camasfootball.com
SUMMARY:Practice
DESCRIPTION:Tuesday Varsity/J.V. Practice \nFull Pac
URL:https://camasfootball.com/event/practice-34/
LOCATION:Cardon Field\, 26900 SE 15th St.\, Camas\, Washington\, 98607
CATEGORIES:Varsity Practice
END:VEVENT
BEGIN:VEVENT
DTSTART;TZID=America/Los_Angeles:20241120T154500
DTEND;TZID=America/Los_Angeles:20241120T181500
DTSTAMP:20260425T093320
CREATED:20240224T001931Z
LAST-MODIFIED:20240831T194433Z
UID:1190-1732117500-1732126500@camasfootball.com
SUMMARY:Practice
DESCRIPTION:Wednesday Varsity/J.V. Practice \nFull Pac
URL:https://camasfootball.com/event/practice-44/
LOCATION:Cardon Field\, 26900 SE 15th St.\, Camas\, Washington\, 98607
CATEGORIES:Varsity Practice
END:VEVENT
BEGIN:VEVENT
DTSTART;TZID=America/Los_Angeles:20241121T154500
DTEND;TZID=America/Los_Angeles:20241121T174500
DTSTAMP:20260425T093320
CREATED:20240224T002747Z
LAST-MODIFIED:20240308T031106Z
UID:1209-1732203900-1732211100@camasfootball.com
SUMMARY:Practice
DESCRIPTION:Thursday Varsity/J.V. Practice \nFull Pac
URL:https://camasfootball.com/event/practice-56/
LOCATION:Cardon Field\, 26900 SE 15th St.\, Camas\, Washington\, 98607
CATEGORIES:Varsity Practice
END:VEVENT
BEGIN:VEVENT
DTSTART;TZID=America/Los_Angeles:20241122T154500
DTEND;TZID=America/Los_Angeles:20241122T174500
DTSTAMP:20260425T093320
CREATED:20240224T002338Z
LAST-MODIFIED:20240308T031110Z
UID:1213-1732290300-1732297500@camasfootball.com
SUMMARY:Practice
DESCRIPTION:Friday Varsity/J.V. Practice \nFull Pac
URL:https://camasfootball.com/event/practice-47/
LOCATION:Cardon Field\, 26900 SE 15th St.\, Camas\, Washington\, 98607
CATEGORIES:Varsity Practice
END:VEVENT
END:VCALENDAR