BEGIN:VCALENDAR
VERSION:2.0
PRODID:-//Camas Football - ECPv6.15.3//NONSGML v1.0//EN
CALSCALE:GREGORIAN
METHOD:PUBLISH
X-WR-CALNAME:Camas Football
X-ORIGINAL-URL:https://camasfootball.com
X-WR-CALDESC:Events for Camas Football
REFRESH-INTERVAL;VALUE=DURATION:PT1H
X-Robots-Tag:noindex
X-PUBLISHED-TTL:PT1H
BEGIN:VTIMEZONE
TZID:America/Los_Angeles
BEGIN:DAYLIGHT
TZOFFSETFROM:-0800
TZOFFSETTO:-0700
TZNAME:PDT
DTSTART:20250309T100000
END:DAYLIGHT
BEGIN:STANDARD
TZOFFSETFROM:-0700
TZOFFSETTO:-0800
TZNAME:PST
DTSTART:20251102T090000
END:STANDARD
END:VTIMEZONE
BEGIN:VEVENT
DTSTART;TZID=America/Los_Angeles:20251001T154500
DTEND;TZID=America/Los_Angeles:20251001T181500
DTSTAMP:20260423T150950
CREATED:20250205T044604Z
LAST-MODIFIED:20250321T185839Z
UID:3003-1759333500-1759342500@camasfootball.com
SUMMARY:Practice
DESCRIPTION:Wednesday Varsity/J.V. Practice \nFull Pac
URL:https://camasfootball.com/event/practice-97/
LOCATION:Cardon Field\, 26900 SE 15th St.\, Camas\, Washington\, 98607
CATEGORIES:Varsity Practice,Varsity/JV Schedule
END:VEVENT
BEGIN:VEVENT
DTSTART;TZID=America/Los_Angeles:20250930T154500
DTEND;TZID=America/Los_Angeles:20250930T181500
DTSTAMP:20260423T150950
CREATED:20250205T044521Z
LAST-MODIFIED:20250321T190450Z
UID:3002-1759247100-1759256100@camasfootball.com
SUMMARY:Practice
DESCRIPTION:Tuesday Varsity/J.V. Practice \nFull Pac
URL:https://camasfootball.com/event/practice-96/
LOCATION:Cardon Field\, 26900 SE 15th St.\, Camas\, Washington\, 98607
CATEGORIES:Varsity Practice,Varsity/JV Schedule
END:VEVENT
BEGIN:VEVENT
DTSTART;TZID=America/Los_Angeles:20250929T160000
DTEND;TZID=America/Los_Angeles:20250929T180000
DTSTAMP:20260423T150950
CREATED:20250205T043105Z
LAST-MODIFIED:20250321T190447Z
UID:2969-1759161600-1759168800@camasfootball.com
SUMMARY:Practice
DESCRIPTION:Monday Varsity/J.V. Practice \n1/2 Pac
URL:https://camasfootball.com/event/practice-77/
LOCATION:Cardon Field\, 26900 SE 15th St.\, Camas\, Washington\, 98607
CATEGORIES:Varsity Practice,Varsity/JV Schedule
END:VEVENT
BEGIN:VEVENT
DTSTART;TZID=America/Los_Angeles:20250925T153000
DTEND;TZID=America/Los_Angeles:20250925T174500
DTSTAMP:20260423T150950
CREATED:20250205T033058Z
LAST-MODIFIED:20250321T190430Z
UID:2910-1758814200-1758822300@camasfootball.com
SUMMARY:Practice
DESCRIPTION:Thursday Varsity/J.V. Practice \nFull Pac
URL:https://camasfootball.com/event/practice-63/
LOCATION:Cardon Field\, 26900 SE 15th St.\, Camas\, Washington\, 98607
CATEGORIES:Varsity Practice,Varsity/JV Schedule
END:VEVENT
BEGIN:VEVENT
DTSTART;TZID=America/Los_Angeles:20250924T154500
DTEND;TZID=America/Los_Angeles:20250924T181500
DTSTAMP:20260423T150950
CREATED:20250205T044459Z
LAST-MODIFIED:20250321T190427Z
UID:3001-1758728700-1758737700@camasfootball.com
SUMMARY:Practice
DESCRIPTION:Wednesday Varsity/J.V. Practice \nFull Pac
URL:https://camasfootball.com/event/practice-95/
LOCATION:Cardon Field\, 26900 SE 15th St.\, Camas\, Washington\, 98607
CATEGORIES:Varsity Practice,Varsity/JV Schedule
END:VEVENT
BEGIN:VEVENT
DTSTART;TZID=America/Los_Angeles:20250923T154500
DTEND;TZID=America/Los_Angeles:20250923T181500
DTSTAMP:20260423T150950
CREATED:20250205T044435Z
LAST-MODIFIED:20250321T190423Z
UID:3000-1758642300-1758651300@camasfootball.com
SUMMARY:Practice
DESCRIPTION:Tuesday Varsity/J.V. Practice \nFull Pac
URL:https://camasfootball.com/event/practice-94/
LOCATION:Cardon Field\, 26900 SE 15th St.\, Camas\, Washington\, 98607
CATEGORIES:Varsity Practice,Varsity/JV Schedule
END:VEVENT
BEGIN:VEVENT
DTSTART;TZID=America/Los_Angeles:20250922T160000
DTEND;TZID=America/Los_Angeles:20250922T180000
DTSTAMP:20260423T150950
CREATED:20250205T043044Z
LAST-MODIFIED:20250321T190418Z
UID:2968-1758556800-1758564000@camasfootball.com
SUMMARY:Practice
DESCRIPTION:Monday Varsity/J.V. Practice \n1/2 Pac
URL:https://camasfootball.com/event/practice-76/
LOCATION:Cardon Field\, 26900 SE 15th St.\, Camas\, Washington\, 98607
CATEGORIES:Varsity Practice,Varsity/JV Schedule
END:VEVENT
BEGIN:VEVENT
DTSTART;TZID=America/Los_Angeles:20250918T153000
DTEND;TZID=America/Los_Angeles:20250918T174500
DTSTAMP:20260423T150950
CREATED:20250205T033036Z
LAST-MODIFIED:20250321T190352Z
UID:2909-1758209400-1758217500@camasfootball.com
SUMMARY:Practice
DESCRIPTION:Thursday Varsity/J.V. Practice \nFull Pac
URL:https://camasfootball.com/event/practice-62/
LOCATION:Cardon Field\, 26900 SE 15th St.\, Camas\, Washington\, 98607
CATEGORIES:Varsity Practice,Varsity/JV Schedule
END:VEVENT
BEGIN:VEVENT
DTSTART;TZID=America/Los_Angeles:20250917T154500
DTEND;TZID=America/Los_Angeles:20250917T181500
DTSTAMP:20260423T150950
CREATED:20250205T044411Z
LAST-MODIFIED:20250321T190349Z
UID:2999-1758123900-1758132900@camasfootball.com
SUMMARY:Practice
DESCRIPTION:Wednesday Varsity/J.V. Practice \nFull Pac
URL:https://camasfootball.com/event/practice-93/
LOCATION:Cardon Field\, 26900 SE 15th St.\, Camas\, Washington\, 98607
CATEGORIES:Varsity Practice,Varsity/JV Schedule
END:VEVENT
BEGIN:VEVENT
DTSTART;TZID=America/Los_Angeles:20250916T154500
DTEND;TZID=America/Los_Angeles:20250916T181500
DTSTAMP:20260423T150950
CREATED:20250205T044349Z
LAST-MODIFIED:20250321T190346Z
UID:2998-1758037500-1758046500@camasfootball.com
SUMMARY:Practice
DESCRIPTION:Tuesday Varsity/J.V. Practice \nFull Pac
URL:https://camasfootball.com/event/practice-92/
LOCATION:Cardon Field\, 26900 SE 15th St.\, Camas\, Washington\, 98607
CATEGORIES:Varsity Practice,Varsity/JV Schedule
END:VEVENT
BEGIN:VEVENT
DTSTART;TZID=America/Los_Angeles:20250915T160000
DTEND;TZID=America/Los_Angeles:20250915T180000
DTSTAMP:20260423T150950
CREATED:20250205T043920Z
LAST-MODIFIED:20250321T190342Z
UID:2967-1757952000-1757959200@camasfootball.com
SUMMARY:Practice
DESCRIPTION:Monday Varsity/J.V. Practice \n1/2 Pac
URL:https://camasfootball.com/event/practice-87/
LOCATION:Cardon Field\, 26900 SE 15th St.\, Camas\, Washington\, 98607
CATEGORIES:Varsity Practice,Varsity/JV Schedule
END:VEVENT
BEGIN:VEVENT
DTSTART;TZID=America/Los_Angeles:20250911T153000
DTEND;TZID=America/Los_Angeles:20250911T174500
DTSTAMP:20260423T150950
CREATED:20250205T033016Z
LAST-MODIFIED:20250321T190303Z
UID:2908-1757604600-1757612700@camasfootball.com
SUMMARY:Practice
DESCRIPTION:Thursday Varsity/J.V. Practice \nFull Pac
URL:https://camasfootball.com/event/practice-61/
LOCATION:Cardon Field\, 26900 SE 15th St.\, Camas\, Washington\, 98607
CATEGORIES:Varsity Practice,Varsity/JV Schedule
END:VEVENT
BEGIN:VEVENT
DTSTART;TZID=America/Los_Angeles:20250910T154500
DTEND;TZID=America/Los_Angeles:20250910T181500
DTSTAMP:20260423T150950
CREATED:20250205T044327Z
LAST-MODIFIED:20250321T190300Z
UID:2997-1757519100-1757528100@camasfootball.com
SUMMARY:Practice
DESCRIPTION:Wednesday Varsity/J.V. Practice \nFull Pac
URL:https://camasfootball.com/event/practice-91/
LOCATION:Cardon Field\, 26900 SE 15th St.\, Camas\, Washington\, 98607
CATEGORIES:Varsity Practice,Varsity/JV Schedule
END:VEVENT
BEGIN:VEVENT
DTSTART;TZID=America/Los_Angeles:20250909T154500
DTEND;TZID=America/Los_Angeles:20250909T181500
DTSTAMP:20260423T150950
CREATED:20250205T044306Z
LAST-MODIFIED:20250321T190256Z
UID:2996-1757432700-1757441700@camasfootball.com
SUMMARY:Practice
DESCRIPTION:Tuesday Varsity/J.V. Practice \nFull Pac
URL:https://camasfootball.com/event/practice-90/
LOCATION:Cardon Field\, 26900 SE 15th St.\, Camas\, Washington\, 98607
CATEGORIES:Varsity Practice,Varsity/JV Schedule
END:VEVENT
BEGIN:VEVENT
DTSTART;TZID=America/Los_Angeles:20250908T160000
DTEND;TZID=America/Los_Angeles:20250908T180000
DTSTAMP:20260423T150950
CREATED:20250205T043005Z
LAST-MODIFIED:20250321T190243Z
UID:2966-1757347200-1757354400@camasfootball.com
SUMMARY:Practice
DESCRIPTION:Monday Varsity/J.V. Practice \n1/2 Pac
URL:https://camasfootball.com/event/practice-75/
LOCATION:Cardon Field\, 26900 SE 15th St.\, Camas\, Washington\, 98607
CATEGORIES:Varsity Practice,Varsity/JV Schedule
END:VEVENT
BEGIN:VEVENT
DTSTART;TZID=America/Los_Angeles:20250905T153000
DTEND;TZID=America/Los_Angeles:20250905T174500
DTSTAMP:20260423T150950
CREATED:20250812T055542Z
LAST-MODIFIED:20250812T055542Z
UID:3699-1757086200-1757094300@camasfootball.com
SUMMARY:Practice
DESCRIPTION:Friday Varsity/J.V. Practice \nFull Pac
URL:https://camasfootball.com/event/practice-119/
LOCATION:Cardon Field\, 26900 SE 15th St.\, Camas\, Washington\, 98607
CATEGORIES:Varsity Practice,Varsity/JV Schedule
END:VEVENT
BEGIN:VEVENT
DTSTART;TZID=America/Los_Angeles:20250904T154500
DTEND;TZID=America/Los_Angeles:20250904T181500
DTSTAMP:20260423T150950
CREATED:20250205T032945Z
LAST-MODIFIED:20250812T055245Z
UID:2907-1757000700-1757009700@camasfootball.com
SUMMARY:Practice
DESCRIPTION:Thursday Varsity/J.V. Practice \nFull Pac
URL:https://camasfootball.com/event/practice-60/
LOCATION:Cardon Field\, 26900 SE 15th St.\, Camas\, Washington\, 98607
CATEGORIES:Varsity Practice,Varsity/JV Schedule
END:VEVENT
BEGIN:VEVENT
DTSTART;TZID=America/Los_Angeles:20250903T154500
DTEND;TZID=America/Los_Angeles:20250903T181500
DTSTAMP:20260423T150950
CREATED:20250205T044236Z
LAST-MODIFIED:20250321T191724Z
UID:2995-1756914300-1756923300@camasfootball.com
SUMMARY:Practice
DESCRIPTION:Wednesday Varsity/J.V. Practice \nFull Pac
URL:https://camasfootball.com/event/practice-89/
LOCATION:Cardon Field\, 26900 SE 15th St.\, Camas\, Washington\, 98607
CATEGORIES:Varsity Practice,Varsity/JV Schedule
END:VEVENT
BEGIN:VEVENT
DTSTART;TZID=America/Los_Angeles:20250902T154500
DTEND;TZID=America/Los_Angeles:20250902T181500
DTSTAMP:20260423T150950
CREATED:20250205T044207Z
LAST-MODIFIED:20250321T191720Z
UID:2994-1756827900-1756836900@camasfootball.com
SUMMARY:Practice
DESCRIPTION:Tuesday Varsity/J.V. Practice \nFull Pac
URL:https://camasfootball.com/event/practice-88/
LOCATION:Cardon Field\, 26900 SE 15th St.\, Camas\, Washington\, 98607
CATEGORIES:Varsity Practice,Varsity/JV Schedule
END:VEVENT
BEGIN:VEVENT
DTSTART;TZID=America/Los_Angeles:20250901T170000
DTEND;TZID=America/Los_Angeles:20250901T200000
DTSTAMP:20260423T150950
CREATED:20250205T042931Z
LAST-MODIFIED:20250812T053716Z
UID:2965-1756746000-1756756800@camasfootball.com
SUMMARY:Practice
DESCRIPTION:Monday Varsity/J.V. Practice \n1/2 Pac
URL:https://camasfootball.com/event/practice-74/
LOCATION:Cardon Field\, 26900 SE 15th St.\, Camas\, Washington\, 98607
CATEGORIES:Varsity Practice,Varsity/JV Schedule
END:VEVENT
BEGIN:VEVENT
DTSTART;TZID=America/Los_Angeles:20250830T090000
DTEND;TZID=America/Los_Angeles:20250830T120000
DTSTAMP:20260423T150950
CREATED:20250205T024809Z
LAST-MODIFIED:20250829T165249Z
UID:2875-1756544400-1756555200@camasfootball.com
SUMMARY:Team Pictures & Pre-Game Walkthrough
DESCRIPTION:Team Pictures and Pre-Game Walkthrough. \nFull Pac \n8 AM: Varsity Jamboree Film Review\n9 AM: Team Pictures (all levels)\n11 AM: Practice (All Levels) \nNOTE: Location changed to CHS.
URL:https://camasfootball.com/event/team-pictures-pre-game-walkthrough/
LOCATION:North Commons\, 26900 SE 15th St.\, Camas\, Washington\, 98607
CATEGORIES:Frosh Calendar,Varsity Practice,Varsity/JV Schedule
END:VEVENT
BEGIN:VEVENT
DTSTART;TZID=America/Los_Angeles:20250830T080000
DTEND;TZID=America/Los_Angeles:20250830T090000
DTSTAMP:20260423T150950
CREATED:20250818T184111Z
LAST-MODIFIED:20250818T184111Z
UID:3707-1756540800-1756544400@camasfootball.com
SUMMARY:Varsity Film
DESCRIPTION:Post Jamboree Varsity Film at Doc Harris Stadium
URL:https://camasfootball.com/event/varsity-film/
LOCATION:Washington
CATEGORIES:Varsity Practice,Varsity/JV Schedule
END:VEVENT
BEGIN:VEVENT
DTSTART;TZID=America/Los_Angeles:20250828T160000
DTEND;TZID=America/Los_Angeles:20250828T190000
DTSTAMP:20260423T150950
CREATED:20250205T022937Z
LAST-MODIFIED:20250807T204352Z
UID:2856-1756396800-1756407600@camasfootball.com
SUMMARY:Varsity Practice #8
DESCRIPTION:Varsity Practice #8 \nFull Pac
URL:https://camasfootball.com/event/varsity-practice-10-2/
LOCATION:Cardon Field\, 26900 SE 15th St.\, Camas\, Washington\, 98607
CATEGORIES:Varsity Practice,Varsity/JV Schedule
END:VEVENT
BEGIN:VEVENT
DTSTART;TZID=America/Los_Angeles:20250827T160000
DTEND;TZID=America/Los_Angeles:20250827T190000
DTSTAMP:20260423T150950
CREATED:20250205T022917Z
LAST-MODIFIED:20250807T204229Z
UID:2855-1756310400-1756321200@camasfootball.com
SUMMARY:Varsity Practice #7
DESCRIPTION:Varsity Practice #7 \nFull Pac
URL:https://camasfootball.com/event/varsity-practice-7-2/
LOCATION:Cardon Field\, 26900 SE 15th St.\, Camas\, Washington\, 98607
CATEGORIES:Varsity Practice,Varsity/JV Schedule
END:VEVENT
BEGIN:VEVENT
DTSTART;TZID=America/Los_Angeles:20250826T160000
DTEND;TZID=America/Los_Angeles:20250826T190000
DTSTAMP:20260423T150950
CREATED:20250205T022854Z
LAST-MODIFIED:20250807T204053Z
UID:2854-1756224000-1756234800@camasfootball.com
SUMMARY:Varsity Practice #6
DESCRIPTION:Varsity Practice #6 \nFull Pac
URL:https://camasfootball.com/event/varsity-practice-6-2/
LOCATION:Cardon Field\, 26900 SE 15th St.\, Camas\, Washington\, 98607
CATEGORIES:Varsity Practice,Varsity/JV Schedule
END:VEVENT
BEGIN:VEVENT
DTSTART;TZID=America/Los_Angeles:20250825T160000
DTEND;TZID=America/Los_Angeles:20250825T190000
DTSTAMP:20260423T150950
CREATED:20250205T022832Z
LAST-MODIFIED:20250807T203931Z
UID:2853-1756137600-1756148400@camasfootball.com
SUMMARY:Varsity Practice #5
DESCRIPTION:Varsity Practice #5 \nFull Pac
URL:https://camasfootball.com/event/varsity-practice-5-2/
LOCATION:Cardon Field\, 26900 SE 15th St.\, Camas\, Washington\, 98607
CATEGORIES:Varsity Practice,Varsity/JV Schedule
END:VEVENT
BEGIN:VEVENT
DTSTART;TZID=America/Los_Angeles:20250823T080000
DTEND;TZID=America/Los_Angeles:20250823T120000
DTSTAMP:20260423T150950
CREATED:20250205T022800Z
LAST-MODIFIED:20250812T053756Z
UID:2852-1755936000-1755950400@camasfootball.com
SUMMARY:Varsity Practice #4
DESCRIPTION:Varsity Practice #4 \n1/2 Pac
URL:https://camasfootball.com/event/varsity-practice-4-2/
LOCATION:Cardon Field\, 26900 SE 15th St.\, Camas\, Washington\, 98607
CATEGORIES:Varsity Practice,Varsity/JV Schedule
END:VEVENT
BEGIN:VEVENT
DTSTART;TZID=America/Los_Angeles:20250822T160000
DTEND;TZID=America/Los_Angeles:20250822T200000
DTSTAMP:20260423T150950
CREATED:20250205T022644Z
LAST-MODIFIED:20250807T203527Z
UID:2849-1755878400-1755892800@camasfootball.com
SUMMARY:Varsity Practice #3
DESCRIPTION:Varsity Practice #3 \nNo Pac
URL:https://camasfootball.com/event/varsity-practice-3-2/
LOCATION:Cardon Field\, 26900 SE 15th St.\, Camas\, Washington\, 98607
CATEGORIES:Varsity Practice,Varsity/JV Schedule
END:VEVENT
BEGIN:VEVENT
DTSTART;TZID=America/Los_Angeles:20250821T160000
DTEND;TZID=America/Los_Angeles:20250821T200000
DTSTAMP:20260423T150950
CREATED:20250205T022616Z
LAST-MODIFIED:20250807T203452Z
UID:2848-1755792000-1755806400@camasfootball.com
SUMMARY:Varsity Practice #2
DESCRIPTION:Varsity Practice #2 \nNo Pac
URL:https://camasfootball.com/event/varsity-practice-2-2/
LOCATION:Cardon Field\, 26900 SE 15th St.\, Camas\, Washington\, 98607
CATEGORIES:Varsity Practice,Varsity/JV Schedule
END:VEVENT
BEGIN:VEVENT
DTSTART;TZID=America/Los_Angeles:20250820T160000
DTEND;TZID=America/Los_Angeles:20250820T200000
DTSTAMP:20260423T150950
CREATED:20250205T022545Z
LAST-MODIFIED:20250807T202656Z
UID:2847-1755705600-1755720000@camasfootball.com
SUMMARY:Varsity/JV Practice #1
DESCRIPTION:Varsity/JV Practice #1 \nNo Pac
URL:https://camasfootball.com/event/varsity-practice-1-2/
LOCATION:Cardon Field\, 26900 SE 15th St.\, Camas\, Washington\, 98607
CATEGORIES:Varsity Practice,Varsity/JV Schedule
END:VEVENT
END:VCALENDAR