BEGIN:VCALENDAR
VERSION:2.0
PRODID:-//Camas Football - ECPv6.15.3//NONSGML v1.0//EN
CALSCALE:GREGORIAN
METHOD:PUBLISH
X-ORIGINAL-URL:https://camasfootball.com
X-WR-CALDESC:Events for Camas Football
REFRESH-INTERVAL;VALUE=DURATION:PT1H
X-Robots-Tag:noindex
X-PUBLISHED-TTL:PT1H
BEGIN:VTIMEZONE
TZID:America/Los_Angeles
BEGIN:DAYLIGHT
TZOFFSETFROM:-0800
TZOFFSETTO:-0700
TZNAME:PDT
DTSTART:20260308T100000
END:DAYLIGHT
BEGIN:STANDARD
TZOFFSETFROM:-0700
TZOFFSETTO:-0800
TZNAME:PST
DTSTART:20261101T090000
END:STANDARD
END:VTIMEZONE
BEGIN:VEVENT
DTSTART;TZID=America/Los_Angeles:20260601T151500
DTEND;TZID=America/Los_Angeles:20260601T154500
DTSTAMP:20260423T111741
CREATED:20260215T230519Z
LAST-MODIFIED:20260416T024746Z
UID:4279-1780326900-1780328700@camasfootball.com
SUMMARY:Install Meeting #1
DESCRIPTION:Install Meeting \nSpring Practice #1 \nClass Room: TBD
URL:https://camasfootball.com/event/install-meeting-2026-1/
LOCATION:Washington
CATEGORIES:Varsity Practice,Varsity/JV Schedule
END:VEVENT
BEGIN:VEVENT
DTSTART;TZID=America/Los_Angeles:20260601T160000
DTEND;TZID=America/Los_Angeles:20260601T180000
DTSTAMP:20260423T111741
CREATED:20260215T231807Z
LAST-MODIFIED:20260215T231807Z
UID:4288-1780329600-1780336800@camasfootball.com
SUMMARY:Spring Practice #1
DESCRIPTION:Spring Practice #1 \nHelmets
URL:https://camasfootball.com/event/spring-practice-1-2026/
LOCATION:Cardon Field\, 26900 SE 15th St.\, Camas\, Washington\, 98607
CATEGORIES:Varsity Practice,Varsity/JV Schedule
END:VEVENT
BEGIN:VEVENT
DTSTART;TZID=America/Los_Angeles:20260602T151500
DTEND;TZID=America/Los_Angeles:20260602T154500
DTSTAMP:20260423T111741
CREATED:20260215T230553Z
LAST-MODIFIED:20260215T230553Z
UID:4272-1780413300-1780415100@camasfootball.com
SUMMARY:Install Meeting #2
DESCRIPTION:Install Meeting \nSpring Practice #2 \nClass Room: TBD
URL:https://camasfootball.com/event/install-meeting-2026-2/
LOCATION:Washington
CATEGORIES:Varsity Practice,Varsity/JV Schedule
END:VEVENT
BEGIN:VEVENT
DTSTART;TZID=America/Los_Angeles:20260602T160000
DTEND;TZID=America/Los_Angeles:20260602T180000
DTSTAMP:20260423T111741
CREATED:20260215T231832Z
LAST-MODIFIED:20260215T231832Z
UID:4289-1780416000-1780423200@camasfootball.com
SUMMARY:Spring Practice #2
DESCRIPTION:Spring Practice #2 \nHelmets
URL:https://camasfootball.com/event/spring-practice-2-2026/
LOCATION:Cardon Field\, 26900 SE 15th St.\, Camas\, Washington\, 98607
CATEGORIES:Varsity Practice,Varsity/JV Schedule
END:VEVENT
BEGIN:VEVENT
DTSTART;TZID=America/Los_Angeles:20260603T151500
DTEND;TZID=America/Los_Angeles:20260603T154500
DTSTAMP:20260423T111741
CREATED:20260215T230612Z
LAST-MODIFIED:20260215T230612Z
UID:4273-1780499700-1780501500@camasfootball.com
SUMMARY:Install Meeting #3
DESCRIPTION:Install Meeting \nSpring Practice #3 \nClass Room: TBD
URL:https://camasfootball.com/event/install-meeting-2026-3/
LOCATION:Washington
CATEGORIES:Varsity Practice,Varsity/JV Schedule
END:VEVENT
BEGIN:VEVENT
DTSTART;TZID=America/Los_Angeles:20260603T160000
DTEND;TZID=America/Los_Angeles:20260603T180000
DTSTAMP:20260423T111741
CREATED:20260215T231854Z
LAST-MODIFIED:20260215T231854Z
UID:4290-1780502400-1780509600@camasfootball.com
SUMMARY:Spring Practice #3
DESCRIPTION:Spring Practice #3 \nHelmets
URL:https://camasfootball.com/event/spring-practice-3-2026/
LOCATION:Cardon Field\, 26900 SE 15th St.\, Camas\, Washington\, 98607
CATEGORIES:Varsity Practice,Varsity/JV Schedule
END:VEVENT
BEGIN:VEVENT
DTSTART;TZID=America/Los_Angeles:20260604T151500
DTEND;TZID=America/Los_Angeles:20260604T154500
DTSTAMP:20260423T111741
CREATED:20260215T230635Z
LAST-MODIFIED:20260215T230635Z
UID:4274-1780586100-1780587900@camasfootball.com
SUMMARY:Install Meeting #4
DESCRIPTION:Install Meeting \nSpring Practice #4 \nClass Room: TBD
URL:https://camasfootball.com/event/install-meeting-2026-4/
LOCATION:Washington
CATEGORIES:Varsity Practice,Varsity/JV Schedule
END:VEVENT
BEGIN:VEVENT
DTSTART;TZID=America/Los_Angeles:20260604T160000
DTEND;TZID=America/Los_Angeles:20260604T180000
DTSTAMP:20260423T111741
CREATED:20260215T231919Z
LAST-MODIFIED:20260215T231919Z
UID:4291-1780588800-1780596000@camasfootball.com
SUMMARY:Spring Practice #4
DESCRIPTION:Spring Practice #4 \n1/2 Pac
URL:https://camasfootball.com/event/spring-practice-4-2026/
LOCATION:Cardon Field\, 26900 SE 15th St.\, Camas\, Washington\, 98607
CATEGORIES:Varsity Practice,Varsity/JV Schedule
END:VEVENT
BEGIN:VEVENT
DTSTART;TZID=America/Los_Angeles:20260608T151500
DTEND;TZID=America/Los_Angeles:20260608T154500
DTSTAMP:20260423T111741
CREATED:20260215T230654Z
LAST-MODIFIED:20260215T230654Z
UID:4275-1780931700-1780933500@camasfootball.com
SUMMARY:Install Meeting #5
DESCRIPTION:Install Meeting \nSpring Practice #5 \nClass Room: TBD
URL:https://camasfootball.com/event/install-meeting-2026-5/
LOCATION:Washington
CATEGORIES:Varsity Practice,Varsity/JV Schedule
END:VEVENT
BEGIN:VEVENT
DTSTART;TZID=America/Los_Angeles:20260608T160000
DTEND;TZID=America/Los_Angeles:20260608T180000
DTSTAMP:20260423T111741
CREATED:20260215T231948Z
LAST-MODIFIED:20260215T231948Z
UID:4292-1780934400-1780941600@camasfootball.com
SUMMARY:Spring Practice #5
DESCRIPTION:Spring Practice #5 \nFull Pac
URL:https://camasfootball.com/event/spring-practice-5-2026/
LOCATION:Cardon Field\, 26900 SE 15th St.\, Camas\, Washington\, 98607
CATEGORIES:Varsity Practice,Varsity/JV Schedule
END:VEVENT
BEGIN:VEVENT
DTSTART;TZID=America/Los_Angeles:20260609T151500
DTEND;TZID=America/Los_Angeles:20260609T154500
DTSTAMP:20260423T111741
CREATED:20260215T230716Z
LAST-MODIFIED:20260215T230716Z
UID:4276-1781018100-1781019900@camasfootball.com
SUMMARY:Install Meeting #6
DESCRIPTION:Install Meeting \nSpring Practice #6 \nClass Room: TBD
URL:https://camasfootball.com/event/install-meeting-2026-6/
LOCATION:Washington
CATEGORIES:Varsity Practice,Varsity/JV Schedule
END:VEVENT
BEGIN:VEVENT
DTSTART;TZID=America/Los_Angeles:20260609T160000
DTEND;TZID=America/Los_Angeles:20260609T180000
DTSTAMP:20260423T111741
CREATED:20260215T232013Z
LAST-MODIFIED:20260215T232013Z
UID:4293-1781020800-1781028000@camasfootball.com
SUMMARY:Spring Practice #6
DESCRIPTION:Spring Practice #6 \nFull Pac
URL:https://camasfootball.com/event/spring-practice-6-2026/
LOCATION:Cardon Field\, 26900 SE 15th St.\, Camas\, Washington\, 98607
CATEGORIES:Varsity Practice,Varsity/JV Schedule
END:VEVENT
BEGIN:VEVENT
DTSTART;TZID=America/Los_Angeles:20260611T160000
DTEND;TZID=America/Los_Angeles:20260611T181500
DTSTAMP:20260423T111741
CREATED:20260215T232051Z
LAST-MODIFIED:20260215T232051Z
UID:4294-1781193600-1781201700@camasfootball.com
SUMMARY:Spring Joint Practice #7 w/Heritage
DESCRIPTION:Spring Joint Practice #7 \nw/Heritage at Cardon Field \nFull Pac
URL:https://camasfootball.com/event/spring-joint-practice-7-2026/
LOCATION:Cardon Field\, 26900 SE 15th St.\, Camas\, Washington\, 98607
CATEGORIES:Varsity Practice,Varsity/JV Schedule
END:VEVENT
BEGIN:VEVENT
DTSTART;TZID=America/Los_Angeles:20260613T100000
DTEND;TZID=America/Los_Angeles:20260613T130000
DTSTAMP:20260423T111741
CREATED:20260215T233248Z
LAST-MODIFIED:20260215T233557Z
UID:4317-1781344800-1781355600@camasfootball.com
SUMMARY:Spring Scrimmage at EHS
DESCRIPTION:Spring Scrimmage at Evergreen High School \nOpponents: Evergreen & Tualatin
URL:https://camasfootball.com/event/spring-scrimmage-1-2026/
LOCATION:Evergreen High School\, 14300 NE 18th St\, Vancouver\, WA\, 98684\, United States
CATEGORIES:Varsity Practice,Varsity/JV Schedule
END:VEVENT
BEGIN:VEVENT
DTSTART;TZID=America/Los_Angeles:20260615T151500
DTEND;TZID=America/Los_Angeles:20260615T154500
DTSTAMP:20260423T111741
CREATED:20260215T230737Z
LAST-MODIFIED:20260215T230737Z
UID:4277-1781536500-1781538300@camasfootball.com
SUMMARY:Install Meeting #7
DESCRIPTION:Install Meeting \nSpring Practice #7 \nClass Room: TBD
URL:https://camasfootball.com/event/install-meeting-2026-7/
LOCATION:Washington
CATEGORIES:Varsity Practice,Varsity/JV Schedule
END:VEVENT
BEGIN:VEVENT
DTSTART;TZID=America/Los_Angeles:20260615T160000
DTEND;TZID=America/Los_Angeles:20260615T180000
DTSTAMP:20260423T111741
CREATED:20260215T232124Z
LAST-MODIFIED:20260215T232124Z
UID:4295-1781539200-1781546400@camasfootball.com
SUMMARY:Spring Practice #8
DESCRIPTION:Spring Practice #8 \n1/2 Pac
URL:https://camasfootball.com/event/spring-practice-8-2026/
LOCATION:Cardon Field\, 26900 SE 15th St.\, Camas\, Washington\, 98607
CATEGORIES:Varsity Practice,Varsity/JV Schedule
END:VEVENT
BEGIN:VEVENT
DTSTART;TZID=America/Los_Angeles:20260616T170000
DTEND;TZID=America/Los_Angeles:20260616T190000
DTSTAMP:20260423T111741
CREATED:20260215T232156Z
LAST-MODIFIED:20260215T232156Z
UID:4296-1781629200-1781636400@camasfootball.com
SUMMARY:Spring Joint Practice #9 w/Prairie
DESCRIPTION:Spring Joint Practice #9 \nw/Prairie at Cardon Field \nFull Pac
URL:https://camasfootball.com/event/spring-joint-practice-9-2026/
LOCATION:Cardon Field\, 26900 SE 15th St.\, Camas\, Washington\, 98607
CATEGORIES:Varsity Practice,Varsity/JV Schedule
END:VEVENT
BEGIN:VEVENT
DTSTART;TZID=America/Los_Angeles:20260617T151500
DTEND;TZID=America/Los_Angeles:20260617T154500
DTSTAMP:20260423T111741
CREATED:20260215T230757Z
LAST-MODIFIED:20260215T230757Z
UID:4278-1781709300-1781711100@camasfootball.com
SUMMARY:Install Meeting #8
DESCRIPTION:Install Meeting \nSpring Practice #8 \nClass Room: TBD
URL:https://camasfootball.com/event/install-meeting-2026-8/
LOCATION:Washington
CATEGORIES:Varsity Practice,Varsity/JV Schedule
END:VEVENT
BEGIN:VEVENT
DTSTART;TZID=America/Los_Angeles:20260617T160000
DTEND;TZID=America/Los_Angeles:20260617T180000
DTSTAMP:20260423T111741
CREATED:20260215T232226Z
LAST-MODIFIED:20260215T232226Z
UID:4297-1781712000-1781719200@camasfootball.com
SUMMARY:Spring Practice #10
DESCRIPTION:Spring Practice #10 \n1/2 Pac
URL:https://camasfootball.com/event/spring-practice-10-2026/
LOCATION:Cardon Field\, 26900 SE 15th St.\, Camas\, Washington\, 98607
CATEGORIES:Varsity Practice,Varsity/JV Schedule
END:VEVENT
BEGIN:VEVENT
DTSTART;TZID=America/Los_Angeles:20260819T090000
DTEND;TZID=America/Los_Angeles:20260819T120000
DTSTAMP:20260423T111741
CREATED:20260216T004844Z
LAST-MODIFIED:20260216T004855Z
UID:4437-1787130000-1787140800@camasfootball.com
SUMMARY:Varsity Practice #1
DESCRIPTION:Varsity Practice #1 \nHelmets
URL:https://camasfootball.com/event/varsity-practice-1-2026/
LOCATION:Cardon Field\, 26900 SE 15th St.\, Camas\, Washington\, 98607
CATEGORIES:Varsity Practice,Varsity/JV Schedule
END:VEVENT
BEGIN:VEVENT
DTSTART;TZID=America/Los_Angeles:20260819T180000
DTEND;TZID=America/Los_Angeles:20260819T200000
DTSTAMP:20260423T111741
CREATED:20260216T004929Z
LAST-MODIFIED:20260216T004929Z
UID:4438-1787162400-1787169600@camasfootball.com
SUMMARY:Varsity Practice #2
DESCRIPTION:Varsity Practice #2 \nHelmets
URL:https://camasfootball.com/event/varsity-practice-2-2026/
LOCATION:Cardon Field\, 26900 SE 15th St.\, Camas\, Washington\, 98607
CATEGORIES:Varsity Practice,Varsity/JV Schedule
END:VEVENT
BEGIN:VEVENT
DTSTART;TZID=America/Los_Angeles:20260820T090000
DTEND;TZID=America/Los_Angeles:20260820T120000
DTSTAMP:20260423T111741
CREATED:20260216T005008Z
LAST-MODIFIED:20260216T005044Z
UID:4439-1787216400-1787227200@camasfootball.com
SUMMARY:Varsity Practice #3
DESCRIPTION:Varsity Practice #3 \nHelmets
URL:https://camasfootball.com/event/varsity-practice-3-2026/
LOCATION:Cardon Field\, 26900 SE 15th St.\, Camas\, Washington\, 98607
CATEGORIES:Varsity Practice,Varsity/JV Schedule
END:VEVENT
BEGIN:VEVENT
DTSTART;TZID=America/Los_Angeles:20260820T180000
DTEND;TZID=America/Los_Angeles:20260820T200000
DTSTAMP:20260423T111741
CREATED:20260216T005038Z
LAST-MODIFIED:20260216T005038Z
UID:4440-1787248800-1787256000@camasfootball.com
SUMMARY:Varsity Practice #4
DESCRIPTION:Varsity Practice #4 \nHelmets
URL:https://camasfootball.com/event/varsity-practice-4-2026/
LOCATION:Cardon Field\, 26900 SE 15th St.\, Camas\, Washington\, 98607
CATEGORIES:Varsity Practice,Varsity/JV Schedule
END:VEVENT
BEGIN:VEVENT
DTSTART;TZID=America/Los_Angeles:20260821T090000
DTEND;TZID=America/Los_Angeles:20260821T120000
DTSTAMP:20260423T111741
CREATED:20260216T005117Z
LAST-MODIFIED:20260216T005117Z
UID:4441-1787302800-1787313600@camasfootball.com
SUMMARY:Varsity Practice #5
DESCRIPTION:Varsity Practice #5 \nHelmets
URL:https://camasfootball.com/event/varsity-practice-5-2026/
LOCATION:Cardon Field\, 26900 SE 15th St.\, Camas\, Washington\, 98607
CATEGORIES:Varsity Practice,Varsity/JV Schedule
END:VEVENT
BEGIN:VEVENT
DTSTART;TZID=America/Los_Angeles:20260821T180000
DTEND;TZID=America/Los_Angeles:20260821T200000
DTSTAMP:20260423T111741
CREATED:20260216T005148Z
LAST-MODIFIED:20260216T005250Z
UID:4442-1787335200-1787342400@camasfootball.com
SUMMARY:Varsity Practice #6
DESCRIPTION:Varsity Practice #6 \nHelmets
URL:https://camasfootball.com/event/varsity-practice-6-2026/
LOCATION:Cardon Field\, 26900 SE 15th St.\, Camas\, Washington\, 98607
CATEGORIES:Varsity Practice,Varsity/JV Schedule
END:VEVENT
BEGIN:VEVENT
DTSTART;TZID=America/Los_Angeles:20260822T090000
DTEND;TZID=America/Los_Angeles:20260822T120000
DTSTAMP:20260423T111741
CREATED:20260216T005230Z
LAST-MODIFIED:20260216T005230Z
UID:4443-1787389200-1787400000@camasfootball.com
SUMMARY:Varsity Practice #7
DESCRIPTION:Varsity Practice #7 \nFull Pac
URL:https://camasfootball.com/event/varsity-practice-7-2026/
LOCATION:Cardon Field\, 26900 SE 15th St.\, Camas\, Washington\, 98607
CATEGORIES:Varsity Practice,Varsity/JV Schedule
END:VEVENT
BEGIN:VEVENT
DTSTART;TZID=America/Los_Angeles:20260824T154500
DTEND;TZID=America/Los_Angeles:20260824T174500
DTSTAMP:20260423T111741
CREATED:20260216T005338Z
LAST-MODIFIED:20260216T005338Z
UID:4444-1787586300-1787593500@camasfootball.com
SUMMARY:Varsity Practice #8
DESCRIPTION:Varsity Practice #8 \nHelmets
URL:https://camasfootball.com/event/varsity-practice-8-2026/
LOCATION:Cardon Field\, 26900 SE 15th St.\, Camas\, Washington\, 98607
CATEGORIES:Varsity Practice,Varsity/JV Schedule
END:VEVENT
BEGIN:VEVENT
DTSTART;TZID=America/Los_Angeles:20260825T154500
DTEND;TZID=America/Los_Angeles:20260825T181500
DTSTAMP:20260423T111741
CREATED:20260216T005419Z
LAST-MODIFIED:20260216T005419Z
UID:4445-1787672700-1787681700@camasfootball.com
SUMMARY:Varsity Practice #9
DESCRIPTION:Varsity Practice #9 \nFull Pac
URL:https://camasfootball.com/event/varsity-practice-9-2026/
LOCATION:Cardon Field\, 26900 SE 15th St.\, Camas\, Washington\, 98607
CATEGORIES:Varsity Practice,Varsity/JV Schedule
END:VEVENT
BEGIN:VEVENT
DTSTART;TZID=America/Los_Angeles:20260826T154500
DTEND;TZID=America/Los_Angeles:20260826T181500
DTSTAMP:20260423T111741
CREATED:20260216T005453Z
LAST-MODIFIED:20260216T005453Z
UID:4446-1787759100-1787768100@camasfootball.com
SUMMARY:Varsity Practice #10
DESCRIPTION:Varsity Practice #10 \nFull Pac
URL:https://camasfootball.com/event/varsity-practice-10-2026/
LOCATION:Cardon Field\, 26900 SE 15th St.\, Camas\, Washington\, 98607
CATEGORIES:Varsity Practice,Varsity/JV Schedule
END:VEVENT
BEGIN:VEVENT
DTSTART;TZID=America/Los_Angeles:20260827T154500
DTEND;TZID=America/Los_Angeles:20260827T181500
DTSTAMP:20260423T111741
CREATED:20260216T005524Z
LAST-MODIFIED:20260216T005524Z
UID:4447-1787845500-1787854500@camasfootball.com
SUMMARY:Varsity Practice #11
DESCRIPTION:Varsity Practice #11 \n1/2 Pac
URL:https://camasfootball.com/event/varsity-practice-11-2026/
LOCATION:Cardon Field\, 26900 SE 15th St.\, Camas\, Washington\, 98607
CATEGORIES:Varsity Practice,Varsity/JV Schedule
END:VEVENT
END:VCALENDAR