BEGIN:VCALENDAR
VERSION:2.0
PRODID:-//Camas Football - ECPv6.15.3//NONSGML v1.0//EN
CALSCALE:GREGORIAN
METHOD:PUBLISH
X-ORIGINAL-URL:https://camasfootball.com
X-WR-CALDESC:Events for Camas Football
REFRESH-INTERVAL;VALUE=DURATION:PT1H
X-Robots-Tag:noindex
X-PUBLISHED-TTL:PT1H
BEGIN:VTIMEZONE
TZID:America/Los_Angeles
BEGIN:DAYLIGHT
TZOFFSETFROM:-0800
TZOFFSETTO:-0700
TZNAME:PDT
DTSTART:20240310T100000
END:DAYLIGHT
BEGIN:STANDARD
TZOFFSETFROM:-0700
TZOFFSETTO:-0800
TZNAME:PST
DTSTART:20241103T090000
END:STANDARD
END:VTIMEZONE
BEGIN:VEVENT
DTSTART;TZID=America/Los_Angeles:20240812T090000
DTEND;TZID=America/Los_Angeles:20240812T103000
DTSTAMP:20260423T162952
CREATED:20240223T065738Z
LAST-MODIFIED:20240424T050725Z
UID:905-1723453200-1723458600@camasfootball.com
SUMMARY:Weight Training - Frosh
DESCRIPTION:Weight Training at the Camas High School weight room for Freshmen players.
URL:https://camasfootball.com/event/weight-training-frosh-17/
LOCATION:Camas Weight Room\, 26900 SE 15th St.\, Camas\, Washington\, 98607
CATEGORIES:Frosh Calendar,Strength and Conditioning
END:VEVENT
BEGIN:VEVENT
DTSTART;TZID=America/Los_Angeles:20240812T083000
DTEND;TZID=America/Los_Angeles:20240812T100000
DTSTAMP:20260423T162952
CREATED:20240223T065226Z
LAST-MODIFIED:20240317T201046Z
UID:886-1723451400-1723456800@camasfootball.com
SUMMARY:Weight Training - Varsity
DESCRIPTION:Weight Training at the Camas High School weight room for 10-12 grade players.
URL:https://camasfootball.com/event/weight-training-varsity-16/
LOCATION:Camas Weight Room\, 26900 SE 15th St.\, Camas\, Washington\, 98607
CATEGORIES:Strength and Conditioning
END:VEVENT
BEGIN:VEVENT
DTSTART;TZID=America/Los_Angeles:20240808T090000
DTEND;TZID=America/Los_Angeles:20240808T103000
DTSTAMP:20260423T162952
CREATED:20240223T065702Z
LAST-MODIFIED:20240418T165206Z
UID:902-1723107600-1723113000@camasfootball.com
SUMMARY:Weight Training - Frosh
DESCRIPTION:Weight Training at the Camas High School weight room for Freshmen players.
URL:https://camasfootball.com/event/weight-training-frosh-16/
LOCATION:Camas Weight Room\, 26900 SE 15th St.\, Camas\, Washington\, 98607
CATEGORIES:Frosh Calendar,Strength and Conditioning
END:VEVENT
BEGIN:VEVENT
DTSTART;TZID=America/Los_Angeles:20240808T083000
DTEND;TZID=America/Los_Angeles:20240808T100000
DTSTAMP:20260423T162952
CREATED:20240223T065215Z
LAST-MODIFIED:20240317T201041Z
UID:885-1723105800-1723111200@camasfootball.com
SUMMARY:Weight Training - Varsity
DESCRIPTION:Weight Training at the Camas High School weight room for 10-12 grade players.
URL:https://camasfootball.com/event/weight-training-varsity-15/
LOCATION:Camas Weight Room\, 26900 SE 15th St.\, Camas\, Washington\, 98607
CATEGORIES:Strength and Conditioning
END:VEVENT
BEGIN:VEVENT
DTSTART;TZID=America/Los_Angeles:20240806T090000
DTEND;TZID=America/Los_Angeles:20240806T103000
DTSTAMP:20260423T162952
CREATED:20240223T065532Z
LAST-MODIFIED:20240418T165158Z
UID:898-1722934800-1722940200@camasfootball.com
SUMMARY:Weight Training - Frosh
DESCRIPTION:Weight Training at the Camas High School weight room for Freshmen players.
URL:https://camasfootball.com/event/weight-training-frosh-13/
LOCATION:Camas Weight Room\, 26900 SE 15th St.\, Camas\, Washington\, 98607
CATEGORIES:Frosh Calendar,Strength and Conditioning
END:VEVENT
BEGIN:VEVENT
DTSTART;TZID=America/Los_Angeles:20240806T083000
DTEND;TZID=America/Los_Angeles:20240806T100000
DTSTAMP:20260423T162952
CREATED:20240223T065135Z
LAST-MODIFIED:20240317T201036Z
UID:883-1722933000-1722938400@camasfootball.com
SUMMARY:Weight Training - Varsity
DESCRIPTION:Weight Training at the Camas High School weight room for 10-12 grade players.
URL:https://camasfootball.com/event/weight-training-varsity-13/
LOCATION:Camas Weight Room\, 26900 SE 15th St.\, Camas\, Washington\, 98607
CATEGORIES:Strength and Conditioning
END:VEVENT
BEGIN:VEVENT
DTSTART;TZID=America/Los_Angeles:20240805T090000
DTEND;TZID=America/Los_Angeles:20240805T103000
DTSTAMP:20260423T162952
CREATED:20240223T065553Z
LAST-MODIFIED:20240418T165210Z
UID:899-1722848400-1722853800@camasfootball.com
SUMMARY:Weight Training - Frosh
DESCRIPTION:Weight Training at the Camas High School weight room for Freshmen players.
URL:https://camasfootball.com/event/weight-training-frosh-14/
LOCATION:Camas Weight Room\, 26900 SE 15th St.\, Camas\, Washington\, 98607
CATEGORIES:Frosh Calendar,Strength and Conditioning
END:VEVENT
BEGIN:VEVENT
DTSTART;TZID=America/Los_Angeles:20240805T083000
DTEND;TZID=America/Los_Angeles:20240805T100000
DTSTAMP:20260423T162952
CREATED:20240223T065057Z
LAST-MODIFIED:20240317T201031Z
UID:882-1722846600-1722852000@camasfootball.com
SUMMARY:Weight Training - Varsity
DESCRIPTION:Weight Training at the Camas High School weight room for 10-12 grade players.
URL:https://camasfootball.com/event/weight-training-varsity-12/
LOCATION:Camas Weight Room\, 26900 SE 15th St.\, Camas\, Washington\, 98607
CATEGORIES:Strength and Conditioning
END:VEVENT
BEGIN:VEVENT
DTSTART;TZID=America/Los_Angeles:20240801T090000
DTEND;TZID=America/Los_Angeles:20240801T103000
DTSTAMP:20260423T162952
CREATED:20240223T065523Z
LAST-MODIFIED:20240418T165152Z
UID:897-1722502800-1722508200@camasfootball.com
SUMMARY:Weight Training - Frosh
DESCRIPTION:Weight Training at the Camas High School weight room for Freshmen players.
URL:https://camasfootball.com/event/weight-training-frosh-12/
LOCATION:Camas Weight Room\, 26900 SE 15th St.\, Camas\, Washington\, 98607
CATEGORIES:Frosh Calendar,Strength and Conditioning
END:VEVENT
BEGIN:VEVENT
DTSTART;TZID=America/Los_Angeles:20240801T083000
DTEND;TZID=America/Los_Angeles:20240801T100000
DTSTAMP:20260423T162952
CREATED:20240223T064819Z
LAST-MODIFIED:20240317T201021Z
UID:881-1722501000-1722506400@camasfootball.com
SUMMARY:Weight Training - Varsity
DESCRIPTION:Weight Training at the Camas High School weight room for 10-12 grade players.
URL:https://camasfootball.com/event/weight-training-varsity-11/
LOCATION:Camas Weight Room\, 26900 SE 15th St.\, Camas\, Washington\, 98607
CATEGORIES:Strength and Conditioning
END:VEVENT
BEGIN:VEVENT
DTSTART;TZID=America/Los_Angeles:20240730T090000
DTEND;TZID=America/Los_Angeles:20240730T103000
DTSTAMP:20260423T162952
CREATED:20240223T041238Z
LAST-MODIFIED:20240418T165149Z
UID:870-1722330000-1722335400@camasfootball.com
SUMMARY:Weight Training - Frosh
DESCRIPTION:Weight Training at the Camas High School weight room for Freshmen players.
URL:https://camasfootball.com/event/weight-training-frosh-11/
LOCATION:Camas Weight Room\, 26900 SE 15th St.\, Camas\, Washington\, 98607
CATEGORIES:Frosh Calendar,Strength and Conditioning
END:VEVENT
BEGIN:VEVENT
DTSTART;TZID=America/Los_Angeles:20240730T083000
DTEND;TZID=America/Los_Angeles:20240730T100000
DTSTAMP:20260423T162952
CREATED:20240223T040613Z
LAST-MODIFIED:20240317T201015Z
UID:849-1722328200-1722333600@camasfootball.com
SUMMARY:Weight Training - Varsity
DESCRIPTION:Weight Training at the Camas High School weight room for 10-12 grade players.
URL:https://camasfootball.com/event/849/
LOCATION:Camas Weight Room\, 26900 SE 15th St.\, Camas\, Washington\, 98607
CATEGORIES:Strength and Conditioning
END:VEVENT
BEGIN:VEVENT
DTSTART;TZID=America/Los_Angeles:20240729T090000
DTEND;TZID=America/Los_Angeles:20240729T103000
DTSTAMP:20260423T162952
CREATED:20240223T041232Z
LAST-MODIFIED:20240418T165145Z
UID:869-1722243600-1722249000@camasfootball.com
SUMMARY:Weight Training - Frosh
DESCRIPTION:Weight Training at the Camas High School weight room for Freshmen players.
URL:https://camasfootball.com/event/weight-training-frosh-10/
LOCATION:Camas Weight Room\, 26900 SE 15th St.\, Camas\, Washington\, 98607
CATEGORIES:Frosh Calendar,Strength and Conditioning
END:VEVENT
BEGIN:VEVENT
DTSTART;TZID=America/Los_Angeles:20240729T083000
DTEND;TZID=America/Los_Angeles:20240729T100000
DTSTAMP:20260423T162952
CREATED:20240223T040606Z
LAST-MODIFIED:20240317T201010Z
UID:848-1722241800-1722247200@camasfootball.com
SUMMARY:Weight Training - Varsity
DESCRIPTION:Weight Training at the Camas High School weight room for 10-12 grade players.
URL:https://camasfootball.com/event/weight-training-varsity-10/
LOCATION:Camas Weight Room\, 26900 SE 15th St.\, Camas\, Washington\, 98607
CATEGORIES:Strength and Conditioning
END:VEVENT
BEGIN:VEVENT
DTSTART;TZID=America/Los_Angeles:20240725T090000
DTEND;TZID=America/Los_Angeles:20240725T103000
DTSTAMP:20260423T162952
CREATED:20240223T041218Z
LAST-MODIFIED:20240418T165141Z
UID:868-1721898000-1721903400@camasfootball.com
SUMMARY:Weight Training - Frosh
DESCRIPTION:Weight Training at the Camas High School weight room for Freshmen players.
URL:https://camasfootball.com/event/weight-training-frosh-9/
LOCATION:Camas Weight Room\, 26900 SE 15th St.\, Camas\, Washington\, 98607
CATEGORIES:Frosh Calendar,Strength and Conditioning
END:VEVENT
BEGIN:VEVENT
DTSTART;TZID=America/Los_Angeles:20240725T083000
DTEND;TZID=America/Los_Angeles:20240725T100000
DTSTAMP:20260423T162952
CREATED:20240223T040547Z
LAST-MODIFIED:20240317T201005Z
UID:847-1721896200-1721901600@camasfootball.com
SUMMARY:Weight Training - Varsity
DESCRIPTION:Weight Training at the Camas High School weight room for 10-12 grade players.
URL:https://camasfootball.com/event/weight-training-varsity-9/
LOCATION:Camas Weight Room\, 26900 SE 15th St.\, Camas\, Washington\, 98607
CATEGORIES:Strength and Conditioning
END:VEVENT
BEGIN:VEVENT
DTSTART;TZID=America/Los_Angeles:20240723T090000
DTEND;TZID=America/Los_Angeles:20240723T103000
DTSTAMP:20260423T162952
CREATED:20240223T041153Z
LAST-MODIFIED:20240418T165138Z
UID:867-1721725200-1721730600@camasfootball.com
SUMMARY:Weight Training - Frosh
DESCRIPTION:Weight Training at the Camas High School weight room for Freshmen players.
URL:https://camasfootball.com/event/weight-training-frosh-8/
LOCATION:Camas Weight Room\, 26900 SE 15th St.\, Camas\, Washington\, 98607
CATEGORIES:Frosh Calendar,Strength and Conditioning
END:VEVENT
BEGIN:VEVENT
DTSTART;TZID=America/Los_Angeles:20240723T083000
DTEND;TZID=America/Los_Angeles:20240723T100000
DTSTAMP:20260423T162952
CREATED:20240223T040532Z
LAST-MODIFIED:20240317T201000Z
UID:846-1721723400-1721728800@camasfootball.com
SUMMARY:Weight Training - Varsity
DESCRIPTION:Weight Training at the Camas High School weight room for 10-12 grade players.
URL:https://camasfootball.com/event/weight-training-varsity-8/
LOCATION:Camas Weight Room\, 26900 SE 15th St.\, Camas\, Washington\, 98607
CATEGORIES:Strength and Conditioning
END:VEVENT
BEGIN:VEVENT
DTSTART;TZID=America/Los_Angeles:20240722T090000
DTEND;TZID=America/Los_Angeles:20240722T103000
DTSTAMP:20260423T162952
CREATED:20240223T041147Z
LAST-MODIFIED:20240418T165233Z
UID:866-1721638800-1721644200@camasfootball.com
SUMMARY:Weight Training - Frosh
DESCRIPTION:Weight Training at the Camas High School weight room for Freshmen players.
URL:https://camasfootball.com/event/weight-training-frosh-7/
LOCATION:Camas Weight Room\, 26900 SE 15th St.\, Camas\, Washington\, 98607
CATEGORIES:Frosh Calendar,Strength and Conditioning
END:VEVENT
BEGIN:VEVENT
DTSTART;TZID=America/Los_Angeles:20240722T083000
DTEND;TZID=America/Los_Angeles:20240722T100000
DTSTAMP:20260423T162952
CREATED:20240223T040515Z
LAST-MODIFIED:20240317T200950Z
UID:845-1721637000-1721642400@camasfootball.com
SUMMARY:Weight Training - Varsity
DESCRIPTION:Weight Training at the Camas High School weight room for 10-12 grade players.
URL:https://camasfootball.com/event/weight-training-varsity-7/
LOCATION:Camas Weight Room\, 26900 SE 15th St.\, Camas\, Washington\, 98607
CATEGORIES:Strength and Conditioning
END:VEVENT
BEGIN:VEVENT
DTSTART;TZID=America/Los_Angeles:20240718T090000
DTEND;TZID=America/Los_Angeles:20240718T103000
DTSTAMP:20260423T162952
CREATED:20240223T041131Z
LAST-MODIFIED:20240418T165131Z
UID:865-1721293200-1721298600@camasfootball.com
SUMMARY:Weight Training - Frosh
DESCRIPTION:Weight Training at the Camas High School weight room for Freshmen players.
URL:https://camasfootball.com/event/weight-training-frosh-6/
LOCATION:Camas Weight Room\, 26900 SE 15th St.\, Camas\, Washington\, 98607
CATEGORIES:Frosh Calendar,Strength and Conditioning
END:VEVENT
BEGIN:VEVENT
DTSTART;TZID=America/Los_Angeles:20240718T083000
DTEND;TZID=America/Los_Angeles:20240718T100000
DTSTAMP:20260423T162952
CREATED:20240223T040506Z
LAST-MODIFIED:20240317T200943Z
UID:844-1721291400-1721296800@camasfootball.com
SUMMARY:Weight Training - Varsity
DESCRIPTION:Weight Training at the Camas High School weight room for 10-12 grade players.
URL:https://camasfootball.com/event/weight-training-varsity-6/
LOCATION:Camas Weight Room\, 26900 SE 15th St.\, Camas\, Washington\, 98607
CATEGORIES:Strength and Conditioning
END:VEVENT
BEGIN:VEVENT
DTSTART;TZID=America/Los_Angeles:20240716T090000
DTEND;TZID=America/Los_Angeles:20240716T103000
DTSTAMP:20260423T162952
CREATED:20240223T041103Z
LAST-MODIFIED:20240418T165046Z
UID:864-1721120400-1721125800@camasfootball.com
SUMMARY:Weight Training - Frosh
DESCRIPTION:Weight Training at the Camas High School weight room for Freshmen players.
URL:https://camasfootball.com/event/weight-training-frosh-5/
LOCATION:Camas Weight Room\, 26900 SE 15th St.\, Camas\, Washington\, 98607
CATEGORIES:Frosh Calendar,Strength and Conditioning
END:VEVENT
BEGIN:VEVENT
DTSTART;TZID=America/Los_Angeles:20240716T083000
DTEND;TZID=America/Los_Angeles:20240716T100000
DTSTAMP:20260423T162952
CREATED:20240223T040449Z
LAST-MODIFIED:20240317T200933Z
UID:843-1721118600-1721124000@camasfootball.com
SUMMARY:Weight Training - Varsity
DESCRIPTION:Weight Training at the Camas High School weight room for 10-12 grade players.
URL:https://camasfootball.com/event/weight-training-varsity-5/
LOCATION:Camas Weight Room\, 26900 SE 15th St.\, Camas\, Washington\, 98607
CATEGORIES:Strength and Conditioning
END:VEVENT
BEGIN:VEVENT
DTSTART;TZID=America/Los_Angeles:20240715T090000
DTEND;TZID=America/Los_Angeles:20240715T103000
DTSTAMP:20260423T162952
CREATED:20240223T041056Z
LAST-MODIFIED:20240418T165054Z
UID:863-1721034000-1721039400@camasfootball.com
SUMMARY:Weight Training - Frosh
DESCRIPTION:Weight Training at the Camas High School weight room for Freshmen players.
URL:https://camasfootball.com/event/weight-training-frosh-4/
LOCATION:Camas Weight Room\, 26900 SE 15th St.\, Camas\, Washington\, 98607
CATEGORIES:Frosh Calendar,Strength and Conditioning
END:VEVENT
BEGIN:VEVENT
DTSTART;TZID=America/Los_Angeles:20240715T083000
DTEND;TZID=America/Los_Angeles:20240715T100000
DTSTAMP:20260423T162952
CREATED:20240223T040438Z
LAST-MODIFIED:20240317T200928Z
UID:842-1721032200-1721037600@camasfootball.com
SUMMARY:Weight Training - Varsity
DESCRIPTION:Weight Training at the Camas High School weight room for 10-12 grade players.
URL:https://camasfootball.com/event/weight-training-varsity-4/
LOCATION:Camas Weight Room\, 26900 SE 15th St.\, Camas\, Washington\, 98607
CATEGORIES:Strength and Conditioning
END:VEVENT
BEGIN:VEVENT
DTSTART;TZID=America/Los_Angeles:20240711T090000
DTEND;TZID=America/Los_Angeles:20240711T103000
DTSTAMP:20260423T162952
CREATED:20240223T041035Z
LAST-MODIFIED:20240418T165238Z
UID:862-1720688400-1720693800@camasfootball.com
SUMMARY:Weight Training - Frosh
DESCRIPTION:Weight Training at the Camas High School weight room for Freshmen players.
URL:https://camasfootball.com/event/weight-training-frosh-3/
LOCATION:Camas Weight Room\, 26900 SE 15th St.\, Camas\, Washington\, 98607
CATEGORIES:Frosh Calendar,Strength and Conditioning
END:VEVENT
BEGIN:VEVENT
DTSTART;TZID=America/Los_Angeles:20240711T083000
DTEND;TZID=America/Los_Angeles:20240711T100000
DTSTAMP:20260423T162952
CREATED:20240223T040414Z
LAST-MODIFIED:20240317T200923Z
UID:841-1720686600-1720692000@camasfootball.com
SUMMARY:Weight Training - Varsity
DESCRIPTION:Weight Training at the Camas High School weight room for 10-12 grade players.
URL:https://camasfootball.com/event/weight-training-varsity-3/
LOCATION:Camas Weight Room\, 26900 SE 15th St.\, Camas\, Washington\, 98607
CATEGORIES:Strength and Conditioning
END:VEVENT
BEGIN:VEVENT
DTSTART;TZID=America/Los_Angeles:20240709T090000
DTEND;TZID=America/Los_Angeles:20240709T103000
DTSTAMP:20260423T162952
CREATED:20240223T041027Z
LAST-MODIFIED:20240418T165100Z
UID:861-1720515600-1720521000@camasfootball.com
SUMMARY:Weight Training - Frosh
DESCRIPTION:Weight Training at the Camas High School weight room for Freshmen players.
URL:https://camasfootball.com/event/weight-training-frosh-2/
LOCATION:Camas Weight Room\, 26900 SE 15th St.\, Camas\, Washington\, 98607
CATEGORIES:Frosh Calendar,Strength and Conditioning
END:VEVENT
BEGIN:VEVENT
DTSTART;TZID=America/Los_Angeles:20240709T083000
DTEND;TZID=America/Los_Angeles:20240709T100000
DTSTAMP:20260423T162952
CREATED:20240223T040357Z
LAST-MODIFIED:20240317T200918Z
UID:840-1720513800-1720519200@camasfootball.com
SUMMARY:Weight Training - Varsity
DESCRIPTION:Weight Training at the Camas High School weight room for 10-12 grade players.
URL:https://camasfootball.com/event/weight-training-varsity-2/
LOCATION:Camas Weight Room\, 26900 SE 15th St.\, Camas\, Washington\, 98607
CATEGORIES:Strength and Conditioning
END:VEVENT
END:VCALENDAR