BEGIN:VCALENDAR
VERSION:2.0
PRODID:-//Camas Football - ECPv6.15.3//NONSGML v1.0//EN
CALSCALE:GREGORIAN
METHOD:PUBLISH
X-WR-CALNAME:Camas Football
X-ORIGINAL-URL:https://camasfootball.com
X-WR-CALDESC:Events for Camas Football
REFRESH-INTERVAL;VALUE=DURATION:PT1H
X-Robots-Tag:noindex
X-PUBLISHED-TTL:PT1H
BEGIN:VTIMEZONE
TZID:America/Los_Angeles
BEGIN:DAYLIGHT
TZOFFSETFROM:-0800
TZOFFSETTO:-0700
TZNAME:PDT
DTSTART:20260308T100000
END:DAYLIGHT
BEGIN:STANDARD
TZOFFSETFROM:-0700
TZOFFSETTO:-0800
TZNAME:PST
DTSTART:20261101T090000
END:STANDARD
END:VTIMEZONE
BEGIN:VEVENT
DTSTART;VALUE=DATE:20260906
DTEND;VALUE=DATE:20260907
DTSTAMP:20260423T141159
CREATED:20260216T011204Z
LAST-MODIFIED:20260216T011204Z
UID:4473-1788652800-1788739199@camasfootball.com
SUMMARY:Staff Meeting
DESCRIPTION:Staff Meeting \nTime/Location TBD
URL:https://camasfootball.com/event/staff-meeting-27/
CATEGORIES:Staff Meeting,Varsity/JV Schedule
END:VEVENT
BEGIN:VEVENT
DTSTART;VALUE=DATE:20260913
DTEND;VALUE=DATE:20260914
DTSTAMP:20260423T141159
CREATED:20260216T011222Z
LAST-MODIFIED:20260216T011222Z
UID:4474-1789257600-1789343999@camasfootball.com
SUMMARY:Staff Meeting
DESCRIPTION:Staff Meeting \nTime/Location TBD
URL:https://camasfootball.com/event/staff-meeting-28/
CATEGORIES:Staff Meeting,Varsity/JV Schedule
END:VEVENT
BEGIN:VEVENT
DTSTART;VALUE=DATE:20260920
DTEND;VALUE=DATE:20260921
DTSTAMP:20260423T141159
CREATED:20260216T011241Z
LAST-MODIFIED:20260216T011241Z
UID:4475-1789862400-1789948799@camasfootball.com
SUMMARY:Staff Meeting
DESCRIPTION:Staff Meeting \nTime/Location TBD
URL:https://camasfootball.com/event/staff-meeting-29/
CATEGORIES:Staff Meeting,Varsity/JV Schedule
END:VEVENT
BEGIN:VEVENT
DTSTART;VALUE=DATE:20260927
DTEND;VALUE=DATE:20260928
DTSTAMP:20260423T141159
CREATED:20260216T011255Z
LAST-MODIFIED:20260216T011255Z
UID:4476-1790467200-1790553599@camasfootball.com
SUMMARY:Staff Meeting
DESCRIPTION:Staff Meeting \nTime/Location TBD
URL:https://camasfootball.com/event/staff-meeting-30/
CATEGORIES:Staff Meeting,Varsity/JV Schedule
END:VEVENT
BEGIN:VEVENT
DTSTART;VALUE=DATE:20261004
DTEND;VALUE=DATE:20261005
DTSTAMP:20260423T141159
CREATED:20260216T011326Z
LAST-MODIFIED:20260216T011326Z
UID:4477-1791072000-1791158399@camasfootball.com
SUMMARY:Staff Meeting
DESCRIPTION:Staff Meeting \nTime/Location TBD
URL:https://camasfootball.com/event/staff-meeting-31/
CATEGORIES:Staff Meeting,Varsity/JV Schedule
END:VEVENT
BEGIN:VEVENT
DTSTART;VALUE=DATE:20261011
DTEND;VALUE=DATE:20261012
DTSTAMP:20260423T141159
CREATED:20260216T011340Z
LAST-MODIFIED:20260216T011340Z
UID:4478-1791676800-1791763199@camasfootball.com
SUMMARY:Staff Meeting
DESCRIPTION:Staff Meeting \nTime/Location TBD
URL:https://camasfootball.com/event/staff-meeting-32/
CATEGORIES:Staff Meeting,Varsity/JV Schedule
END:VEVENT
BEGIN:VEVENT
DTSTART;VALUE=DATE:20261018
DTEND;VALUE=DATE:20261019
DTSTAMP:20260423T141159
CREATED:20260216T011356Z
LAST-MODIFIED:20260216T011356Z
UID:4479-1792281600-1792367999@camasfootball.com
SUMMARY:Staff Meeting
DESCRIPTION:Staff Meeting \nTime/Location TBD
URL:https://camasfootball.com/event/staff-meeting-33/
CATEGORIES:Staff Meeting,Varsity/JV Schedule
END:VEVENT
BEGIN:VEVENT
DTSTART;VALUE=DATE:20261025
DTEND;VALUE=DATE:20261026
DTSTAMP:20260423T141159
CREATED:20260216T011411Z
LAST-MODIFIED:20260216T011411Z
UID:4480-1792886400-1792972799@camasfootball.com
SUMMARY:Staff Meeting
DESCRIPTION:Staff Meeting \nTime/Location TBD
URL:https://camasfootball.com/event/staff-meeting-34/
CATEGORIES:Staff Meeting,Varsity/JV Schedule
END:VEVENT
BEGIN:VEVENT
DTSTART;VALUE=DATE:20261101
DTEND;VALUE=DATE:20261102
DTSTAMP:20260423T141159
CREATED:20260216T011434Z
LAST-MODIFIED:20260216T011434Z
UID:4481-1793491200-1793577599@camasfootball.com
SUMMARY:Staff Meeting
DESCRIPTION:Staff Meeting \nTime/Location TBD
URL:https://camasfootball.com/event/staff-meeting-35/
CATEGORIES:Staff Meeting,Varsity/JV Schedule
END:VEVENT
BEGIN:VEVENT
DTSTART;VALUE=DATE:20261108
DTEND;VALUE=DATE:20261109
DTSTAMP:20260423T141159
CREATED:20260216T011450Z
LAST-MODIFIED:20260216T011450Z
UID:4482-1794096000-1794182399@camasfootball.com
SUMMARY:Staff Meeting
DESCRIPTION:Staff Meeting \nTime/Location TBD
URL:https://camasfootball.com/event/staff-meeting-36/
CATEGORIES:Staff Meeting,Varsity/JV Schedule
END:VEVENT
BEGIN:VEVENT
DTSTART;VALUE=DATE:20261115
DTEND;VALUE=DATE:20261116
DTSTAMP:20260423T141159
CREATED:20260216T011507Z
LAST-MODIFIED:20260216T011507Z
UID:4483-1794700800-1794787199@camasfootball.com
SUMMARY:Staff Meeting
DESCRIPTION:Staff Meeting \nTime/Location TBD
URL:https://camasfootball.com/event/staff-meeting-37/
CATEGORIES:Staff Meeting,Varsity/JV Schedule
END:VEVENT
BEGIN:VEVENT
DTSTART;VALUE=DATE:20261122
DTEND;VALUE=DATE:20261123
DTSTAMP:20260423T141159
CREATED:20260216T011521Z
LAST-MODIFIED:20260216T011521Z
UID:4484-1795305600-1795391999@camasfootball.com
SUMMARY:Staff Meeting
DESCRIPTION:Staff Meeting \nTime/Location TBD
URL:https://camasfootball.com/event/staff-meeting-38/
CATEGORIES:Staff Meeting,Varsity/JV Schedule
END:VEVENT
BEGIN:VEVENT
DTSTART;VALUE=DATE:20261129
DTEND;VALUE=DATE:20261130
DTSTAMP:20260423T141159
CREATED:20260216T011536Z
LAST-MODIFIED:20260216T011536Z
UID:4485-1795910400-1795996799@camasfootball.com
SUMMARY:Staff Meeting
DESCRIPTION:Staff Meeting \nTime/Location TBD
URL:https://camasfootball.com/event/staff-meeting-39/
CATEGORIES:Staff Meeting,Varsity/JV Schedule
END:VEVENT
END:VCALENDAR