BEGIN:VCALENDAR
VERSION:2.0
PRODID:-//Camas Football - ECPv6.15.3//NONSGML v1.0//EN
CALSCALE:GREGORIAN
METHOD:PUBLISH
X-ORIGINAL-URL:https://camasfootball.com
X-WR-CALDESC:Events for Camas Football
REFRESH-INTERVAL;VALUE=DURATION:PT1H
X-Robots-Tag:noindex
X-PUBLISHED-TTL:PT1H
BEGIN:VTIMEZONE
TZID:America/Los_Angeles
BEGIN:DAYLIGHT
TZOFFSETFROM:-0800
TZOFFSETTO:-0700
TZNAME:PDT
DTSTART:20250309T100000
END:DAYLIGHT
BEGIN:STANDARD
TZOFFSETFROM:-0700
TZOFFSETTO:-0800
TZNAME:PST
DTSTART:20251102T090000
END:STANDARD
END:VTIMEZONE
BEGIN:VEVENT
DTSTART;VALUE=DATE:20250308
DTEND;VALUE=DATE:20250309
DTSTAMP:20260423T162933
CREATED:20250204T173918Z
LAST-MODIFIED:20250321T203124Z
UID:2510-1741392000-1741478399@camasfootball.com
SUMMARY:Nike Clinic - Portland
DESCRIPTION:Nike Clinic in Portland \nDay 2
URL:https://camasfootball.com/event/nike-clinic-portland-3/
LOCATION:WA
CATEGORIES:Coaches Clinic,Middle School,Varsity/JV Schedule
END:VEVENT
BEGIN:VEVENT
DTSTART;VALUE=DATE:20250307
DTEND;VALUE=DATE:20250308
DTSTAMP:20260423T162933
CREATED:20250204T173731Z
LAST-MODIFIED:20250321T203052Z
UID:2508-1741305600-1741391999@camasfootball.com
SUMMARY:Nike Clinic - Portland
DESCRIPTION:Nike Clinic in Portland \nDay 1
URL:https://camasfootball.com/event/nike-clinic-portland/
LOCATION:WA
CATEGORIES:Coaches Clinic,Middle School,Varsity/JV Schedule
END:VEVENT
END:VCALENDAR