BEGIN:VCALENDAR
VERSION:2.0
PRODID:-//Camas Football - ECPv6.15.3//NONSGML v1.0//EN
CALSCALE:GREGORIAN
METHOD:PUBLISH
X-WR-CALNAME:Camas Football
X-ORIGINAL-URL:https://camasfootball.com
X-WR-CALDESC:Events for Camas Football
REFRESH-INTERVAL;VALUE=DURATION:PT1H
X-Robots-Tag:noindex
X-PUBLISHED-TTL:PT1H
BEGIN:VTIMEZONE
TZID:America/Los_Angeles
BEGIN:DAYLIGHT
TZOFFSETFROM:-0800
TZOFFSETTO:-0700
TZNAME:PDT
DTSTART:20250309T100000
END:DAYLIGHT
BEGIN:STANDARD
TZOFFSETFROM:-0700
TZOFFSETTO:-0800
TZNAME:PST
DTSTART:20251102T090000
END:STANDARD
END:VTIMEZONE
BEGIN:VEVENT
DTSTART;TZID=America/Los_Angeles:20250427T163000
DTEND;TZID=America/Los_Angeles:20250427T173000
DTSTAMP:20260423T125721
CREATED:20250204T235110Z
LAST-MODIFIED:20250324T153224Z
UID:2593-1745771400-1745775000@camasfootball.com
SUMMARY:#ToTheTop Youth Football Skills Camp - Grade: 5-7 Week 3
DESCRIPTION:#ToTheTop Youth Football Skills Camp – Week 3 \n5th – 7th Grade\, Code: 3043-25\nQB\, RB & WR Focus \nThis camp is for beginner to intermediate level youth football players. Join in the fun as we instruct and practice the basics of football position specific skills with some of SW WA best high school players! This traditional “Big Guys – Little Guys” Camp will focus mostly on position specific fundaments in a manner that will not only be enjoyable\, but will undoubtedly translate into a fun and successful venture into youth football. Bring a water bottle and wear athletic attire (athletic shoes or molded cleats). \nThe camp will be coached by members of the CHS 2025 High School football program\, with director oversight from Camas Head Football Coach Adam Mathieson and members of the CHS football Coaching staff. \n$99 for all 4 Weeks \nThis is a 4 week camp that meets every Sunday from April 13 through May 4.
URL:https://camasfootball.com/event/tothetop-youth-football-skills-camp-grade-5-7-week-3-2/
LOCATION:Field House\, 26900 SE 15th St.\, Camas\, Washington\, 98607
CATEGORIES:Frosh Calendar,Middle School,Varsity/JV Schedule,Youth Football Camp
END:VEVENT
BEGIN:VEVENT
DTSTART;TZID=America/Los_Angeles:20250427T150000
DTEND;TZID=America/Los_Angeles:20250427T160000
DTSTAMP:20260423T125721
CREATED:20250204T235020Z
LAST-MODIFIED:20250324T153208Z
UID:2592-1745766000-1745769600@camasfootball.com
SUMMARY:#ToTheTop Youth Football Skills Camp - Grade: 2-4 Week 3
DESCRIPTION:#ToTheTop Youth Football Skills Camp – Week 3 \n2nd – 4th Grade\, Code: 3042-25\nQB\, RB & WR Focus \nThis camp is for beginner to intermediate level youth football players. Join in the fun as we instruct and practice the basics of football position specific skills with some of SW WA best high school players! This traditional “Big Guys – Little Guys” Camp will focus mostly on position specific fundaments in a manner that will not only be enjoyable\, but will undoubtedly translate into a fun and successful venture into youth football. Bring a water bottle and wear athletic attire (athletic shoes or molded cleats). \nThe camp will be coached by members of the CHS 2025 High School football program\, with director oversight from Camas Head Football Coach Adam Mathieson and members of the CHS football Coaching staff. \n$99 for all 4 Weeks \nThis is a 4 week camp that meets every Sunday from April 13 through May 4.
URL:https://camasfootball.com/event/tothetop-youth-football-skills-camp-grade-2-4-week-3/
LOCATION:Field House\, 26900 SE 15th St.\, Camas\, Washington\, 98607
CATEGORIES:Frosh Calendar,Middle School,Varsity/JV Schedule,Youth Football Camp
END:VEVENT
BEGIN:VEVENT
DTSTART;TZID=America/Los_Angeles:20250425T160000
DTEND;TZID=America/Los_Angeles:20250425T174500
DTSTAMP:20260423T125721
CREATED:20250327T190922Z
LAST-MODIFIED:20250327T190922Z
UID:3386-1745596800-1745603100@camasfootball.com
SUMMARY:Skyridge (Practice)
DESCRIPTION:Skyridge Middle School Football  \nPractice
URL:https://camasfootball.com/event/skyridge-practice-14/
LOCATION:Skyridge Middle School\, 5220 NW Parker St\, Camas\, WA\, 98607\, United States
CATEGORIES:Middle School
END:VEVENT
BEGIN:VEVENT
DTSTART;TZID=America/Los_Angeles:20250424T190000
DTEND;TZID=America/Los_Angeles:20250424T210000
DTSTAMP:20260423T125721
CREATED:20250320T164316Z
LAST-MODIFIED:20250327T203214Z
UID:3226-1745521200-1745528400@camasfootball.com
SUMMARY:#1 Frontier at Liberty (Doc Harris Stadium)
DESCRIPTION:Liberty Middle School Football  \nGame 1: Frontier at Liberty (Doc Harris Stadium)
URL:https://camasfootball.com/event/frontier-at-liberty-doc/
LOCATION:Doc Harris Stadium\, 841 NE 22nd Ave.\, Camas\, Washington\, 98607
CATEGORIES:Middle School
END:VEVENT
BEGIN:VEVENT
DTSTART;TZID=America/Los_Angeles:20250424T173000
DTEND;TZID=America/Los_Angeles:20250424T193000
DTSTAMP:20260423T125721
CREATED:20250327T201155Z
LAST-MODIFIED:20250327T201307Z
UID:3431-1745515800-1745523000@camasfootball.com
SUMMARY:#1 Skyridge at Wy'East (MVHS)
DESCRIPTION:Skyridge Middle School Football  \nGame 1:  Skyridge at Wy’East (at Mountain View High School)
URL:https://camasfootball.com/event/1-skyridge-at-wyeast-mvhs/
LOCATION:Mountain View High School\, 1500 SE Blairmont Dr\, Vancouver\, WA\, 98683\, United States
CATEGORIES:Middle School
END:VEVENT
BEGIN:VEVENT
DTSTART;TZID=America/Los_Angeles:20250423T160000
DTEND;TZID=America/Los_Angeles:20250423T174500
DTSTAMP:20260423T125721
CREATED:20250327T190900Z
LAST-MODIFIED:20250327T190900Z
UID:3385-1745424000-1745430300@camasfootball.com
SUMMARY:Skyridge (Practice)
DESCRIPTION:Skyridge Middle School Football  \nPractice
URL:https://camasfootball.com/event/skyridge-practice-13/
LOCATION:Skyridge Middle School\, 5220 NW Parker St\, Camas\, WA\, 98607\, United States
CATEGORIES:Middle School
END:VEVENT
BEGIN:VEVENT
DTSTART;TZID=America/Los_Angeles:20250423T160000
DTEND;TZID=America/Los_Angeles:20250423T174500
DTSTAMP:20260423T125721
CREATED:20250320T164109Z
LAST-MODIFIED:20250320T164109Z
UID:3225-1745424000-1745430300@camasfootball.com
SUMMARY:Liberty (Practice)
DESCRIPTION:Liberty Middle School Football  \nPractice
URL:https://camasfootball.com/event/liberty-practice-13/
LOCATION:Liberty Middle School\, 1612 NE Garfield St\, Camas\, 98607\, United States
CATEGORIES:Middle School
END:VEVENT
BEGIN:VEVENT
DTSTART;TZID=America/Los_Angeles:20250422T160000
DTEND;TZID=America/Los_Angeles:20250422T174500
DTSTAMP:20260423T125721
CREATED:20250327T190840Z
LAST-MODIFIED:20250327T190840Z
UID:3384-1745337600-1745343900@camasfootball.com
SUMMARY:Skyridge (Practice)
DESCRIPTION:Skyridge Middle School Football  \nPractice
URL:https://camasfootball.com/event/skyridge-practice-12/
LOCATION:Skyridge Middle School\, 5220 NW Parker St\, Camas\, WA\, 98607\, United States
CATEGORIES:Middle School
END:VEVENT
BEGIN:VEVENT
DTSTART;TZID=America/Los_Angeles:20250422T160000
DTEND;TZID=America/Los_Angeles:20250422T174500
DTSTAMP:20260423T125721
CREATED:20250320T164049Z
LAST-MODIFIED:20250320T164049Z
UID:3224-1745337600-1745343900@camasfootball.com
SUMMARY:Liberty (Practice)
DESCRIPTION:Liberty Middle School Football  \nPractice
URL:https://camasfootball.com/event/liberty-practice-12/
LOCATION:Liberty Middle School\, 1612 NE Garfield St\, Camas\, 98607\, United States
CATEGORIES:Middle School
END:VEVENT
BEGIN:VEVENT
DTSTART;TZID=America/Los_Angeles:20250421T160000
DTEND;TZID=America/Los_Angeles:20250421T174500
DTSTAMP:20260423T125721
CREATED:20250327T190816Z
LAST-MODIFIED:20250327T190816Z
UID:3383-1745251200-1745257500@camasfootball.com
SUMMARY:Skyridge (Practice)
DESCRIPTION:Skyridge Middle School Football  \nPractice
URL:https://camasfootball.com/event/skyridge-practice-11/
LOCATION:Skyridge Middle School\, 5220 NW Parker St\, Camas\, WA\, 98607\, United States
CATEGORIES:Middle School
END:VEVENT
BEGIN:VEVENT
DTSTART;TZID=America/Los_Angeles:20250421T160000
DTEND;TZID=America/Los_Angeles:20250421T174500
DTSTAMP:20260423T125721
CREATED:20250320T164031Z
LAST-MODIFIED:20250320T164031Z
UID:3223-1745251200-1745257500@camasfootball.com
SUMMARY:Liberty (Practice)
DESCRIPTION:Liberty Middle School Football  \nPractice
URL:https://camasfootball.com/event/liberty-practice-11/
LOCATION:Liberty Middle School\, 1612 NE Garfield St\, Camas\, 98607\, United States
CATEGORIES:Middle School
END:VEVENT
BEGIN:VEVENT
DTSTART;TZID=America/Los_Angeles:20250420T163000
DTEND;TZID=America/Los_Angeles:20250420T173000
DTSTAMP:20260423T125721
CREATED:20250204T234606Z
LAST-MODIFIED:20250324T153157Z
UID:2588-1745166600-1745170200@camasfootball.com
SUMMARY:#ToTheTop Youth Football Skills Camp - Grade: 5-7 Week 2
DESCRIPTION:#ToTheTop Youth Football Skills Camp – Week 2 \n5th – 7th Grade\, Code: 3043-25\nQB & WR Focus \nThis camp is for beginner to intermediate level youth football players. Join in the fun as we instruct and practice the basics of football position specific skills with some of SW WA best high school players! This traditional “Big Guys – Little Guys” Camp will focus mostly on position specific fundaments in a manner that will not only be enjoyable\, but will undoubtedly translate into a fun and successful venture into youth football. Bring a water bottle and wear athletic attire (athletic shoes or molded cleats). \nThe camp will be coached by members of the CHS 2025 High School football program\, with director oversight from Camas Head Football Coach Adam Mathieson and members of the CHS football Coaching staff. \n$99 for all 4 Weeks \nThis is a 4 week camp that meets every Sunday from April 13 through May 4.
URL:https://camasfootball.com/event/tothetop-youth-football-skills-camp-grade-5-7-week-2-2/
LOCATION:Field House\, 26900 SE 15th St.\, Camas\, Washington\, 98607
CATEGORIES:Frosh Calendar,Middle School,Varsity/JV Schedule,Youth Football Camp
END:VEVENT
BEGIN:VEVENT
DTSTART;TZID=America/Los_Angeles:20250420T150000
DTEND;TZID=America/Los_Angeles:20250420T160000
DTSTAMP:20260423T125721
CREATED:20250204T234518Z
LAST-MODIFIED:20250324T153134Z
UID:2587-1745161200-1745164800@camasfootball.com
SUMMARY:#ToTheTop Youth Football Skills Camp - Grade: 2-4 Week 2
DESCRIPTION:#ToTheTop Youth Football Skills Camp – Week 2 \n2nd – 4th Grade\, Code: 3042-25\nQB & WR Focus \nThis camp is for beginner to intermediate level youth football players. Join in the fun as we instruct and practice the basics of football position specific skills with some of SW WA best high school players! This traditional “Big Guys – Little Guys” Camp will focus mostly on position specific fundaments in a manner that will not only be enjoyable\, but will undoubtedly translate into a fun and successful venture into youth football. Bring a water bottle and wear athletic attire (athletic shoes or molded cleats). \nThe camp will be coached by members of the CHS 2025 High School football program\, with director oversight from Camas Head Football Coach Adam Mathieson and members of the CHS football Coaching staff. \n$99 for all 4 Weeks \nThis is a 4 week camp that meets every Sunday from April 13 through May 4.
URL:https://camasfootball.com/event/tothetop-youth-football-skills-camp-grade-2-4-week-2/
LOCATION:Field House\, 26900 SE 15th St.\, Camas\, Washington\, 98607
CATEGORIES:Frosh Calendar,Middle School,Varsity/JV Schedule,Youth Football Camp
END:VEVENT
BEGIN:VEVENT
DTSTART;TZID=America/Los_Angeles:20250419T110000
DTEND;TZID=America/Los_Angeles:20250419T151500
DTSTAMP:20260423T125721
CREATED:20250327T201931Z
LAST-MODIFIED:20250327T201958Z
UID:3438-1745060400-1745075700@camasfootball.com
SUMMARY:Skyridge (Jamboree)
DESCRIPTION:Skyridge Middle School Football  \nFootball Jamboree at McKenzie Stadium \nArrive 11 am\, depart 315 pm \nActual game times TBD \nNOTE: No transportation to/from
URL:https://camasfootball.com/event/skyridge-jamboree/
LOCATION:WA
CATEGORIES:Middle School
END:VEVENT
BEGIN:VEVENT
DTSTART;TZID=America/Los_Angeles:20250419T110000
DTEND;TZID=America/Los_Angeles:20250419T151500
DTSTAMP:20260423T125721
CREATED:20250320T214419Z
LAST-MODIFIED:20250320T214419Z
UID:3293-1745060400-1745075700@camasfootball.com
SUMMARY:Liberty (Jamboree)
DESCRIPTION:Liberty Middle School Football  \nFootball Jamboree at McKenzie Stadium \nArrive 11 am\, depart 315 pm \nActual game times TBD
URL:https://camasfootball.com/event/liberty-jamboree/
LOCATION:McKenzie Stadium\, 2211 NE 138th Ave\, Vancouver\, Washington\, 98684
CATEGORIES:Middle School
END:VEVENT
BEGIN:VEVENT
DTSTART;TZID=America/Los_Angeles:20250418T160000
DTEND;TZID=America/Los_Angeles:20250418T174500
DTSTAMP:20260423T125721
CREATED:20250327T184228Z
LAST-MODIFIED:20250327T184228Z
UID:3377-1744992000-1744998300@camasfootball.com
SUMMARY:Skyridge (Practice)
DESCRIPTION:Skyridge Middle School Football  \nPractice
URL:https://camasfootball.com/event/skyridge-practice-10/
LOCATION:Skyridge Middle School\, 5220 NW Parker St\, Camas\, WA\, 98607\, United States
CATEGORIES:Middle School
END:VEVENT
BEGIN:VEVENT
DTSTART;TZID=America/Los_Angeles:20250418T160000
DTEND;TZID=America/Los_Angeles:20250418T174500
DTSTAMP:20260423T125721
CREATED:20250320T163832Z
LAST-MODIFIED:20250320T163832Z
UID:3215-1744992000-1744998300@camasfootball.com
SUMMARY:Liberty (Practice)
DESCRIPTION:Liberty Middle School Football  \nPractice
URL:https://camasfootball.com/event/liberty-practice-10/
LOCATION:Liberty Middle School\, 1612 NE Garfield St\, Camas\, 98607\, United States
CATEGORIES:Middle School
END:VEVENT
BEGIN:VEVENT
DTSTART;TZID=America/Los_Angeles:20250417T160000
DTEND;TZID=America/Los_Angeles:20250417T174500
DTSTAMP:20260423T125721
CREATED:20250327T184208Z
LAST-MODIFIED:20250327T184208Z
UID:3376-1744905600-1744911900@camasfootball.com
SUMMARY:Skyridge (Practice)
DESCRIPTION:Skyridge Middle School Football  \nPractice
URL:https://camasfootball.com/event/skyridge-practice-9/
LOCATION:Skyridge Middle School\, 5220 NW Parker St\, Camas\, WA\, 98607\, United States
CATEGORIES:Middle School
END:VEVENT
BEGIN:VEVENT
DTSTART;TZID=America/Los_Angeles:20250417T160000
DTEND;TZID=America/Los_Angeles:20250417T174500
DTSTAMP:20260423T125721
CREATED:20250320T163800Z
LAST-MODIFIED:20250320T163918Z
UID:3214-1744905600-1744911900@camasfootball.com
SUMMARY:Liberty (Practice/Team Picture Day)
DESCRIPTION:Liberty Middle School Football  \nPractice/Team Picture Day
URL:https://camasfootball.com/event/liberty-practice-9/
LOCATION:Liberty Middle School\, 1612 NE Garfield St\, Camas\, 98607\, United States
CATEGORIES:Middle School
END:VEVENT
BEGIN:VEVENT
DTSTART;TZID=America/Los_Angeles:20250416T160000
DTEND;TZID=America/Los_Angeles:20250416T174500
DTSTAMP:20260423T125721
CREATED:20250327T184142Z
LAST-MODIFIED:20250327T184142Z
UID:3375-1744819200-1744825500@camasfootball.com
SUMMARY:Skyridge (Practice)
DESCRIPTION:Skyridge Middle School Football  \nPractice
URL:https://camasfootball.com/event/skyridge-practice-8/
LOCATION:Skyridge Middle School\, 5220 NW Parker St\, Camas\, WA\, 98607\, United States
CATEGORIES:Middle School
END:VEVENT
BEGIN:VEVENT
DTSTART;TZID=America/Los_Angeles:20250416T160000
DTEND;TZID=America/Los_Angeles:20250416T174500
DTSTAMP:20260423T125721
CREATED:20250320T163735Z
LAST-MODIFIED:20250320T163735Z
UID:3213-1744819200-1744825500@camasfootball.com
SUMMARY:Liberty (Practice)
DESCRIPTION:Liberty Middle School Football  \nPractice
URL:https://camasfootball.com/event/liberty-practice-8/
LOCATION:Liberty Middle School\, 1612 NE Garfield St\, Camas\, 98607\, United States
CATEGORIES:Middle School
END:VEVENT
BEGIN:VEVENT
DTSTART;TZID=America/Los_Angeles:20250415T160000
DTEND;TZID=America/Los_Angeles:20250415T174500
DTSTAMP:20260423T125721
CREATED:20250327T184117Z
LAST-MODIFIED:20250327T184117Z
UID:3374-1744732800-1744739100@camasfootball.com
SUMMARY:Skyridge (Practice)
DESCRIPTION:Skyridge Middle School Football  \nPractice
URL:https://camasfootball.com/event/skyridge-practice-7/
LOCATION:Skyridge Middle School\, 5220 NW Parker St\, Camas\, WA\, 98607\, United States
CATEGORIES:Middle School
END:VEVENT
BEGIN:VEVENT
DTSTART;TZID=America/Los_Angeles:20250415T160000
DTEND;TZID=America/Los_Angeles:20250415T174500
DTSTAMP:20260423T125721
CREATED:20250320T163712Z
LAST-MODIFIED:20250320T163712Z
UID:3212-1744732800-1744739100@camasfootball.com
SUMMARY:Liberty (Practice)
DESCRIPTION:Liberty Middle School Football  \nPractice
URL:https://camasfootball.com/event/liberty-practice-7/
LOCATION:Liberty Middle School\, 1612 NE Garfield St\, Camas\, 98607\, United States
CATEGORIES:Middle School
END:VEVENT
BEGIN:VEVENT
DTSTART;TZID=America/Los_Angeles:20250414T160000
DTEND;TZID=America/Los_Angeles:20250414T174500
DTSTAMP:20260423T125721
CREATED:20250327T184024Z
LAST-MODIFIED:20250327T184024Z
UID:3373-1744646400-1744652700@camasfootball.com
SUMMARY:Skyridge (Practice)
DESCRIPTION:Skyridge Middle School Football  \nPractice
URL:https://camasfootball.com/event/skyridge-practice-6/
LOCATION:Skyridge Middle School\, 5220 NW Parker St\, Camas\, WA\, 98607\, United States
CATEGORIES:Middle School
END:VEVENT
BEGIN:VEVENT
DTSTART;TZID=America/Los_Angeles:20250414T160000
DTEND;TZID=America/Los_Angeles:20250414T174500
DTSTAMP:20260423T125721
CREATED:20250320T163646Z
LAST-MODIFIED:20250320T163646Z
UID:3211-1744646400-1744652700@camasfootball.com
SUMMARY:Liberty (Practice)
DESCRIPTION:Liberty Middle School Football  \nPractice
URL:https://camasfootball.com/event/liberty-practice-6/
LOCATION:Liberty Middle School\, 1612 NE Garfield St\, Camas\, 98607\, United States
CATEGORIES:Middle School
END:VEVENT
BEGIN:VEVENT
DTSTART;TZID=America/Los_Angeles:20250411T160000
DTEND;TZID=America/Los_Angeles:20250411T174500
DTSTAMP:20260423T125721
CREATED:20250327T183355Z
LAST-MODIFIED:20250327T183355Z
UID:3364-1744387200-1744393500@camasfootball.com
SUMMARY:Skyridge (Practice)
DESCRIPTION:Skyridge Middle School Football  \nPractice
URL:https://camasfootball.com/event/skyridge-practice-5/
LOCATION:Skyridge Middle School\, 5220 NW Parker St\, Camas\, WA\, 98607\, United States
CATEGORIES:Middle School
END:VEVENT
BEGIN:VEVENT
DTSTART;TZID=America/Los_Angeles:20250411T160000
DTEND;TZID=America/Los_Angeles:20250411T174500
DTSTAMP:20260423T125721
CREATED:20250320T160613Z
LAST-MODIFIED:20250320T160613Z
UID:3202-1744387200-1744393500@camasfootball.com
SUMMARY:Liberty (Practice)
DESCRIPTION:Liberty Middle School Football  \nPractice
URL:https://camasfootball.com/event/liberty-practice-5/
LOCATION:Liberty Middle School\, 1612 NE Garfield St\, Camas\, 98607\, United States
CATEGORIES:Middle School
END:VEVENT
BEGIN:VEVENT
DTSTART;TZID=America/Los_Angeles:20250410T160000
DTEND;TZID=America/Los_Angeles:20250410T174500
DTSTAMP:20260423T125721
CREATED:20250327T183327Z
LAST-MODIFIED:20250327T183327Z
UID:3363-1744300800-1744307100@camasfootball.com
SUMMARY:Skyridge (Practice)
DESCRIPTION:Skyridge Middle School Football  \nPractice
URL:https://camasfootball.com/event/skyridge-practice-4/
LOCATION:Skyridge Middle School\, 5220 NW Parker St\, Camas\, WA\, 98607\, United States
CATEGORIES:Middle School
END:VEVENT
BEGIN:VEVENT
DTSTART;TZID=America/Los_Angeles:20250410T160000
DTEND;TZID=America/Los_Angeles:20250410T174500
DTSTAMP:20260423T125721
CREATED:20250320T160550Z
LAST-MODIFIED:20250320T160550Z
UID:3201-1744300800-1744307100@camasfootball.com
SUMMARY:Liberty (Practice)
DESCRIPTION:Liberty Middle School Football  \nPractice
URL:https://camasfootball.com/event/liberty-practice-4/
LOCATION:Liberty Middle School\, 1612 NE Garfield St\, Camas\, 98607\, United States
CATEGORIES:Middle School
END:VEVENT
BEGIN:VEVENT
DTSTART;TZID=America/Los_Angeles:20250409T160000
DTEND;TZID=America/Los_Angeles:20250409T174500
DTSTAMP:20260423T125721
CREATED:20250327T183246Z
LAST-MODIFIED:20250327T183246Z
UID:3362-1744214400-1744220700@camasfootball.com
SUMMARY:Skyridge (Practice)
DESCRIPTION:Skyridge Middle School Football  \nPractice
URL:https://camasfootball.com/event/skyridge-practice-3/
LOCATION:Skyridge Middle School\, 5220 NW Parker St\, Camas\, WA\, 98607\, United States
CATEGORIES:Middle School
END:VEVENT
END:VCALENDAR