BEGIN:VCALENDAR
VERSION:2.0
PRODID:-//Camas Football - ECPv6.15.3//NONSGML v1.0//EN
CALSCALE:GREGORIAN
METHOD:PUBLISH
X-WR-CALNAME:Camas Football
X-ORIGINAL-URL:https://camasfootball.com
X-WR-CALDESC:Events for Camas Football
REFRESH-INTERVAL;VALUE=DURATION:PT1H
X-Robots-Tag:noindex
X-PUBLISHED-TTL:PT1H
BEGIN:VTIMEZONE
TZID:America/Los_Angeles
BEGIN:DAYLIGHT
TZOFFSETFROM:-0800
TZOFFSETTO:-0700
TZNAME:PDT
DTSTART:20250309T100000
END:DAYLIGHT
BEGIN:STANDARD
TZOFFSETFROM:-0700
TZOFFSETTO:-0800
TZNAME:PST
DTSTART:20251102T090000
END:STANDARD
END:VTIMEZONE
BEGIN:VEVENT
DTSTART;TZID=America/Los_Angeles:20250604T160000
DTEND;TZID=America/Los_Angeles:20250604T173000
DTSTAMP:20260423T215004
CREATED:20250320T170820Z
LAST-MODIFIED:20250603T235206Z
UID:3289-1749052800-1749058200@camasfootball.com
SUMMARY:Liberty (Team Banquet)
DESCRIPTION:Liberty Middle School Football  \nTeam Banquet\, After school in the cafeteria \nNOTE: Date Change
URL:https://camasfootball.com/event/liberty-team-banquet/
LOCATION:Liberty Middle School\, 1612 NE Garfield St\, Camas\, 98607\, United States
CATEGORIES:Middle School
END:VEVENT
END:VCALENDAR