BEGIN:VCALENDAR
VERSION:2.0
PRODID:-//Camas Football - ECPv6.15.3//NONSGML v1.0//EN
CALSCALE:GREGORIAN
METHOD:PUBLISH
X-WR-CALNAME:Camas Football
X-ORIGINAL-URL:https://camasfootball.com
X-WR-CALDESC:Events for Camas Football
REFRESH-INTERVAL;VALUE=DURATION:PT1H
X-Robots-Tag:noindex
X-PUBLISHED-TTL:PT1H
BEGIN:VTIMEZONE
TZID:America/Los_Angeles
BEGIN:DAYLIGHT
TZOFFSETFROM:-0800
TZOFFSETTO:-0700
TZNAME:PDT
DTSTART:20260308T100000
END:DAYLIGHT
BEGIN:STANDARD
TZOFFSETFROM:-0700
TZOFFSETTO:-0800
TZNAME:PST
DTSTART:20261101T090000
END:STANDARD
END:VTIMEZONE
BEGIN:VEVENT
DTSTART;TZID=America/Los_Angeles:20260818T080000
DTEND;TZID=America/Los_Angeles:20260818T084500
DTSTAMP:20260423T141135
CREATED:20260216T003917Z
LAST-MODIFIED:20260216T003917Z
UID:4429-1787040000-1787042700@camasfootball.com
SUMMARY:Gear Distribution (Seniors)
DESCRIPTION:Gear Distribution for SENIORS who do not have gear.
URL:https://camasfootball.com/event/gear-distribution-seniors-fall-2026/
LOCATION:Camas Locker Room\, 26900 SE 15th St.\, Camas\, Washington\, 98607
CATEGORIES:Gear Distribution,Varsity/JV Schedule
END:VEVENT
BEGIN:VEVENT
DTSTART;TZID=America/Los_Angeles:20260818T090000
DTEND;TZID=America/Los_Angeles:20260818T094500
DTSTAMP:20260423T141135
CREATED:20260216T004051Z
LAST-MODIFIED:20260216T004051Z
UID:4432-1787043600-1787046300@camasfootball.com
SUMMARY:Gear Distribution (Juniors)
DESCRIPTION:Gear Distribution for JUNIORS who do not have gear.
URL:https://camasfootball.com/event/gear-distribution-juniors-fall-2026/
LOCATION:Camas Locker Room\, 26900 SE 15th St.\, Camas\, Washington\, 98607
CATEGORIES:Gear Distribution,Varsity/JV Schedule
END:VEVENT
BEGIN:VEVENT
DTSTART;TZID=America/Los_Angeles:20260818T100000
DTEND;TZID=America/Los_Angeles:20260818T104500
DTSTAMP:20260423T141135
CREATED:20260216T004152Z
LAST-MODIFIED:20260216T004152Z
UID:4430-1787047200-1787049900@camasfootball.com
SUMMARY:Gear Distribution (Sophomores)
DESCRIPTION:Gear Distribution for SOPHOMORES who do not have gear.
URL:https://camasfootball.com/event/gear-distribution-sophomores-fall-2026/
LOCATION:Camas Locker Room\, 26900 SE 15th St.\, Camas\, Washington\, 98607
CATEGORIES:Gear Distribution,Varsity/JV Schedule
END:VEVENT
BEGIN:VEVENT
DTSTART;TZID=America/Los_Angeles:20260818T110000
DTEND;TZID=America/Los_Angeles:20260818T130000
DTSTAMP:20260423T141135
CREATED:20260216T004253Z
LAST-MODIFIED:20260216T004253Z
UID:4431-1787050800-1787058000@camasfootball.com
SUMMARY:Gear Distribution (Freshmen)
DESCRIPTION:Gear Distribution for FRESHMEN.
URL:https://camasfootball.com/event/gear-distribution-freshmen-2/
LOCATION:Camas Locker Room\, 26900 SE 15th St.\, Camas\, Washington\, 98607
CATEGORIES:Frosh Calendar,Gear Distribution,Varsity/JV Schedule
END:VEVENT
END:VCALENDAR