BEGIN:VCALENDAR
VERSION:2.0
PRODID:-//Camas Football - ECPv6.15.3//NONSGML v1.0//EN
CALSCALE:GREGORIAN
METHOD:PUBLISH
X-ORIGINAL-URL:https://camasfootball.com
X-WR-CALDESC:Events for Camas Football
REFRESH-INTERVAL;VALUE=DURATION:PT1H
X-Robots-Tag:noindex
X-PUBLISHED-TTL:PT1H
BEGIN:VTIMEZONE
TZID:America/Los_Angeles
BEGIN:DAYLIGHT
TZOFFSETFROM:-0800
TZOFFSETTO:-0700
TZNAME:PDT
DTSTART:20250309T100000
END:DAYLIGHT
BEGIN:STANDARD
TZOFFSETFROM:-0700
TZOFFSETTO:-0800
TZNAME:PST
DTSTART:20251102T090000
END:STANDARD
END:VTIMEZONE
BEGIN:VEVENT
DTSTART;TZID=America/Los_Angeles:20250715T083000
DTEND;TZID=America/Los_Angeles:20250715T100000
DTSTAMP:20260423T152112
CREATED:20250205T015523Z
LAST-MODIFIED:20250321T194612Z
UID:2757-1752568200-1752573600@camasfootball.com
SUMMARY:Weight Training - Frosh
DESCRIPTION:Weight Training at the Camas High School weight room for Freshmen players.
URL:https://camasfootball.com/event/weight-training-frosh-23/
LOCATION:Camas Weight Room\, 26900 SE 15th St.\, Camas\, Washington\, 98607
CATEGORIES:Frosh Calendar,Strength and Conditioning,Varsity/JV Schedule
END:VEVENT
BEGIN:VEVENT
DTSTART;TZID=America/Los_Angeles:20250714T083000
DTEND;TZID=America/Los_Angeles:20250714T100000
DTSTAMP:20260423T152112
CREATED:20250205T015502Z
LAST-MODIFIED:20250321T194603Z
UID:2756-1752481800-1752487200@camasfootball.com
SUMMARY:Weight Training - Frosh
DESCRIPTION:Weight Training at the Camas High School weight room for Freshmen players.
URL:https://camasfootball.com/event/weight-training-frosh-22/
LOCATION:Camas Weight Room\, 26900 SE 15th St.\, Camas\, Washington\, 98607
CATEGORIES:Frosh Calendar,Strength and Conditioning,Varsity/JV Schedule
END:VEVENT
BEGIN:VEVENT
DTSTART;TZID=America/Los_Angeles:20250710T083000
DTEND;TZID=America/Los_Angeles:20250710T100000
DTSTAMP:20260423T152112
CREATED:20250205T015430Z
LAST-MODIFIED:20250321T194554Z
UID:2755-1752136200-1752141600@camasfootball.com
SUMMARY:Weight Training - Frosh
DESCRIPTION:Weight Training at the Camas High School weight room for Freshmen players.
URL:https://camasfootball.com/event/weight-training-frosh-21/
LOCATION:Camas Weight Room\, 26900 SE 15th St.\, Camas\, Washington\, 98607
CATEGORIES:Frosh Calendar,Strength and Conditioning,Varsity/JV Schedule
END:VEVENT
BEGIN:VEVENT
DTSTART;TZID=America/Los_Angeles:20250709T180000
DTEND;TZID=America/Los_Angeles:20250709T200000
DTSTAMP:20260423T152112
CREATED:20250204T213421Z
LAST-MODIFIED:20250707T163736Z
UID:2572-1752084000-1752091200@camasfootball.com
SUMMARY:7 on 7
DESCRIPTION:July 7 on 7 at Doc Harris. \nOpponent: Battle Ground\, Mountain View\, Washougal and Woodland.
URL:https://camasfootball.com/event/7-on-7-7/
LOCATION:Doc Harris Stadium\, 841 NE 22nd Ave.\, Camas\, Washington\, 98607
CATEGORIES:7 on 7,Frosh Calendar,Varsity/JV Schedule
END:VEVENT
BEGIN:VEVENT
DTSTART;TZID=America/Los_Angeles:20250708T083000
DTEND;TZID=America/Los_Angeles:20250708T100000
DTSTAMP:20260423T152112
CREATED:20250205T015405Z
LAST-MODIFIED:20250321T194528Z
UID:2754-1751963400-1751968800@camasfootball.com
SUMMARY:Weight Training - Frosh
DESCRIPTION:Weight Training at the Camas High School weight room for Freshmen players.
URL:https://camasfootball.com/event/weight-training-frosh-20/
LOCATION:Camas Weight Room\, 26900 SE 15th St.\, Camas\, Washington\, 98607
CATEGORIES:Frosh Calendar,Strength and Conditioning,Varsity/JV Schedule
END:VEVENT
BEGIN:VEVENT
DTSTART;TZID=America/Los_Angeles:20250707T083000
DTEND;TZID=America/Los_Angeles:20250707T100000
DTSTAMP:20260423T152112
CREATED:20250205T015320Z
LAST-MODIFIED:20250321T194520Z
UID:2765-1751877000-1751882400@camasfootball.com
SUMMARY:Weight Training - Frosh
DESCRIPTION:Weight Training at the Camas High School weight room for Freshmen players.
URL:https://camasfootball.com/event/weight-training-frosh-15/
LOCATION:Camas Weight Room\, 26900 SE 15th St.\, Camas\, Washington\, 98607
CATEGORIES:Frosh Calendar,Strength and Conditioning,Varsity/JV Schedule
END:VEVENT
BEGIN:VEVENT
DTSTART;VALUE=DATE:20250704
DTEND;VALUE=DATE:20250705
DTSTAMP:20260423T152112
CREATED:20250204T214024Z
LAST-MODIFIED:20250321T194512Z
UID:2580-1751587200-1751673599@camasfootball.com
SUMMARY:Independence Day
DESCRIPTION:
URL:https://camasfootball.com/event/independence-day-2/
LOCATION:Washington
CATEGORIES:Frosh Calendar,Middle School,Varsity/JV Schedule
END:VEVENT
BEGIN:VEVENT
DTSTART;VALUE=DATE:20250623
DTEND;VALUE=DATE:20250624
DTSTAMP:20260423T152112
CREATED:20250204T203403Z
LAST-MODIFIED:20250321T194505Z
UID:2567-1750636800-1750723199@camasfootball.com
SUMMARY:Linfield Team Camp
DESCRIPTION:Linfield Team Camp 2025 Session 2 – June 20-23\, 2025 \nOnce again the Camas Papermakers football team will be heading South to McMinnville Oregon this spring to take part in the Wildcat Team Football Camp at Linfield University. \nMore information soon.
URL:https://camasfootball.com/event/linfield-team-camp-8/
LOCATION:Maxwell Field and Memorial Stadium\, 51 SE Lever St.\, McMinnville\, Oregon\, 97128
CATEGORIES:Frosh Calendar,Linfield Team Camp,Varsity/JV Schedule
END:VEVENT
BEGIN:VEVENT
DTSTART;VALUE=DATE:20250622
DTEND;VALUE=DATE:20250623
DTSTAMP:20260423T152112
CREATED:20250204T203344Z
LAST-MODIFIED:20250321T194501Z
UID:2566-1750550400-1750636799@camasfootball.com
SUMMARY:Linfield Team Camp
DESCRIPTION:Linfield Team Camp 2025 Session 2 – June 20-23\, 2025 \nOnce again the Camas Papermakers football team will be heading South to McMinnville Oregon this spring to take part in the Wildcat Team Football Camp at Linfield University. \nMore information soon.
URL:https://camasfootball.com/event/linfield-team-camp-7/
LOCATION:Maxwell Field and Memorial Stadium\, 51 SE Lever St.\, McMinnville\, Oregon\, 97128
CATEGORIES:Frosh Calendar,Linfield Team Camp,Varsity/JV Schedule
END:VEVENT
BEGIN:VEVENT
DTSTART;VALUE=DATE:20250621
DTEND;VALUE=DATE:20250622
DTSTAMP:20260423T152112
CREATED:20250204T203308Z
LAST-MODIFIED:20250321T194457Z
UID:2565-1750464000-1750550399@camasfootball.com
SUMMARY:Linfield Team Camp
DESCRIPTION:Linfield Team Camp 2025 Session 2 – June 20-23\, 2025 \nOnce again the Camas Papermakers football team will be heading South to McMinnville Oregon this spring to take part in the Wildcat Team Football Camp at Linfield University. \nMore information soon.
URL:https://camasfootball.com/event/linfield-team-camp-6/
LOCATION:Maxwell Field and Memorial Stadium\, 51 SE Lever St.\, McMinnville\, Oregon\, 97128
CATEGORIES:Frosh Calendar,Linfield Team Camp,Varsity/JV Schedule
END:VEVENT
BEGIN:VEVENT
DTSTART;VALUE=DATE:20250620
DTEND;VALUE=DATE:20250621
DTSTAMP:20260423T152112
CREATED:20250204T203234Z
LAST-MODIFIED:20250321T201222Z
UID:2564-1750377600-1750463999@camasfootball.com
SUMMARY:Linfield Team Camp
DESCRIPTION:Linfield Team Camp 2025 Session 2 – June 20-23\, 2025 \nOnce again the Camas Papermakers football team will be heading South to McMinnville Oregon this spring to take part in the Wildcat Team Football Camp at Linfield University. \nMore information soon.
URL:https://camasfootball.com/event/linfield-team-camp-5/
LOCATION:Maxwell Field and Memorial Stadium\, 51 SE Lever St.\, McMinnville\, Oregon\, 97128
CATEGORIES:Frosh Calendar,Linfield Team Camp,Varsity/JV Schedule
END:VEVENT
BEGIN:VEVENT
DTSTART;TZID=America/Los_Angeles:20250619T160000
DTEND;TZID=America/Los_Angeles:20250619T180000
DTSTAMP:20260423T152112
CREATED:20250205T012634Z
LAST-MODIFIED:20250529T221545Z
UID:2705-1750348800-1750356000@camasfootball.com
SUMMARY:Spring Practice #9
DESCRIPTION:Spring Practice #9 \nFull Pac
URL:https://camasfootball.com/event/spring-practice-2025-9/
LOCATION:Cardon Field\, 26900 SE 15th St.\, Camas\, Washington\, 98607
CATEGORIES:Frosh Calendar,Varsity Practice,Varsity/JV Schedule
END:VEVENT
BEGIN:VEVENT
DTSTART;VALUE=DATE:20250618
DTEND;VALUE=DATE:20250619
DTSTAMP:20260423T152112
CREATED:20250204T202833Z
LAST-MODIFIED:20250321T201206Z
UID:2562-1750204800-1750291199@camasfootball.com
SUMMARY:Camas Last Day of School
DESCRIPTION:
URL:https://camasfootball.com/event/camas-last-day-of-school/
LOCATION:Washington
CATEGORIES:Frosh Calendar,Middle School,Varsity/JV Schedule
END:VEVENT
BEGIN:VEVENT
DTSTART;TZID=America/Los_Angeles:20250617T160000
DTEND;TZID=America/Los_Angeles:20250617T180000
DTSTAMP:20260423T152112
CREATED:20250205T012614Z
LAST-MODIFIED:20250529T221608Z
UID:2704-1750176000-1750183200@camasfootball.com
SUMMARY:Spring Practice #8
DESCRIPTION:Spring Practice #8 \nFull Pac
URL:https://camasfootball.com/event/spring-practice-2025-8/
LOCATION:Cardon Field\, 26900 SE 15th St.\, Camas\, Washington\, 98607
CATEGORIES:Frosh Calendar,Varsity Practice,Varsity/JV Schedule
END:VEVENT
BEGIN:VEVENT
DTSTART;TZID=America/Los_Angeles:20250616T160000
DTEND;TZID=America/Los_Angeles:20250616T180000
DTSTAMP:20260423T152112
CREATED:20250205T012553Z
LAST-MODIFIED:20250529T221606Z
UID:2703-1750089600-1750096800@camasfootball.com
SUMMARY:Spring Practice #7
DESCRIPTION:Spring Practice #7 \nFull Pac
URL:https://camasfootball.com/event/spring-practice-2025-7/
LOCATION:Cardon Field\, 26900 SE 15th St.\, Camas\, Washington\, 98607
CATEGORIES:Frosh Calendar,Varsity Practice,Varsity/JV Schedule
END:VEVENT
BEGIN:VEVENT
DTSTART;TZID=America/Los_Angeles:20250612T160000
DTEND;TZID=America/Los_Angeles:20250612T180000
DTSTAMP:20260423T152112
CREATED:20250205T012532Z
LAST-MODIFIED:20250529T221324Z
UID:2702-1749744000-1749751200@camasfootball.com
SUMMARY:Spring Practice #6
DESCRIPTION:Spring Practice #6 \n1/2 Pac
URL:https://camasfootball.com/event/spring-practice-2025-6/
LOCATION:Cardon Field\, 26900 SE 15th St.\, Camas\, Washington\, 98607
CATEGORIES:Frosh Calendar,Varsity Practice,Varsity/JV Schedule
END:VEVENT
BEGIN:VEVENT
DTSTART;TZID=America/Los_Angeles:20250611T153000
DTEND;TZID=America/Los_Angeles:20250611T170000
DTSTAMP:20260423T152112
CREATED:20250205T012834Z
LAST-MODIFIED:20260416T025527Z
UID:2736-1749655800-1749661200@camasfootball.com
SUMMARY:Team Fundraiser
DESCRIPTION:Team Fundraiser \nDetails TBD
URL:https://camasfootball.com/event/team-fundraiser-2025/
LOCATION:Field House\, 26900 SE 15th St.\, Camas\, Washington\, 98607
CATEGORIES:Frosh Calendar,Team Fundraiser,Varsity/JV Schedule
END:VEVENT
BEGIN:VEVENT
DTSTART;TZID=America/Los_Angeles:20250610T160000
DTEND;TZID=America/Los_Angeles:20250610T180000
DTSTAMP:20260423T152112
CREATED:20250205T012504Z
LAST-MODIFIED:20250515T003116Z
UID:2701-1749571200-1749578400@camasfootball.com
SUMMARY:Spring Practice #5
DESCRIPTION:Spring Practice #5 \n1/2 Pac
URL:https://camasfootball.com/event/spring-practice-2025-5/
LOCATION:Cardon Field\, 26900 SE 15th St.\, Camas\, Washington\, 98607
CATEGORIES:Frosh Calendar,Varsity Practice,Varsity/JV Schedule
END:VEVENT
BEGIN:VEVENT
DTSTART;TZID=America/Los_Angeles:20250609T160000
DTEND;TZID=America/Los_Angeles:20250609T180000
DTSTAMP:20260423T152112
CREATED:20250205T012441Z
LAST-MODIFIED:20250515T002755Z
UID:2700-1749484800-1749492000@camasfootball.com
SUMMARY:Spring Practice #4
DESCRIPTION:Spring Practice #4 \n1/2 Pac
URL:https://camasfootball.com/event/spring-practice-2025-4/
LOCATION:Cardon Field\, 26900 SE 15th St.\, Camas\, Washington\, 98607
CATEGORIES:Frosh Calendar,Varsity Practice,Varsity/JV Schedule
END:VEVENT
BEGIN:VEVENT
DTSTART;VALUE=DATE:20250601
DTEND;VALUE=DATE:20250602
DTSTAMP:20260423T152112
CREATED:20250224T223528Z
LAST-MODIFIED:20250321T201836Z
UID:3153-1748736000-1748822399@camasfootball.com
SUMMARY:2025 Avery Strong Showcases (University Of Puget Sound)
DESCRIPTION:Sun\, June 1 | University Of Puget Sound\n2025 Avery Strong Showcases \nRegister: https://www.averystrongshowcases.com/sign-up
URL:https://camasfootball.com/event/2025-avery-strong-showcases-university-of-puget-sound/
LOCATION:Washington
CATEGORIES:Frosh Calendar,Varsity/JV Schedule
END:VEVENT
BEGIN:VEVENT
DTSTART;TZID=America/Los_Angeles:20250530T151500
DTEND;TZID=America/Los_Angeles:20250530T161500
DTSTAMP:20260423T152112
CREATED:20250527T031736Z
LAST-MODIFIED:20250529T221939Z
UID:3568-1748618100-1748621700@camasfootball.com
SUMMARY:Gear Distribution (Make-Up)
DESCRIPTION:Gear Make-Up \nIf you have not yet received your gear\, come get it.
URL:https://camasfootball.com/event/gear-distribution-make-up-2/
LOCATION:Washington
CATEGORIES:Frosh Calendar,Gear Distribution,Varsity/JV Schedule
END:VEVENT
BEGIN:VEVENT
DTSTART;TZID=America/Los_Angeles:20250529T071500
DTEND;TZID=America/Los_Angeles:20250529T081500
DTSTAMP:20260423T152112
CREATED:20250205T180559Z
LAST-MODIFIED:20250321T201806Z
UID:3135-1748502900-1748506500@camasfootball.com
SUMMARY:Player Testing
DESCRIPTION:Player Testing\n7:15 AM – 8:15 AM\n(Weight Room) \nChampions are build in the weight room!
URL:https://camasfootball.com/event/player-testing-3/
LOCATION:Camas Weight Room\, 26900 SE 15th St.\, Camas\, Washington\, 98607
CATEGORIES:Champions Hour,Frosh Calendar,Varsity/JV Schedule
END:VEVENT
BEGIN:VEVENT
DTSTART;TZID=America/Los_Angeles:20250528T190000
DTEND;TZID=America/Los_Angeles:20250528T210000
DTSTAMP:20260423T152112
CREATED:20250204T202452Z
LAST-MODIFIED:20250321T201750Z
UID:2558-1748458800-1748466000@camasfootball.com
SUMMARY:*** NOC 2025 ***
DESCRIPTION:Night of Champions 2025
URL:https://camasfootball.com/event/noc-2025/
LOCATION:Camas Weight Room\, 26900 SE 15th St.\, Camas\, Washington\, 98607
CATEGORIES:Frosh Calendar,Varsity/JV Schedule
END:VEVENT
BEGIN:VEVENT
DTSTART;TZID=America/Los_Angeles:20250528T180000
DTEND;TZID=America/Los_Angeles:20250528T183000
DTSTAMP:20260423T152112
CREATED:20250528T231613Z
LAST-MODIFIED:20250528T231613Z
UID:3574-1748455200-1748457000@camasfootball.com
SUMMARY:Coaches Meeting
DESCRIPTION:Coaches meeting/gear exchange. \nMeet in Coach Loop’s room.
URL:https://camasfootball.com/event/coaches-meeting/
LOCATION:Washington
CATEGORIES:Frosh Calendar,Varsity/JV Schedule
END:VEVENT
BEGIN:VEVENT
DTSTART;TZID=America/Los_Angeles:20250528T071500
DTEND;TZID=America/Los_Angeles:20250528T081500
DTSTAMP:20260423T152112
CREATED:20250205T180543Z
LAST-MODIFIED:20250321T201758Z
UID:3134-1748416500-1748420100@camasfootball.com
SUMMARY:Player Testing
DESCRIPTION:Player Testing\n7:15 AM – 8:15 AM\n(Weight Room) \nChampions are build in the weight room!
URL:https://camasfootball.com/event/player-testing-2/
LOCATION:Camas Weight Room\, 26900 SE 15th St.\, Camas\, Washington\, 98607
CATEGORIES:Champions Hour,Frosh Calendar,Varsity/JV Schedule
END:VEVENT
BEGIN:VEVENT
DTSTART;TZID=America/Los_Angeles:20250527T071500
DTEND;TZID=America/Los_Angeles:20250527T081500
DTSTAMP:20260423T152112
CREATED:20250205T180514Z
LAST-MODIFIED:20250321T202115Z
UID:3132-1748330100-1748333700@camasfootball.com
SUMMARY:Player Testing
DESCRIPTION:Player Testing\n7:15 AM – 8:15 AM\n(Weight Room) \nChampions are build in the weight room!
URL:https://camasfootball.com/event/player-testing/
LOCATION:Camas Weight Room\, 26900 SE 15th St.\, Camas\, Washington\, 98607
CATEGORIES:Champions Hour,Frosh Calendar,Varsity/JV Schedule
END:VEVENT
BEGIN:VEVENT
DTSTART;VALUE=DATE:20250526
DTEND;VALUE=DATE:20250527
DTSTAMP:20260423T152112
CREATED:20250204T202515Z
LAST-MODIFIED:20250321T202108Z
UID:2560-1748217600-1748303999@camasfootball.com
SUMMARY:No School
DESCRIPTION:
URL:https://camasfootball.com/event/no-school-5/
LOCATION:Washington
CATEGORIES:Frosh Calendar,Varsity/JV Schedule
END:VEVENT
BEGIN:VEVENT
DTSTART;TZID=America/Los_Angeles:20250508T190000
DTEND;TZID=America/Los_Angeles:20250508T200000
DTSTAMP:20260423T152112
CREATED:20250204T195907Z
LAST-MODIFIED:20250324T211134Z
UID:2548-1746730800-1746734400@camasfootball.com
SUMMARY:#Team_117 Parent/Player Info Meeting
DESCRIPTION:Team 117 parent and player information meeting regarding Summer 2025 schedule. \nNorth Commons
URL:https://camasfootball.com/event/team_117-parent-player-info-meeting/
LOCATION:North Commons\, 26900 SE 15th St.\, Camas\, Washington\, 98607
CATEGORIES:Frosh Calendar,Parent Meeting,Varsity/JV Schedule
END:VEVENT
BEGIN:VEVENT
DTSTART;TZID=America/Los_Angeles:20250504T163000
DTEND;TZID=America/Los_Angeles:20250504T173000
DTSTAMP:20260423T152112
CREATED:20250204T235904Z
LAST-MODIFIED:20260215T001948Z
UID:2597-1746376200-1746379800@camasfootball.com
SUMMARY:#ToTheTop Youth Football Skills Camp - Grade: 5-7 Week 4
DESCRIPTION:#ToTheTop Youth Football Skills Camp – Week 4 \n5th – 7th Grade\, Code: 3043-25\nDB & LB Focus \nThis camp is for beginner to intermediate level youth football players. Join in the fun as we instruct and practice the basics of football position specific skills with some of SW WA best high school players! This traditional “Big Guys – Little Guys” Camp will focus mostly on position specific fundaments in a manner that will not only be enjoyable\, but will undoubtedly translate into a fun and successful venture into youth football. Bring a water bottle and wear athletic attire (athletic shoes or molded cleats). \nThe camp will be coached by members of the CHS 2025 High School football program\, with director oversight from Camas Head Football Coach Adam Mathieson and members of the CHS football Coaching staff. \n$99 for all 6 Weeks \nThis is a 4 week camp that meets every Sunday from April 13 through May 4.
URL:https://camasfootball.com/event/tothetop-youth-football-skills-camp-grade-5-7-week-4-2025/
LOCATION:Field House\, 26900 SE 15th St.\, Camas\, Washington\, 98607
CATEGORIES:Frosh Calendar,Middle School,Varsity/JV Schedule,Youth Football Camp
END:VEVENT
BEGIN:VEVENT
DTSTART;TZID=America/Los_Angeles:20250504T150000
DTEND;TZID=America/Los_Angeles:20250504T160000
DTSTAMP:20260423T152112
CREATED:20250204T235814Z
LAST-MODIFIED:20260215T001946Z
UID:2596-1746370800-1746374400@camasfootball.com
SUMMARY:#ToTheTop Youth Football Skills Camp - Grade: 2-4 Week 4
DESCRIPTION:#ToTheTop Youth Football Skills Camp – Week 4 \n2nd – 4th Grade\, Code: 3042-25\nDB & LB Focus \nThis camp is for beginner to intermediate level youth football players. Join in the fun as we instruct and practice the basics of football position specific skills with some of SW WA best high school players! This traditional “Big Guys – Little Guys” Camp will focus mostly on position specific fundaments in a manner that will not only be enjoyable\, but will undoubtedly translate into a fun and successful venture into youth football. Bring a water bottle and wear athletic attire (athletic shoes or molded cleats). \nThe camp will be coached by members of the CHS 2025 High School football program\, with director oversight from Camas Head Football Coach Adam Mathieson and members of the CHS football Coaching staff. \n$99 for all 4 Weeks \nThis is a 4 week camp that meets every Sunday from April 13 through May 4.
URL:https://camasfootball.com/event/tothetop-youth-football-skills-camp-grade-2-4-week-4-2025/
LOCATION:Field House\, 26900 SE 15th St.\, Camas\, Washington\, 98607
CATEGORIES:Frosh Calendar,Middle School,Varsity/JV Schedule,Youth Football Camp
END:VEVENT
END:VCALENDAR