BEGIN:VCALENDAR
VERSION:2.0
PRODID:-//Camas Football - ECPv6.15.3//NONSGML v1.0//EN
CALSCALE:GREGORIAN
METHOD:PUBLISH
X-WR-CALNAME:Camas Football
X-ORIGINAL-URL:https://camasfootball.com
X-WR-CALDESC:Events for Camas Football
REFRESH-INTERVAL;VALUE=DURATION:PT1H
X-Robots-Tag:noindex
X-PUBLISHED-TTL:PT1H
BEGIN:VTIMEZONE
TZID:America/Los_Angeles
BEGIN:DAYLIGHT
TZOFFSETFROM:-0800
TZOFFSETTO:-0700
TZNAME:PDT
DTSTART:20250309T100000
END:DAYLIGHT
BEGIN:STANDARD
TZOFFSETFROM:-0700
TZOFFSETTO:-0800
TZNAME:PST
DTSTART:20251102T090000
END:STANDARD
END:VTIMEZONE
BEGIN:VEVENT
DTSTART;TZID=America/Los_Angeles:20250807T083000
DTEND;TZID=America/Los_Angeles:20250807T100000
DTSTAMP:20260423T141158
CREATED:20250205T015931Z
LAST-MODIFIED:20250321T192643Z
UID:2804-1754555400-1754560800@camasfootball.com
SUMMARY:Weight Training - Frosh
DESCRIPTION:Weight Training at the Camas High School weight room for Freshmen players.
URL:https://camasfootball.com/event/weight-training-frosh-33/
LOCATION:Camas Weight Room\, 26900 SE 15th St.\, Camas\, Washington\, 98607
CATEGORIES:Frosh Calendar,Strength and Conditioning,Varsity/JV Schedule
END:VEVENT
BEGIN:VEVENT
DTSTART;TZID=America/Los_Angeles:20250806T183000
DTEND;TZID=America/Los_Angeles:20250806T200000
DTSTAMP:20260423T141158
CREATED:20250205T021439Z
LAST-MODIFIED:20250321T192433Z
UID:2831-1754505000-1754510400@camasfootball.com
SUMMARY:Future Champions Youth Football Camp Day 3
DESCRIPTION:Future Champions Youth Football Camp Day 3 \n2nd – 8th Grade \nThis camp is for beginner to intermediate level youth football players. Join in the fun as we instruct and practice the basics of football position specific skills with some of SW WA best high school players! This traditional “Big Guys – Little Guys” Camp will focus mostly on position specific fundaments in a manner that will not only be enjoyable\, but will undoubtedly translate into a fun and successful venture into youth football. Bring a water bottle and wear athletic attire (athletic shoes or molded cleats). \nThe camp will be coached by members of the CHS 2025 High School football program\, with director oversight from Camas Head Football Coach Adam Mathieson and members of the CHS football Coaching staff.
URL:https://camasfootball.com/event/future-champions-youth-football-camp-day-3-2/
LOCATION:Cardon Field\, 26900 SE 15th St.\, Camas\, Washington\, 98607
CATEGORIES:Frosh Calendar,Varsity/JV Schedule,Youth Football Camp
END:VEVENT
BEGIN:VEVENT
DTSTART;TZID=America/Los_Angeles:20250805T183000
DTEND;TZID=America/Los_Angeles:20250805T200000
DTSTAMP:20260423T141158
CREATED:20250205T021418Z
LAST-MODIFIED:20250321T192441Z
UID:2830-1754418600-1754424000@camasfootball.com
SUMMARY:Future Champions Youth Football Camp Day 2
DESCRIPTION:Future Champions Youth Football Camp Day 2 \n2nd – 8th Grade \nThis camp is for beginner to intermediate level youth football players. Join in the fun as we instruct and practice the basics of football position specific skills with some of SW WA best high school players! This traditional “Big Guys – Little Guys” Camp will focus mostly on position specific fundaments in a manner that will not only be enjoyable\, but will undoubtedly translate into a fun and successful venture into youth football. Bring a water bottle and wear athletic attire (athletic shoes or molded cleats). \nThe camp will be coached by members of the CHS 2025 High School football program\, with director oversight from Camas Head Football Coach Adam Mathieson and members of the CHS football Coaching staff.
URL:https://camasfootball.com/event/future-champions-youth-football-camp-day-2-2/
LOCATION:Cardon Field\, 26900 SE 15th St.\, Camas\, Washington\, 98607
CATEGORIES:Frosh Calendar,Middle School,Varsity/JV Schedule,Youth Football Camp
END:VEVENT
BEGIN:VEVENT
DTSTART;TZID=America/Los_Angeles:20250805T083000
DTEND;TZID=America/Los_Angeles:20250805T100000
DTSTAMP:20260423T141158
CREATED:20250205T015912Z
LAST-MODIFIED:20250321T193236Z
UID:2803-1754382600-1754388000@camasfootball.com
SUMMARY:Weight Training - Frosh
DESCRIPTION:Weight Training at the Camas High School weight room for Freshmen players.
URL:https://camasfootball.com/event/weight-training-frosh-32/
LOCATION:Camas Weight Room\, 26900 SE 15th St.\, Camas\, Washington\, 98607
CATEGORIES:Frosh Calendar,Strength and Conditioning,Varsity/JV Schedule
END:VEVENT
BEGIN:VEVENT
DTSTART;TZID=America/Los_Angeles:20250804T183000
DTEND;TZID=America/Los_Angeles:20250804T200000
DTSTAMP:20260423T141158
CREATED:20250205T021354Z
LAST-MODIFIED:20260216T002839Z
UID:2829-1754332200-1754337600@camasfootball.com
SUMMARY:Future Champions Youth Football Camp Day 1
DESCRIPTION:Future Champions Youth Football Camp Day 1 \n2nd – 8th Grade \nThis camp is for beginner to intermediate level youth football players. Join in the fun as we instruct and practice the basics of football position specific skills with some of SW WA best high school players! This traditional “Big Guys – Little Guys” Camp will focus mostly on position specific fundaments in a manner that will not only be enjoyable\, but will undoubtedly translate into a fun and successful venture into youth football. Bring a water bottle and wear athletic attire (athletic shoes or molded cleats). \nThe camp will be coached by members of the CHS 2025 High School football program\, with director oversight from Camas Head Football Coach Adam Mathieson and members of the CHS football Coaching staff.
URL:https://camasfootball.com/event/future-champions-youth-football-camp-day-1-2025/
LOCATION:Cardon Field\, 26900 SE 15th St.\, Camas\, Washington\, 98607
CATEGORIES:Frosh Calendar,Middle School,Varsity/JV Schedule,Youth Football Camp
END:VEVENT
BEGIN:VEVENT
DTSTART;TZID=America/Los_Angeles:20250804T083000
DTEND;TZID=America/Los_Angeles:20250804T100000
DTSTAMP:20260423T141158
CREATED:20250205T015851Z
LAST-MODIFIED:20250321T193209Z
UID:2802-1754296200-1754301600@camasfootball.com
SUMMARY:Weight Training - Frosh
DESCRIPTION:Weight Training at the Camas High School weight room for Freshmen players.
URL:https://camasfootball.com/event/weight-training-frosh-31/
LOCATION:Camas Weight Room\, 26900 SE 15th St.\, Camas\, Washington\, 98607
CATEGORIES:Frosh Calendar,Strength and Conditioning,Varsity/JV Schedule
END:VEVENT
BEGIN:VEVENT
DTSTART;TZID=America/Los_Angeles:20250731T083000
DTEND;TZID=America/Los_Angeles:20250731T100000
DTSTAMP:20260423T141158
CREATED:20250205T015747Z
LAST-MODIFIED:20250321T193157Z
UID:2764-1753950600-1753956000@camasfootball.com
SUMMARY:Weight Training - Frosh
DESCRIPTION:Weight Training at the Camas High School weight room for Freshmen players.
URL:https://camasfootball.com/event/weight-training-frosh-30/
LOCATION:Camas Weight Room\, 26900 SE 15th St.\, Camas\, Washington\, 98607
CATEGORIES:Frosh Calendar,Strength and Conditioning,Varsity/JV Schedule
END:VEVENT
BEGIN:VEVENT
DTSTART;TZID=America/Los_Angeles:20250730T100000
DTEND;TZID=America/Los_Angeles:20250730T120000
DTSTAMP:20260423T141158
CREATED:20250204T213544Z
LAST-MODIFIED:20250707T163953Z
UID:2575-1753869600-1753876800@camasfootball.com
SUMMARY:7 on 7
DESCRIPTION:July 7 on 7 at Fishback Stadium. \nOpponent: Washougal.
URL:https://camasfootball.com/event/7-on-7-10/
LOCATION:Fishback Stadium\, 1201 39th St\, Washougal\, WA\, 98671\, United States
CATEGORIES:7 on 7,Frosh Calendar,Varsity/JV Schedule
END:VEVENT
BEGIN:VEVENT
DTSTART;TZID=America/Los_Angeles:20250729T083000
DTEND;TZID=America/Los_Angeles:20250729T100000
DTSTAMP:20260423T141158
CREATED:20250205T015728Z
LAST-MODIFIED:20250321T193139Z
UID:2763-1753777800-1753783200@camasfootball.com
SUMMARY:Weight Training - Frosh
DESCRIPTION:Weight Training at the Camas High School weight room for Freshmen players.
URL:https://camasfootball.com/event/weight-training-frosh-29/
LOCATION:Camas Weight Room\, 26900 SE 15th St.\, Camas\, Washington\, 98607
CATEGORIES:Frosh Calendar,Strength and Conditioning,Varsity/JV Schedule
END:VEVENT
BEGIN:VEVENT
DTSTART;TZID=America/Los_Angeles:20250728T083000
DTEND;TZID=America/Los_Angeles:20250728T100000
DTSTAMP:20260423T141158
CREATED:20250205T015707Z
LAST-MODIFIED:20250321T193130Z
UID:2762-1753691400-1753696800@camasfootball.com
SUMMARY:Weight Training - Frosh
DESCRIPTION:Weight Training at the Camas High School weight room for Freshmen players.
URL:https://camasfootball.com/event/weight-training-frosh-28/
LOCATION:Camas Weight Room\, 26900 SE 15th St.\, Camas\, Washington\, 98607
CATEGORIES:Frosh Calendar,Strength and Conditioning,Varsity Practice
END:VEVENT
BEGIN:VEVENT
DTSTART;TZID=America/Los_Angeles:20250726T130000
DTEND;TZID=America/Los_Angeles:20250726T160000
DTSTAMP:20260423T141158
CREATED:20250205T020803Z
LAST-MODIFIED:20260216T002333Z
UID:2825-1753534800-1753545600@camasfootball.com
SUMMARY:#ToTheTop QB Camp Day 2 Session II
DESCRIPTION:#ToTheTop QB Camp Day 2 Session II \nCode: 4030-25 \n5th – 12th (Event is open to all students\, not just Camas’ residents) \nThis camp is for beginner through advanced level youth and high school football players interested in advancing their skills as a quarterback. This two-day immersion camp will focus on grade level appropriate fundaments and overall quarterback development\, as instructed by some of the best QB coaches in the country. Join in the development as we instruct\, practice and compete in this one-of-a-kind regional quarterback training event. Bring a water bottle and wear athletic attire (athletic shoes or molded cleats). \nNote: There will be a 1-hour break on Saturday for lunch. Campers are expected to bring their own lunch or there are several eating options available within 10 minutes’ drive of campus. \nAdditionally\, there will be a session Saturday afternoon devoted to educating parents\, students and guests about the world of recruiting\, personal nutrition and how best to maximize one’s athletic experience moving forward. \n\nFriday Evening Session: 5 PM – 8 PM\nSaturday: Session I: 9 AM – 12 PM\nLunch Break: 12 PM – 1 PM\nSaturday: Session II: 1 PM – 4 PM\n\nThe camp will be directed by Camas High School Head Football Coach Adam Mathieson\, and will feature prominent regional and national quarterback trainers.
URL:https://camasfootball.com/event/tothetop-qb-camp-day-2-session-2-2025/
LOCATION:Cardon Field\, 26900 SE 15th St.\, Camas\, Washington\, 98607
CATEGORIES:Frosh Calendar,Middle School,Varsity/JV Schedule,Youth Football Camp
END:VEVENT
BEGIN:VEVENT
DTSTART;TZID=America/Los_Angeles:20250726T090000
DTEND;TZID=America/Los_Angeles:20250726T120000
DTSTAMP:20260423T141158
CREATED:20250325T021508Z
LAST-MODIFIED:20250325T021508Z
UID:3356-1753520400-1753531200@camasfootball.com
SUMMARY:Camas Days Parade
DESCRIPTION:Join us as we walk in the annual Camas Days Parade! \nMeet at Doc Harris Stadium.
URL:https://camasfootball.com/event/camas-days-parade-2025/
LOCATION:Doc Harris Stadium\, 841 NE 22nd Ave.\, Camas\, Washington\, 98607
CATEGORIES:Community Outreach,Frosh Calendar,Varsity/JV Schedule
END:VEVENT
BEGIN:VEVENT
DTSTART;TZID=America/Los_Angeles:20250726T090000
DTEND;TZID=America/Los_Angeles:20250726T120000
DTSTAMP:20260423T141158
CREATED:20250205T020733Z
LAST-MODIFIED:20260216T002321Z
UID:2824-1753520400-1753531200@camasfootball.com
SUMMARY:#ToTheTop QB Camp Day 2 Session I
DESCRIPTION:#ToTheTop QB Camp Day 2 Session I \nCode: 4030-25 \n5th – 12th (Event is open to all students\, not just Camas’ residents) \nThis camp is for beginner through advanced level youth and high school football players interested in advancing their skills as a quarterback. This two-day immersion camp will focus on grade level appropriate fundaments and overall quarterback development\, as instructed by some of the best QB coaches in the country. Join in the development as we instruct\, practice and compete in this one-of-a-kind regional quarterback training event. Bring a water bottle and wear athletic attire (athletic shoes or molded cleats). \nNote: There will be a 1-hour break on Saturday for lunch. Campers are expected to bring their own lunch or there are several eating options available within 10 minutes’ drive of campus. \nAdditionally\, there will be a session Saturday afternoon devoted to educating parents\, students and guests about the world of recruiting\, personal nutrition and how best to maximize one’s athletic experience moving forward. \n\nFriday Evening Session: 5 PM – 8 PM\nSaturday: Session I: 9 AM – 12 PM\nLunch Break: 12 PM – 1 PM\nSaturday: Session II: 1 PM – 4 PM\n\nThe camp will be directed by Camas High School Head Football Coach Adam Mathieson\, and will feature prominent regional and national quarterback trainers.
URL:https://camasfootball.com/event/tothetop-qb-camp-day-2-session-1-2025/
LOCATION:Cardon Field\, 26900 SE 15th St.\, Camas\, Washington\, 98607
CATEGORIES:Frosh Calendar,Middle School,Varsity/JV Schedule,Youth Football Camp
END:VEVENT
BEGIN:VEVENT
DTSTART;TZID=America/Los_Angeles:20250725T170000
DTEND;TZID=America/Los_Angeles:20250725T200000
DTSTAMP:20260423T141158
CREATED:20250205T020703Z
LAST-MODIFIED:20260216T002310Z
UID:2823-1753462800-1753473600@camasfootball.com
SUMMARY:#ToTheTop QB Camp Day 1
DESCRIPTION:#ToTheTop QB Camp Day 1 \nCode: 4030-25 \n5th – 12th (Event is open to all students\, not just Camas’ residents) \nThis camp is for beginner through advanced level youth and high school football players interested in advancing their skills as a quarterback. This two-day immersion camp will focus on grade level appropriate fundaments and overall quarterback development\, as instructed by some of the best QB coaches in the country. Join in the development as we instruct\, practice and compete in this one-of-a-kind regional quarterback training event. Bring a water bottle and wear athletic attire (athletic shoes or molded cleats). \nNote: There will be a 1-hour break on Saturday for lunch. Campers are expected to bring their own lunch or there are several eating options available within 10 minutes’ drive of campus. \nAdditionally\, there will be a session Saturday afternoon devoted to educating parents\, students and guests about the world of recruiting\, personal nutrition and how best to maximize one’s athletic experience moving forward. \n\nFriday Evening Session: 5 PM – 8 PM\nSaturday: Session I: 9 AM – 12 PM\nLunch Break: 12 PM – 1 PM\nSaturday: Session II: 1 PM – 4 PM\n\nThe camp will be directed by Camas High School Head Football Coach Adam Mathieson\, and will feature prominent regional and national quarterback trainers.
URL:https://camasfootball.com/event/tothetop-qb-camp-day-1-2025/
LOCATION:Cardon Field\, 26900 SE 15th St.\, Camas\, Washington\, 98607
CATEGORIES:Frosh Calendar,Middle School,Varsity/JV Schedule,Youth Football Camp
END:VEVENT
BEGIN:VEVENT
DTSTART;TZID=America/Los_Angeles:20250724T083000
DTEND;TZID=America/Los_Angeles:20250724T100000
DTSTAMP:20260423T141158
CREATED:20250205T015646Z
LAST-MODIFIED:20250321T193048Z
UID:2761-1753345800-1753351200@camasfootball.com
SUMMARY:Weight Training - Frosh
DESCRIPTION:Weight Training at the Camas High School weight room for Freshmen players.
URL:https://camasfootball.com/event/weight-training-frosh-27/
LOCATION:Camas Weight Room\, 26900 SE 15th St.\, Camas\, Washington\, 98607
CATEGORIES:Frosh Calendar,Strength and Conditioning,Varsity/JV Schedule
END:VEVENT
BEGIN:VEVENT
DTSTART;TZID=America/Los_Angeles:20250723T100000
DTEND;TZID=America/Los_Angeles:20250723T120000
DTSTAMP:20260423T141158
CREATED:20250204T213513Z
LAST-MODIFIED:20250701T224949Z
UID:2574-1753264800-1753272000@camasfootball.com
SUMMARY:7 on 7
DESCRIPTION:July 7 on 7 at Fishback Stadium. \nOpponent: Evergreen and Washougal.
URL:https://camasfootball.com/event/7-on-7-9/
LOCATION:Fishback Stadium\, 1201 39th St\, Washougal\, WA\, 98671\, United States
CATEGORIES:7 on 7,Frosh Calendar,Varsity/JV Schedule
END:VEVENT
BEGIN:VEVENT
DTSTART;TZID=America/Los_Angeles:20250722T083000
DTEND;TZID=America/Los_Angeles:20250722T100000
DTSTAMP:20260423T141158
CREATED:20250205T015626Z
LAST-MODIFIED:20250321T193030Z
UID:2760-1753173000-1753178400@camasfootball.com
SUMMARY:Weight Training - Frosh
DESCRIPTION:Weight Training at the Camas High School weight room for Freshmen players.
URL:https://camasfootball.com/event/weight-training-frosh-26/
LOCATION:Camas Weight Room\, 26900 SE 15th St.\, Camas\, Washington\, 98607
CATEGORIES:Frosh Calendar,Strength and Conditioning,Varsity/JV Schedule
END:VEVENT
BEGIN:VEVENT
DTSTART;TZID=America/Los_Angeles:20250721T083000
DTEND;TZID=America/Los_Angeles:20250721T100000
DTSTAMP:20260423T141158
CREATED:20250205T015606Z
LAST-MODIFIED:20250321T194639Z
UID:2759-1753086600-1753092000@camasfootball.com
SUMMARY:Weight Training - Frosh
DESCRIPTION:Weight Training at the Camas High School weight room for Freshmen players.
URL:https://camasfootball.com/event/weight-training-frosh-25/
LOCATION:Camas Weight Room\, 26900 SE 15th St.\, Camas\, Washington\, 98607
CATEGORIES:Frosh Calendar,Strength and Conditioning,Varsity/JV Schedule
END:VEVENT
BEGIN:VEVENT
DTSTART;TZID=America/Los_Angeles:20250717T083000
DTEND;TZID=America/Los_Angeles:20250717T100000
DTSTAMP:20260423T141158
CREATED:20250205T015547Z
LAST-MODIFIED:20250321T194629Z
UID:2758-1752741000-1752746400@camasfootball.com
SUMMARY:Weight Training - Frosh
DESCRIPTION:Weight Training at the Camas High School weight room for Freshmen players.
URL:https://camasfootball.com/event/weight-training-frosh-24/
LOCATION:Camas Weight Room\, 26900 SE 15th St.\, Camas\, Washington\, 98607
CATEGORIES:Frosh Calendar,Strength and Conditioning,Varsity/JV Schedule
END:VEVENT
BEGIN:VEVENT
DTSTART;TZID=America/Los_Angeles:20250716T180000
DTEND;TZID=America/Los_Angeles:20250716T200000
DTSTAMP:20260423T141158
CREATED:20250204T213447Z
LAST-MODIFIED:20250629T202919Z
UID:2573-1752688800-1752696000@camasfootball.com
SUMMARY:7 on 7
DESCRIPTION:July 7 on 7 at Doc Harris. \nOpponent: Prairie and Washougal.
URL:https://camasfootball.com/event/7-on-7-8/
LOCATION:Doc Harris Stadium\, 841 NE 22nd Ave.\, Camas\, Washington\, 98607
CATEGORIES:7 on 7,Frosh Calendar,Varsity/JV Schedule
END:VEVENT
BEGIN:VEVENT
DTSTART;TZID=America/Los_Angeles:20250715T083000
DTEND;TZID=America/Los_Angeles:20250715T100000
DTSTAMP:20260423T141158
CREATED:20250205T015523Z
LAST-MODIFIED:20250321T194612Z
UID:2757-1752568200-1752573600@camasfootball.com
SUMMARY:Weight Training - Frosh
DESCRIPTION:Weight Training at the Camas High School weight room for Freshmen players.
URL:https://camasfootball.com/event/weight-training-frosh-23/
LOCATION:Camas Weight Room\, 26900 SE 15th St.\, Camas\, Washington\, 98607
CATEGORIES:Frosh Calendar,Strength and Conditioning,Varsity/JV Schedule
END:VEVENT
BEGIN:VEVENT
DTSTART;TZID=America/Los_Angeles:20250714T083000
DTEND;TZID=America/Los_Angeles:20250714T100000
DTSTAMP:20260423T141158
CREATED:20250205T015502Z
LAST-MODIFIED:20250321T194603Z
UID:2756-1752481800-1752487200@camasfootball.com
SUMMARY:Weight Training - Frosh
DESCRIPTION:Weight Training at the Camas High School weight room for Freshmen players.
URL:https://camasfootball.com/event/weight-training-frosh-22/
LOCATION:Camas Weight Room\, 26900 SE 15th St.\, Camas\, Washington\, 98607
CATEGORIES:Frosh Calendar,Strength and Conditioning,Varsity/JV Schedule
END:VEVENT
BEGIN:VEVENT
DTSTART;TZID=America/Los_Angeles:20250710T083000
DTEND;TZID=America/Los_Angeles:20250710T100000
DTSTAMP:20260423T141158
CREATED:20250205T015430Z
LAST-MODIFIED:20250321T194554Z
UID:2755-1752136200-1752141600@camasfootball.com
SUMMARY:Weight Training - Frosh
DESCRIPTION:Weight Training at the Camas High School weight room for Freshmen players.
URL:https://camasfootball.com/event/weight-training-frosh-21/
LOCATION:Camas Weight Room\, 26900 SE 15th St.\, Camas\, Washington\, 98607
CATEGORIES:Frosh Calendar,Strength and Conditioning,Varsity/JV Schedule
END:VEVENT
BEGIN:VEVENT
DTSTART;TZID=America/Los_Angeles:20250709T180000
DTEND;TZID=America/Los_Angeles:20250709T200000
DTSTAMP:20260423T141158
CREATED:20250204T213421Z
LAST-MODIFIED:20250707T163736Z
UID:2572-1752084000-1752091200@camasfootball.com
SUMMARY:7 on 7
DESCRIPTION:July 7 on 7 at Doc Harris. \nOpponent: Battle Ground\, Mountain View\, Washougal and Woodland.
URL:https://camasfootball.com/event/7-on-7-7/
LOCATION:Doc Harris Stadium\, 841 NE 22nd Ave.\, Camas\, Washington\, 98607
CATEGORIES:7 on 7,Frosh Calendar,Varsity/JV Schedule
END:VEVENT
BEGIN:VEVENT
DTSTART;TZID=America/Los_Angeles:20250708T083000
DTEND;TZID=America/Los_Angeles:20250708T100000
DTSTAMP:20260423T141158
CREATED:20250205T015405Z
LAST-MODIFIED:20250321T194528Z
UID:2754-1751963400-1751968800@camasfootball.com
SUMMARY:Weight Training - Frosh
DESCRIPTION:Weight Training at the Camas High School weight room for Freshmen players.
URL:https://camasfootball.com/event/weight-training-frosh-20/
LOCATION:Camas Weight Room\, 26900 SE 15th St.\, Camas\, Washington\, 98607
CATEGORIES:Frosh Calendar,Strength and Conditioning,Varsity/JV Schedule
END:VEVENT
BEGIN:VEVENT
DTSTART;TZID=America/Los_Angeles:20250707T083000
DTEND;TZID=America/Los_Angeles:20250707T100000
DTSTAMP:20260423T141158
CREATED:20250205T015320Z
LAST-MODIFIED:20250321T194520Z
UID:2765-1751877000-1751882400@camasfootball.com
SUMMARY:Weight Training - Frosh
DESCRIPTION:Weight Training at the Camas High School weight room for Freshmen players.
URL:https://camasfootball.com/event/weight-training-frosh-15/
LOCATION:Camas Weight Room\, 26900 SE 15th St.\, Camas\, Washington\, 98607
CATEGORIES:Frosh Calendar,Strength and Conditioning,Varsity/JV Schedule
END:VEVENT
BEGIN:VEVENT
DTSTART;VALUE=DATE:20250704
DTEND;VALUE=DATE:20250705
DTSTAMP:20260423T141158
CREATED:20250204T214024Z
LAST-MODIFIED:20250321T194512Z
UID:2580-1751587200-1751673599@camasfootball.com
SUMMARY:Independence Day
DESCRIPTION:
URL:https://camasfootball.com/event/independence-day-2/
LOCATION:Washington
CATEGORIES:Frosh Calendar,Middle School,Varsity/JV Schedule
END:VEVENT
BEGIN:VEVENT
DTSTART;VALUE=DATE:20250623
DTEND;VALUE=DATE:20250624
DTSTAMP:20260423T141158
CREATED:20250204T203403Z
LAST-MODIFIED:20250321T194505Z
UID:2567-1750636800-1750723199@camasfootball.com
SUMMARY:Linfield Team Camp
DESCRIPTION:Linfield Team Camp 2025 Session 2 – June 20-23\, 2025 \nOnce again the Camas Papermakers football team will be heading South to McMinnville Oregon this spring to take part in the Wildcat Team Football Camp at Linfield University. \nMore information soon.
URL:https://camasfootball.com/event/linfield-team-camp-8/
LOCATION:Maxwell Field and Memorial Stadium\, 51 SE Lever St.\, McMinnville\, Oregon\, 97128
CATEGORIES:Frosh Calendar,Linfield Team Camp,Varsity/JV Schedule
END:VEVENT
BEGIN:VEVENT
DTSTART;VALUE=DATE:20250622
DTEND;VALUE=DATE:20250623
DTSTAMP:20260423T141158
CREATED:20250204T203344Z
LAST-MODIFIED:20250321T194501Z
UID:2566-1750550400-1750636799@camasfootball.com
SUMMARY:Linfield Team Camp
DESCRIPTION:Linfield Team Camp 2025 Session 2 – June 20-23\, 2025 \nOnce again the Camas Papermakers football team will be heading South to McMinnville Oregon this spring to take part in the Wildcat Team Football Camp at Linfield University. \nMore information soon.
URL:https://camasfootball.com/event/linfield-team-camp-7/
LOCATION:Maxwell Field and Memorial Stadium\, 51 SE Lever St.\, McMinnville\, Oregon\, 97128
CATEGORIES:Frosh Calendar,Linfield Team Camp,Varsity/JV Schedule
END:VEVENT
BEGIN:VEVENT
DTSTART;VALUE=DATE:20250621
DTEND;VALUE=DATE:20250622
DTSTAMP:20260423T141158
CREATED:20250204T203308Z
LAST-MODIFIED:20250321T194457Z
UID:2565-1750464000-1750550399@camasfootball.com
SUMMARY:Linfield Team Camp
DESCRIPTION:Linfield Team Camp 2025 Session 2 – June 20-23\, 2025 \nOnce again the Camas Papermakers football team will be heading South to McMinnville Oregon this spring to take part in the Wildcat Team Football Camp at Linfield University. \nMore information soon.
URL:https://camasfootball.com/event/linfield-team-camp-6/
LOCATION:Maxwell Field and Memorial Stadium\, 51 SE Lever St.\, McMinnville\, Oregon\, 97128
CATEGORIES:Frosh Calendar,Linfield Team Camp,Varsity/JV Schedule
END:VEVENT
END:VCALENDAR