BEGIN:VCALENDAR
VERSION:2.0
PRODID:-//Camas Football - ECPv6.15.3//NONSGML v1.0//EN
CALSCALE:GREGORIAN
METHOD:PUBLISH
X-WR-CALNAME:Camas Football
X-ORIGINAL-URL:https://camasfootball.com
X-WR-CALDESC:Events for Camas Football
REFRESH-INTERVAL;VALUE=DURATION:PT1H
X-Robots-Tag:noindex
X-PUBLISHED-TTL:PT1H
BEGIN:VTIMEZONE
TZID:America/Los_Angeles
BEGIN:DAYLIGHT
TZOFFSETFROM:-0800
TZOFFSETTO:-0700
TZNAME:PDT
DTSTART:20260308T100000
END:DAYLIGHT
BEGIN:STANDARD
TZOFFSETFROM:-0700
TZOFFSETTO:-0800
TZNAME:PST
DTSTART:20261101T090000
END:STANDARD
END:VTIMEZONE
BEGIN:VEVENT
DTSTART;TZID=America/Los_Angeles:20260817T180000
DTEND;TZID=America/Los_Angeles:20260817T193000
DTSTAMP:20260423T130057
CREATED:20260216T010245Z
LAST-MODIFIED:20260216T010245Z
UID:4463-1786989600-1786995000@camasfootball.com
SUMMARY:#Team_118 All Players Kickoff Meeting
DESCRIPTION:All players kickoff meeting in the main gym.
URL:https://camasfootball.com/event/team_118-all-players-kickoff-meeting-2026/
LOCATION:Main Gym\, 26900 SE 15th St.\, Camas\, Washington\, 98607
CATEGORIES:Frosh Calendar,Varsity/JV Schedule
END:VEVENT
BEGIN:VEVENT
DTSTART;TZID=America/Los_Angeles:20260817T180000
DTEND;TZID=America/Los_Angeles:20260817T193000
DTSTAMP:20260423T130057
CREATED:20260216T010311Z
LAST-MODIFIED:20260216T010311Z
UID:4461-1786989600-1786995000@camasfootball.com
SUMMARY:#Team_118 Parent Meeting
DESCRIPTION:Parent Meeting in the North Commons.
URL:https://camasfootball.com/event/team_118-parent-meeting-2026/
LOCATION:North Commons\, 26900 SE 15th St.\, Camas\, Washington\, 98607
CATEGORIES:Frosh Calendar,Parent Meeting,Varsity/JV Schedule
END:VEVENT
BEGIN:VEVENT
DTSTART;TZID=America/Los_Angeles:20260818T110000
DTEND;TZID=America/Los_Angeles:20260818T130000
DTSTAMP:20260423T130057
CREATED:20260216T004253Z
LAST-MODIFIED:20260216T004253Z
UID:4431-1787050800-1787058000@camasfootball.com
SUMMARY:Gear Distribution (Freshmen)
DESCRIPTION:Gear Distribution for FRESHMEN.
URL:https://camasfootball.com/event/gear-distribution-freshmen-2/
LOCATION:Camas Locker Room\, 26900 SE 15th St.\, Camas\, Washington\, 98607
CATEGORIES:Frosh Calendar,Gear Distribution,Varsity/JV Schedule
END:VEVENT
BEGIN:VEVENT
DTSTART;TZID=America/Los_Angeles:20260828T170000
DTEND;TZID=America/Los_Angeles:20260828T213000
DTSTAMP:20260423T130057
CREATED:20260216T010557Z
LAST-MODIFIED:20260216T010557Z
UID:4467-1787936400-1787952600@camasfootball.com
SUMMARY:Jamboree (Var/JV/Frosh)
DESCRIPTION:Varsity\, J.V.\, and Freshmen Jamboree \nLocation: TBD\nTime: Frosh TBD – JV TBD – Varsity TBD
URL:https://camasfootball.com/event/jamboree-var-jv-frosh-2026/
LOCATION:Washington
CATEGORIES:Football Games,Frosh Calendar,Varsity/JV Schedule
END:VEVENT
BEGIN:VEVENT
DTSTART;TZID=America/Los_Angeles:20260829T090000
DTEND;TZID=America/Los_Angeles:20260829T120000
DTSTAMP:20260423T130057
CREATED:20260216T010817Z
LAST-MODIFIED:20260216T010828Z
UID:4469-1787994000-1788004800@camasfootball.com
SUMMARY:Team Pictures & Pre-Game Walkthrough
DESCRIPTION:Team Pictures and Pre-Game Walkthrough. \nFull Pac \n8 AM: Varsity Jamboree Film Review\n9 AM: Team Pictures (all levels)\n11 AM: Practice (All Levels) \nNOTE: TBD
URL:https://camasfootball.com/event/team-pictures-pre-game-walkthrough-2026/
LOCATION:Washington
CATEGORIES:Frosh Calendar,Varsity Practice,Varsity/JV Schedule
END:VEVENT
END:VCALENDAR