BEGIN:VCALENDAR
VERSION:2.0
PRODID:-//Camas Football - ECPv6.15.3//NONSGML v1.0//EN
CALSCALE:GREGORIAN
METHOD:PUBLISH
X-WR-CALNAME:Camas Football
X-ORIGINAL-URL:https://camasfootball.com
X-WR-CALDESC:Events for Camas Football
REFRESH-INTERVAL;VALUE=DURATION:PT1H
X-Robots-Tag:noindex
X-PUBLISHED-TTL:PT1H
BEGIN:VTIMEZONE
TZID:America/Los_Angeles
BEGIN:DAYLIGHT
TZOFFSETFROM:-0800
TZOFFSETTO:-0700
TZNAME:PDT
DTSTART:20240310T100000
END:DAYLIGHT
BEGIN:STANDARD
TZOFFSETFROM:-0700
TZOFFSETTO:-0800
TZNAME:PST
DTSTART:20241103T090000
END:STANDARD
END:VTIMEZONE
BEGIN:VEVENT
DTSTART;TZID=America/Los_Angeles:20240601T063000
DTEND;TZID=America/Los_Angeles:20240601T100000
DTSTAMP:20260424T143922
CREATED:20240503T173548Z
LAST-MODIFIED:20240503T173701Z
UID:1960-1717223400-1717236000@camasfootball.com
SUMMARY:2024 Northwest Showcase (WOU)
DESCRIPTION:Sat\, Jun 01 | Western Oregon University\n2024 Northwest Showcase Session 1 OL/DL RB/LB\nThe biggest Mega Camp IS BACK!!! Come compete with the top players on the west coast in front of college coaches! \nRegister: https://www.northwestshowcase.net/event-details/2024-northwest-showcase-session-1-ol-dl-rb-lb
URL:https://camasfootball.com/event/2024-northwest-showcase-wou/
LOCATION:McArthur Field (Western Oregon University)\, 325 Stadium Dr N\, Monmouth\, OR\, 97361\, United States
CATEGORIES:Frosh Calendar
END:VEVENT
END:VCALENDAR