BEGIN:VCALENDAR
VERSION:2.0
PRODID:-//Camas Football - ECPv6.15.3//NONSGML v1.0//EN
CALSCALE:GREGORIAN
METHOD:PUBLISH
X-ORIGINAL-URL:https://camasfootball.com
X-WR-CALDESC:Events for Camas Football
REFRESH-INTERVAL;VALUE=DURATION:PT1H
X-Robots-Tag:noindex
X-PUBLISHED-TTL:PT1H
BEGIN:VTIMEZONE
TZID:America/Los_Angeles
BEGIN:DAYLIGHT
TZOFFSETFROM:-0800
TZOFFSETTO:-0700
TZNAME:PDT
DTSTART:20260308T100000
END:DAYLIGHT
BEGIN:STANDARD
TZOFFSETFROM:-0700
TZOFFSETTO:-0800
TZNAME:PST
DTSTART:20261101T090000
END:STANDARD
END:VTIMEZONE
BEGIN:VEVENT
DTSTART;TZID=America/Los_Angeles:20260608T190000
DTEND;TZID=America/Los_Angeles:20260608T203000
DTSTAMP:20260423T085153
CREATED:20260215T232800Z
LAST-MODIFIED:20260331T211045Z
UID:4308-1780945200-1780950600@camasfootball.com
SUMMARY:Incoming 9th Grade Install Practice #1
DESCRIPTION:Freshman (Class of 2030) Install Practice  #1 \nClass Room: TBD
URL:https://camasfootball.com/event/incoming-9th-grade-install-practice-1-2026/
LOCATION:Cardon Field\, 26900 SE 15th St.\, Camas\, Washington\, 98607
CATEGORIES:Frosh Calendar,Varsity/JV Schedule
END:VEVENT
BEGIN:VEVENT
DTSTART;TZID=America/Los_Angeles:20260609T190000
DTEND;TZID=America/Los_Angeles:20260609T203000
DTSTAMP:20260423T085153
CREATED:20260215T232755Z
LAST-MODIFIED:20260331T211225Z
UID:4309-1781031600-1781037000@camasfootball.com
SUMMARY:Incoming 9th Grade Install Practice #2
DESCRIPTION:Freshman (Class of 2030) Install Practice  #2
URL:https://camasfootball.com/event/incoming-9th-grade-install-practice-2-2026/
LOCATION:Cardon Field\, 26900 SE 15th St.\, Camas\, Washington\, 98607
CATEGORIES:Frosh Calendar,Varsity/JV Schedule
END:VEVENT
BEGIN:VEVENT
DTSTART;TZID=America/Los_Angeles:20260610T153000
DTEND;TZID=America/Los_Angeles:20260610T170000
DTSTAMP:20260423T085153
CREATED:20260215T233828Z
LAST-MODIFIED:20260416T025522Z
UID:4321-1781105400-1781110800@camasfootball.com
SUMMARY:Team Fundraiser
DESCRIPTION:Team Fundraiser \nAll grades\, 9\,10\,11\,12 \nDetails TBD
URL:https://camasfootball.com/event/team-fundraiser-2026/
LOCATION:Field House\, 26900 SE 15th St.\, Camas\, Washington\, 98607
CATEGORIES:Frosh Calendar,Team Fundraiser,Varsity/JV Schedule
END:VEVENT
BEGIN:VEVENT
DTSTART;TZID=America/Los_Angeles:20260611T190000
DTEND;TZID=America/Los_Angeles:20260611T203000
DTSTAMP:20260423T085153
CREATED:20260215T232859Z
LAST-MODIFIED:20260331T211240Z
UID:4310-1781204400-1781209800@camasfootball.com
SUMMARY:Incoming 9th Grade Install Practice #3
DESCRIPTION:Freshman (Class of 2030) Install Practice  #3
URL:https://camasfootball.com/event/incoming-9th-grade-install-practice-3-2026/
LOCATION:Cardon Field\, 26900 SE 15th St.\, Camas\, Washington\, 98607
CATEGORIES:Frosh Calendar,Varsity/JV Schedule
END:VEVENT
BEGIN:VEVENT
DTSTART;VALUE=DATE:20260612
DTEND;VALUE=DATE:20260613
DTSTAMP:20260423T085153
CREATED:20260215T233015Z
LAST-MODIFIED:20260215T233040Z
UID:4314-1781222400-1781308799@camasfootball.com
SUMMARY:CHS Graduation
DESCRIPTION:Camas High School Graduation
URL:https://camasfootball.com/event/chs-graduation-2026/
LOCATION:Doc Harris Stadium\, 841 NE 22nd Ave.\, Camas\, Washington\, 98607
CATEGORIES:Frosh Calendar,Varsity/JV Schedule
END:VEVENT
BEGIN:VEVENT
DTSTART;VALUE=DATE:20260622
DTEND;VALUE=DATE:20260623
DTSTAMP:20260423T085153
CREATED:20260215T003530Z
LAST-MODIFIED:20260215T003530Z
UID:4242-1782086400-1782172799@camasfootball.com
SUMMARY:SUMMER BREAK
DESCRIPTION:Summer Break
URL:https://camasfootball.com/event/summer-break/
CATEGORIES:Frosh Calendar,Varsity/JV Schedule
END:VEVENT
BEGIN:VEVENT
DTSTART;VALUE=DATE:20260623
DTEND;VALUE=DATE:20260624
DTSTAMP:20260423T085153
CREATED:20260215T003715Z
LAST-MODIFIED:20260215T003715Z
UID:4244-1782172800-1782259199@camasfootball.com
SUMMARY:SUMMER BREAK
DESCRIPTION:Summer Break
URL:https://camasfootball.com/event/summer-break-2/
CATEGORIES:Frosh Calendar,Varsity/JV Schedule
END:VEVENT
BEGIN:VEVENT
DTSTART;VALUE=DATE:20260624
DTEND;VALUE=DATE:20260625
DTSTAMP:20260423T085153
CREATED:20260215T003733Z
LAST-MODIFIED:20260215T003733Z
UID:4245-1782259200-1782345599@camasfootball.com
SUMMARY:SUMMER BREAK
DESCRIPTION:Summer Break
URL:https://camasfootball.com/event/summer-break-3/
CATEGORIES:Frosh Calendar,Varsity/JV Schedule
END:VEVENT
BEGIN:VEVENT
DTSTART;VALUE=DATE:20260625
DTEND;VALUE=DATE:20260626
DTSTAMP:20260423T085153
CREATED:20260215T003749Z
LAST-MODIFIED:20260215T003749Z
UID:4246-1782345600-1782431999@camasfootball.com
SUMMARY:SUMMER BREAK
DESCRIPTION:Summer Break
URL:https://camasfootball.com/event/summer-break-4/
CATEGORIES:Frosh Calendar,Varsity/JV Schedule
END:VEVENT
BEGIN:VEVENT
DTSTART;VALUE=DATE:20260626
DTEND;VALUE=DATE:20260627
DTSTAMP:20260423T085153
CREATED:20260215T003803Z
LAST-MODIFIED:20260215T003803Z
UID:4247-1782432000-1782518399@camasfootball.com
SUMMARY:SUMMER BREAK
DESCRIPTION:Summer Break
URL:https://camasfootball.com/event/summer-break-5/
CATEGORIES:Frosh Calendar,Varsity/JV Schedule
END:VEVENT
BEGIN:VEVENT
DTSTART;VALUE=DATE:20260629
DTEND;VALUE=DATE:20260630
DTSTAMP:20260423T085153
CREATED:20260215T003818Z
LAST-MODIFIED:20260215T003818Z
UID:4248-1782691200-1782777599@camasfootball.com
SUMMARY:SUMMER BREAK
DESCRIPTION:Summer Break
URL:https://camasfootball.com/event/summer-break-6/
CATEGORIES:Frosh Calendar,Varsity/JV Schedule
END:VEVENT
BEGIN:VEVENT
DTSTART;VALUE=DATE:20260630
DTEND;VALUE=DATE:20260701
DTSTAMP:20260423T085153
CREATED:20260215T003832Z
LAST-MODIFIED:20260215T003832Z
UID:4249-1782777600-1782863999@camasfootball.com
SUMMARY:SUMMER BREAK
DESCRIPTION:Summer Break
URL:https://camasfootball.com/event/summer-break-7/
CATEGORIES:Frosh Calendar,Varsity/JV Schedule
END:VEVENT
END:VCALENDAR