BEGIN:VCALENDAR
VERSION:2.0
PRODID:-//Camas Football - ECPv6.15.3//NONSGML v1.0//EN
CALSCALE:GREGORIAN
METHOD:PUBLISH
X-WR-CALNAME:Camas Football
X-ORIGINAL-URL:https://camasfootball.com
X-WR-CALDESC:Events for Camas Football
REFRESH-INTERVAL;VALUE=DURATION:PT1H
X-Robots-Tag:noindex
X-PUBLISHED-TTL:PT1H
BEGIN:VTIMEZONE
TZID:America/Los_Angeles
BEGIN:DAYLIGHT
TZOFFSETFROM:-0800
TZOFFSETTO:-0700
TZNAME:PDT
DTSTART:20260308T100000
END:DAYLIGHT
BEGIN:STANDARD
TZOFFSETFROM:-0700
TZOFFSETTO:-0800
TZNAME:PST
DTSTART:20261101T090000
END:STANDARD
END:VTIMEZONE
BEGIN:VEVENT
DTSTART;TZID=America/Los_Angeles:20261023T190000
DTEND;TZID=America/Los_Angeles:20261023T220000
DTSTAMP:20260425T040751
CREATED:20260216T013137Z
LAST-MODIFIED:20260216T013137Z
UID:4506-1792782000-1792792800@camasfootball.com
SUMMARY:Varsity Game #8 at Union
DESCRIPTION:Varsity Game #8 \nat Union\, McKenzie Stadium \nPlease visit Arbiter for all game updates including date\, time and location.
URL:https://camasfootball.com/event/varsity-game-8-2026-at-union/
LOCATION:McKenzie Stadium\, 2211 NE 138th Ave\, Vancouver\, Washington\, 98684
CATEGORIES:Football Games,Varsity/JV Schedule
END:VEVENT
BEGIN:VEVENT
DTSTART;TZID=America/Los_Angeles:20261030T190000
DTEND;TZID=America/Los_Angeles:20261030T220000
DTSTAMP:20260425T040751
CREATED:20260216T013233Z
LAST-MODIFIED:20260216T013233Z
UID:4507-1793386800-1793397600@camasfootball.com
SUMMARY:Varsity Game #9 vs Battle Ground
DESCRIPTION:Varsity Game #9 \nvs Battle Ground at Doc Harris Stadium \nPlease visit Arbiter for all game updates including date\, time and location.
URL:https://camasfootball.com/event/varsity-game-9-2026-vs-battle-ground/
LOCATION:Doc Harris Stadium\, 841 NE 22nd Ave.\, Camas\, Washington\, 98607
CATEGORIES:Football Games,Varsity/JV Schedule
END:VEVENT
BEGIN:VEVENT
DTSTART;TZID=America/Los_Angeles:20261106T190000
DTEND;TZID=America/Los_Angeles:20261106T220000
DTSTAMP:20260425T040751
CREATED:20260216T013555Z
LAST-MODIFIED:20260216T013612Z
UID:4525-1793991600-1794002400@camasfootball.com
SUMMARY:Varsity Game Week 10 Preliminary Round
DESCRIPTION:Week 10 Preliminary Round Varsity game. \nOpponent TBD
URL:https://camasfootball.com/event/varsity-game-week-10-preliminary-round-2026/
LOCATION:Doc Harris Stadium\, 841 NE 22nd Ave.\, Camas\, Washington\, 98607
CATEGORIES:Football Games,Varsity/JV Schedule
END:VEVENT
BEGIN:VEVENT
DTSTART;TZID=America/Los_Angeles:20261113T190000
DTEND;TZID=America/Los_Angeles:20261113T220000
DTSTAMP:20260425T040751
CREATED:20260216T013621Z
LAST-MODIFIED:20260216T013621Z
UID:4526-1794596400-1794607200@camasfootball.com
SUMMARY:Varsity Game WIAA 1st Round
DESCRIPTION:Varsity\, 1st round of WIAA State Playoffs
URL:https://camasfootball.com/event/varsity-game-wiaa-1st-round-2026/
LOCATION:Doc Harris Stadium\, 841 NE 22nd Ave.\, Camas\, Washington\, 98607
CATEGORIES:Football Games,Varsity/JV Schedule
END:VEVENT
BEGIN:VEVENT
DTSTART;TZID=America/Los_Angeles:20261121T140000
DTEND;TZID=America/Los_Angeles:20261121T170000
DTSTAMP:20260425T040751
CREATED:20260216T013658Z
LAST-MODIFIED:20260216T013658Z
UID:4527-1795269600-1795280400@camasfootball.com
SUMMARY:Varsity Game WIAA Quarterfinals
DESCRIPTION:Varsity\, Quarterfinals round of WIAA State Playoffs
URL:https://camasfootball.com/event/varsity-game-wiaa-quarterfinals-2026/
LOCATION:WA
CATEGORIES:Football Games,Varsity/JV Schedule
END:VEVENT
BEGIN:VEVENT
DTSTART;TZID=America/Los_Angeles:20261128T140000
DTEND;TZID=America/Los_Angeles:20261128T170000
DTSTAMP:20260425T040751
CREATED:20260216T013740Z
LAST-MODIFIED:20260216T013740Z
UID:4528-1795874400-1795885200@camasfootball.com
SUMMARY:Varsity Game WIAA Semifinals
DESCRIPTION:Varsity\, Semifinals round of WIAA State Playoffs
URL:https://camasfootball.com/event/varsity-game-wiaa-semifinals-2026/
LOCATION:WA
CATEGORIES:Football Games,Varsity/JV Schedule
END:VEVENT
BEGIN:VEVENT
DTSTART;TZID=America/Los_Angeles:20261205T190000
DTEND;TZID=America/Los_Angeles:20261205T220000
DTSTAMP:20260425T040751
CREATED:20260216T013829Z
LAST-MODIFIED:20260216T013829Z
UID:4529-1796497200-1796508000@camasfootball.com
SUMMARY:Varsity Game WIAA State Championship Game
DESCRIPTION:Varsity\, WIAA 4A State Championship Game
URL:https://camasfootball.com/event/varsity-game-wiaa-state-championship-game-2026/
LOCATION:Husky Stadium\, 3800 Montlake Blvd NE\, Seattle\, Washington\, 98105
CATEGORIES:Football Games,Varsity/JV Schedule
END:VEVENT
END:VCALENDAR