BEGIN:VCALENDAR
VERSION:2.0
PRODID:-//Camas Football - ECPv6.15.3//NONSGML v1.0//EN
CALSCALE:GREGORIAN
METHOD:PUBLISH
X-ORIGINAL-URL:https://camasfootball.com
X-WR-CALDESC:Events for Camas Football
REFRESH-INTERVAL;VALUE=DURATION:PT1H
X-Robots-Tag:noindex
X-PUBLISHED-TTL:PT1H
BEGIN:VTIMEZONE
TZID:America/Los_Angeles
BEGIN:DAYLIGHT
TZOFFSETFROM:-0800
TZOFFSETTO:-0700
TZNAME:PDT
DTSTART:20260308T100000
END:DAYLIGHT
BEGIN:STANDARD
TZOFFSETFROM:-0700
TZOFFSETTO:-0800
TZNAME:PST
DTSTART:20261101T090000
END:STANDARD
END:VTIMEZONE
BEGIN:VEVENT
DTSTART;VALUE=DATE:20260220
DTEND;VALUE=DATE:20260221
DTSTAMP:20260423T152057
CREATED:20260215T000056Z
LAST-MODIFIED:20260215T000056Z
UID:4207-1771545600-1771631999@camasfootball.com
SUMMARY:Glazier Clinic - Seattle
DESCRIPTION:Glazier Clinic in Seattle \nDay 1
URL:https://camasfootball.com/event/glazier-clinic-seattle-4/
CATEGORIES:Coaches Clinic,Varsity/JV Schedule
END:VEVENT
BEGIN:VEVENT
DTSTART;VALUE=DATE:20260221
DTEND;VALUE=DATE:20260222
DTSTAMP:20260423T152057
CREATED:20260215T000108Z
LAST-MODIFIED:20260215T000108Z
UID:4208-1771632000-1771718399@camasfootball.com
SUMMARY:Glazier Clinic - Seattle
DESCRIPTION:Glazier Clinic in Seattle \nDay 2
URL:https://camasfootball.com/event/glazier-clinic-seattle-5/
CATEGORIES:Coaches Clinic,Varsity/JV Schedule
END:VEVENT
BEGIN:VEVENT
DTSTART;VALUE=DATE:20260222
DTEND;VALUE=DATE:20260223
DTSTAMP:20260423T152057
CREATED:20260215T000123Z
LAST-MODIFIED:20260215T000123Z
UID:4209-1771718400-1771804799@camasfootball.com
SUMMARY:Glazier Clinic - Seattle
DESCRIPTION:Glazier Clinic in Seattle \nDay 3
URL:https://camasfootball.com/event/glazier-clinic-seattle-6/
CATEGORIES:Coaches Clinic,Varsity/JV Schedule
END:VEVENT
END:VCALENDAR