BEGIN:VCALENDAR
VERSION:2.0
PRODID:-//Camas Football - ECPv6.15.3//NONSGML v1.0//EN
CALSCALE:GREGORIAN
METHOD:PUBLISH
X-WR-CALNAME:Camas Football
X-ORIGINAL-URL:https://camasfootball.com
X-WR-CALDESC:Events for Camas Football
REFRESH-INTERVAL;VALUE=DURATION:PT1H
X-Robots-Tag:noindex
X-PUBLISHED-TTL:PT1H
BEGIN:VTIMEZONE
TZID:America/Los_Angeles
BEGIN:DAYLIGHT
TZOFFSETFROM:-0800
TZOFFSETTO:-0700
TZNAME:PDT
DTSTART:20260308T100000
END:DAYLIGHT
BEGIN:STANDARD
TZOFFSETFROM:-0700
TZOFFSETTO:-0800
TZNAME:PST
DTSTART:20261101T090000
END:STANDARD
END:VTIMEZONE
BEGIN:VEVENT
DTSTART;VALUE=DATE:20260618
DTEND;VALUE=DATE:20260619
DTSTAMP:20260423T125726
CREATED:20260215T234026Z
LAST-MODIFIED:20260215T234026Z
UID:4323-1781740800-1781827199@camasfootball.com
SUMMARY:7 on 7\, University of Oregon
DESCRIPTION:7 on 7 passing camp at Autzen Stadium\, University of Oregon.
URL:https://camasfootball.com/event/7-on-7-university-of-oregon-2026/
LOCATION:Autzen Stadium\, 2700 Martin Luther King Jr Blvd\, Eugene\, Oregon\, 97401
CATEGORIES:7 on 7,Varsity/JV Schedule
END:VEVENT
BEGIN:VEVENT
DTSTART;VALUE=DATE:20260619
DTEND;VALUE=DATE:20260620
DTSTAMP:20260423T125726
CREATED:20260215T234440Z
LAST-MODIFIED:20260215T234440Z
UID:4329-1781827200-1781913599@camasfootball.com
SUMMARY:Travel to UI 7 on 7
DESCRIPTION:Depart to University of Idaho 7 on 7 event
URL:https://camasfootball.com/event/travel-to-ui-7-on-7/
CATEGORIES:7 on 7,Varsity/JV Schedule
END:VEVENT
BEGIN:VEVENT
DTSTART;VALUE=DATE:20260620
DTEND;VALUE=DATE:20260621
DTSTAMP:20260423T125726
CREATED:20260215T234309Z
LAST-MODIFIED:20260215T234319Z
UID:4325-1781913600-1781999999@camasfootball.com
SUMMARY:7 on 7\, University of Idaho
DESCRIPTION:7 on 7 passing camp at Autzen Stadium\, University of Idaho.
URL:https://camasfootball.com/event/7-on-7-university-of-idaho-2026/
LOCATION:Kibbie Dome\, 875 Perimeter Dr\, Moscow\, ID\, 83844\, United States
CATEGORIES:7 on 7,Varsity/JV Schedule
END:VEVENT
BEGIN:VEVENT
DTSTART;VALUE=DATE:20260621
DTEND;VALUE=DATE:20260622
DTSTAMP:20260423T125726
CREATED:20260215T234532Z
LAST-MODIFIED:20260215T234532Z
UID:4331-1782000000-1782086399@camasfootball.com
SUMMARY:Travel from UI 7 on 7 (visit WSU)
DESCRIPTION:Return from University of Idaho 7 on 7 event visit Washington State University.
URL:https://camasfootball.com/event/travel-from-ui-7-on-7-visit-wsu/
CATEGORIES:7 on 7,Varsity/JV Schedule
END:VEVENT
END:VCALENDAR