BEGIN:VCALENDAR
VERSION:2.0
PRODID:-//Camas Football - ECPv6.15.3//NONSGML v1.0//EN
CALSCALE:GREGORIAN
METHOD:PUBLISH
X-ORIGINAL-URL:https://camasfootball.com
X-WR-CALDESC:Events for Camas Football
REFRESH-INTERVAL;VALUE=DURATION:PT1H
X-Robots-Tag:noindex
X-PUBLISHED-TTL:PT1H
BEGIN:VTIMEZONE
TZID:America/Los_Angeles
BEGIN:DAYLIGHT
TZOFFSETFROM:-0800
TZOFFSETTO:-0700
TZNAME:PDT
DTSTART:20260308T100000
END:DAYLIGHT
BEGIN:STANDARD
TZOFFSETFROM:-0700
TZOFFSETTO:-0800
TZNAME:PST
DTSTART:20261101T090000
END:STANDARD
END:VTIMEZONE
BEGIN:VEVENT
DTSTART;TZID=America/Los_Angeles:20260714T080000
DTEND;TZID=America/Los_Angeles:20260714T093000
DTSTAMP:20260423T113145
CREATED:20260216T000114Z
LAST-MODIFIED:20260216T000114Z
UID:4337-1784016000-1784021400@camasfootball.com
SUMMARY:Weight Training - Varsity
DESCRIPTION:Weight Training at the Camas High School weight room for 10-12 grade players.
URL:https://camasfootball.com/event/weight-training-varsity-40/
LOCATION:Camas Weight Room\, 26900 SE 15th St.\, Camas\, Washington\, 98607
CATEGORIES:Strength and Conditioning,Varsity/JV Schedule
END:VEVENT
BEGIN:VEVENT
DTSTART;TZID=America/Los_Angeles:20260714T083000
DTEND;TZID=America/Los_Angeles:20260714T100000
DTSTAMP:20260423T113145
CREATED:20260216T001024Z
LAST-MODIFIED:20260216T001024Z
UID:4372-1784017800-1784023200@camasfootball.com
SUMMARY:Weight Training - Frosh
DESCRIPTION:Weight Training at the Camas High School weight room for Freshmen players.
URL:https://camasfootball.com/event/weight-training-frosh-41/
LOCATION:Camas Weight Room\, 26900 SE 15th St.\, Camas\, Washington\, 98607
CATEGORIES:Frosh Calendar,Strength and Conditioning,Varsity/JV Schedule
END:VEVENT
END:VCALENDAR