BEGIN:VCALENDAR
VERSION:2.0
PRODID:-//Camas Football - ECPv6.15.3//NONSGML v1.0//EN
CALSCALE:GREGORIAN
METHOD:PUBLISH
X-WR-CALNAME:Camas Football
X-ORIGINAL-URL:https://camasfootball.com
X-WR-CALDESC:Events for Camas Football
REFRESH-INTERVAL;VALUE=DURATION:PT1H
X-Robots-Tag:noindex
X-PUBLISHED-TTL:PT1H
BEGIN:VTIMEZONE
TZID:America/Los_Angeles
BEGIN:DAYLIGHT
TZOFFSETFROM:-0800
TZOFFSETTO:-0700
TZNAME:PDT
DTSTART:20260308T100000
END:DAYLIGHT
BEGIN:STANDARD
TZOFFSETFROM:-0700
TZOFFSETTO:-0800
TZNAME:PST
DTSTART:20261101T090000
END:STANDARD
END:VTIMEZONE
BEGIN:VEVENT
DTSTART;VALUE=DATE:20260621
DTEND;VALUE=DATE:20260622
DTSTAMP:20260423T101340
CREATED:20260215T234532Z
LAST-MODIFIED:20260215T234532Z
UID:4331-1782000000-1782086399@camasfootball.com
SUMMARY:Travel from UI 7 on 7 (visit WSU)
DESCRIPTION:Return from University of Idaho 7 on 7 event visit Washington State University.
URL:https://camasfootball.com/event/travel-from-ui-7-on-7-visit-wsu/
LOCATION:Washington
CATEGORIES:7 on 7,Varsity/JV Schedule
END:VEVENT
BEGIN:VEVENT
DTSTART;TZID=America/Los_Angeles:20260621T113000
DTEND;TZID=America/Los_Angeles:20260621T170000
DTSTAMP:20260423T101340
CREATED:20260420T195847Z
LAST-MODIFIED:20260420T200049Z
UID:4699-1782041400-1782061200@camasfootball.com
SUMMARY:2026 Cougar Elite Football Camp
DESCRIPTION:The WSU Football Cougar Elite 1 Day Camp is an all-skill position & lineman (non-specialist)\, instructional camp. Registration is open to all aspiring student-athletes entering the 9th-12th grade this fall (2027\, 2028\, 2029 & 2030 HS grad year). Camp will be held from 1:00 PM – 5:00 PM at the Cougar Football Complex/Gesa Field. \nDeadline for registration is Thursday\, June 18\, 2026 @ 1:00 pm. \nCamp Refund Policy: \nJune 14 – June 20: Refunds will be distributed at 50% of the camp cost. \nJune 21 & Beyond: No refunds without proof of a medical emergency.   \nRegistration/Check In will run from 11:30 AM – 12:30 PM \nCamp Concludes at 5:00 pm (appx) \nRegister: https://wsufootballcamps.totalcamps.com/shop/product/577790
URL:https://camasfootball.com/event/2026-cougar-elite-football-camp/
LOCATION:Martin Stadium – Gesa Field (Washington State University)\, 1775 NE Stadium Way\, Pullman\, washington\, 99164
CATEGORIES:Prospect Camp,Varsity/JV Schedule
END:VEVENT
END:VCALENDAR