BEGIN:VCALENDAR
VERSION:2.0
PRODID:-//Camas Football - ECPv6.15.3//NONSGML v1.0//EN
CALSCALE:GREGORIAN
METHOD:PUBLISH
X-ORIGINAL-URL:https://camasfootball.com
X-WR-CALDESC:Events for Camas Football
REFRESH-INTERVAL;VALUE=DURATION:PT1H
X-Robots-Tag:noindex
X-PUBLISHED-TTL:PT1H
BEGIN:VTIMEZONE
TZID:America/Los_Angeles
BEGIN:DAYLIGHT
TZOFFSETFROM:-0800
TZOFFSETTO:-0700
TZNAME:PDT
DTSTART:20260308T100000
END:DAYLIGHT
BEGIN:STANDARD
TZOFFSETFROM:-0700
TZOFFSETTO:-0800
TZNAME:PST
DTSTART:20261101T090000
END:STANDARD
END:VTIMEZONE
BEGIN:VEVENT
DTSTART;TZID=America/Los_Angeles:20260528T071500
DTEND;TZID=America/Los_Angeles:20260528T081500
DTSTAMP:20260423T085409
CREATED:20260214T234209Z
LAST-MODIFIED:20260214T234209Z
UID:4158-1779952500-1779956100@camasfootball.com
SUMMARY:Champions Hour
DESCRIPTION:Champions Hour\n7:15 AM – 8:15 AM\n(Weight Room) \nChampions are build in the weight room!
URL:https://camasfootball.com/event/champions-hour-122/
LOCATION:Camas Weight Room\, 26900 SE 15th St.\, Camas\, Washington\, 98607
CATEGORIES:Champions Hour,Varsity/JV Schedule
END:VEVENT
BEGIN:VEVENT
DTSTART;TZID=America/Los_Angeles:20260528T151500
DTEND;TZID=America/Los_Angeles:20260528T160000
DTSTAMP:20260423T085409
CREATED:20260215T003121Z
LAST-MODIFIED:20260215T003121Z
UID:4237-1779981300-1779984000@camasfootball.com
SUMMARY:Gear Distribution (Juniors)
DESCRIPTION:Spring Gear Distribution for JUNIORS.
URL:https://camasfootball.com/event/spring-gear-distribution-juniors-2026/
LOCATION:Camas Locker Room\, 26900 SE 15th St.\, Camas\, Washington\, 98607
CATEGORIES:Gear Distribution,Varsity/JV Schedule
END:VEVENT
BEGIN:VEVENT
DTSTART;TZID=America/Los_Angeles:20260528T173000
DTEND;TZID=America/Los_Angeles:20260528T193000
DTSTAMP:20260423T085409
CREATED:20260421T185919Z
LAST-MODIFIED:20260421T200215Z
UID:4721-1779989400-1779996600@camasfootball.com
SUMMARY:#6 Liberty at Wy'East (Mountain View High School)
DESCRIPTION:Liberty Middle School Football  \nGame 6: Liberty at Wy’East (Mountain View High School) \nCheck Arbiter for any game updates.
URL:https://camasfootball.com/event/6-liberty-at-wyeast-2026/
LOCATION:Mountain View High School\, 1500 SE Blairmont Dr\, Vancouver\, WA\, 98683\, United States
CATEGORIES:Middle School
END:VEVENT
BEGIN:VEVENT
DTSTART;TZID=America/Los_Angeles:20260528T190000
DTEND;TZID=America/Los_Angeles:20260528T210000
DTSTAMP:20260423T085409
CREATED:20260421T195940Z
LAST-MODIFIED:20260421T195949Z
UID:4738-1779994800-1780002000@camasfootball.com
SUMMARY:#6 Covington at Skyridge (Doc Harris Stadium)
DESCRIPTION:Skyridge Middle School Football  \nGame 2:  Covington at Skyridge (at Doc Harris Stadium) \nCheck Arbiter for any game updates.
URL:https://camasfootball.com/event/6-covington-at-skyridge-doc-harris-stadium-2026/
LOCATION:Doc Harris Stadium\, 841 NE 22nd Ave.\, Camas\, Washington\, 98607
CATEGORIES:Middle School
END:VEVENT
END:VCALENDAR