BEGIN:VCALENDAR
VERSION:2.0
PRODID:-//Camas Football - ECPv6.15.3//NONSGML v1.0//EN
CALSCALE:GREGORIAN
METHOD:PUBLISH
X-ORIGINAL-URL:https://camasfootball.com
X-WR-CALDESC:Events for Camas Football
REFRESH-INTERVAL;VALUE=DURATION:PT1H
X-Robots-Tag:noindex
X-PUBLISHED-TTL:PT1H
BEGIN:VTIMEZONE
TZID:America/Los_Angeles
BEGIN:DAYLIGHT
TZOFFSETFROM:-0800
TZOFFSETTO:-0700
TZNAME:PDT
DTSTART:20260308T100000
END:DAYLIGHT
BEGIN:STANDARD
TZOFFSETFROM:-0700
TZOFFSETTO:-0800
TZNAME:PST
DTSTART:20261101T090000
END:STANDARD
END:VTIMEZONE
BEGIN:VEVENT
DTSTART;TZID=America/Los_Angeles:20260507T071500
DTEND;TZID=America/Los_Angeles:20260507T081500
DTSTAMP:20260423T084712
CREATED:20260214T233825Z
LAST-MODIFIED:20260214T233825Z
UID:4147-1778138100-1778141700@camasfootball.com
SUMMARY:Champions Hour
DESCRIPTION:Champions Hour\n7:15 AM – 8:15 AM\n(Weight Room) \nChampions are build in the weight room!
URL:https://camasfootball.com/event/champions-hour-111/
LOCATION:Camas Weight Room\, 26900 SE 15th St.\, Camas\, Washington\, 98607
CATEGORIES:Champions Hour,Varsity/JV Schedule
END:VEVENT
BEGIN:VEVENT
DTSTART;TZID=America/Los_Angeles:20260507T173000
DTEND;TZID=America/Los_Angeles:20260507T193000
DTSTAMP:20260423T084712
CREATED:20260421T185310Z
LAST-MODIFIED:20260421T200121Z
UID:4712-1778175000-1778182200@camasfootball.com
SUMMARY:#2 Liberty at Cascade (Evergreen High School)
DESCRIPTION:Liberty Middle School Football  \nGame 2: Liberty at Cascade (Evergreen High School) \nCheck Arbiter for any game updates.
URL:https://camasfootball.com/event/2-liberty-at-cascade-evergreen-high-school-2026/
LOCATION:Evergreen High School\, 14300 NE 18th St\, Vancouver\, WA\, 98684\, United States
CATEGORIES:Middle School
END:VEVENT
BEGIN:VEVENT
DTSTART;TZID=America/Los_Angeles:20260507T190000
DTEND;TZID=America/Los_Angeles:20260507T210000
DTSTAMP:20260423T084712
CREATED:20260421T195430Z
LAST-MODIFIED:20260421T195610Z
UID:4728-1778180400-1778187600@camasfootball.com
SUMMARY:#2 Shahala at Skyridge (Doc Harris Stadium)
DESCRIPTION:Skyridge Middle School Football  \nGame 2:  Shahala at Skyridge (at Doc Harris Stadium) \nCheck Arbiter for any game updates.
URL:https://camasfootball.com/event/2-shahala-at-skyridge-doc-harris-stadium-2026/
LOCATION:Doc Harris Stadium\, 841 NE 22nd Ave.\, Camas\, Washington\, 98607
CATEGORIES:Middle School
END:VEVENT
END:VCALENDAR