BEGIN:VCALENDAR
VERSION:2.0
PRODID:-//Camas Football - ECPv6.15.3//NONSGML v1.0//EN
CALSCALE:GREGORIAN
METHOD:PUBLISH
X-ORIGINAL-URL:https://camasfootball.com
X-WR-CALDESC:Events for Camas Football
REFRESH-INTERVAL;VALUE=DURATION:PT1H
X-Robots-Tag:noindex
X-PUBLISHED-TTL:PT1H
BEGIN:VTIMEZONE
TZID:America/Los_Angeles
BEGIN:DAYLIGHT
TZOFFSETFROM:-0800
TZOFFSETTO:-0700
TZNAME:PDT
DTSTART:20260308T100000
END:DAYLIGHT
BEGIN:STANDARD
TZOFFSETFROM:-0700
TZOFFSETTO:-0800
TZNAME:PST
DTSTART:20261101T090000
END:STANDARD
END:VTIMEZONE
BEGIN:VEVENT
DTSTART;TZID=America/Los_Angeles:20260430T071500
DTEND;TZID=America/Los_Angeles:20260430T081500
DTSTAMP:20260423T083413
CREATED:20260214T233303Z
LAST-MODIFIED:20260214T233303Z
UID:4129-1777533300-1777536900@camasfootball.com
SUMMARY:Champions Hour
DESCRIPTION:Champions Hour\n7:15 AM – 8:15 AM\n(Weight Room) \nChampions are build in the weight room!
URL:https://camasfootball.com/event/champions-hour-108/
LOCATION:Camas Weight Room\, 26900 SE 15th St.\, Camas\, Washington\, 98607
CATEGORIES:Champions Hour,Varsity/JV Schedule
END:VEVENT
BEGIN:VEVENT
DTSTART;TZID=America/Los_Angeles:20260430T173000
DTEND;TZID=America/Los_Angeles:20260430T193000
DTSTAMP:20260423T083413
CREATED:20260421T195116Z
LAST-MODIFIED:20260421T195156Z
UID:4726-1777570200-1777577400@camasfootball.com
SUMMARY:#1 Skyridge at Cascade (Evergreen High School)
DESCRIPTION:Skyridge Middle School Football  \nGame 1:  Skyridge at Cascade (at Evergreen High School) \nCheck Arbiter for any game updates.
URL:https://camasfootball.com/event/1-skyridge-at-cascade-evergreen-high-school-2026/
LOCATION:Evergreen High School\, 14300 NE 18th St\, Vancouver\, WA\, 98684\, United States
CATEGORIES:Middle School
END:VEVENT
BEGIN:VEVENT
DTSTART;TZID=America/Los_Angeles:20260430T190000
DTEND;TZID=America/Los_Angeles:20260430T210000
DTSTAMP:20260423T083413
CREATED:20260421T185003Z
LAST-MODIFIED:20260421T200057Z
UID:4710-1777575600-1777582800@camasfootball.com
SUMMARY:#1 Shahala at Liberty (Doc Harris Stadium)
DESCRIPTION:Liberty Middle School Football  \nGame 1: Shahala at Liberty (Doc Harris Stadium) \nCheck Arbiter for any game updates.
URL:https://camasfootball.com/event/1-shahala-at-liberty-doc-harris-stadium-2026/
LOCATION:Doc Harris Stadium\, 841 NE 22nd Ave.\, Camas\, Washington\, 98607
CATEGORIES:Middle School
END:VEVENT
END:VCALENDAR