BEGIN:VCALENDAR
VERSION:2.0
PRODID:-//Camas Football - ECPv6.15.3//NONSGML v1.0//EN
CALSCALE:GREGORIAN
METHOD:PUBLISH
X-WR-CALNAME:Camas Football
X-ORIGINAL-URL:https://camasfootball.com
X-WR-CALDESC:Events for Camas Football
REFRESH-INTERVAL;VALUE=DURATION:PT1H
X-Robots-Tag:noindex
X-PUBLISHED-TTL:PT1H
BEGIN:VTIMEZONE
TZID:America/Los_Angeles
BEGIN:DAYLIGHT
TZOFFSETFROM:-0800
TZOFFSETTO:-0700
TZNAME:PDT
DTSTART:20250309T100000
END:DAYLIGHT
BEGIN:STANDARD
TZOFFSETFROM:-0700
TZOFFSETTO:-0800
TZNAME:PST
DTSTART:20251102T090000
END:STANDARD
END:VTIMEZONE
BEGIN:VEVENT
DTSTART;VALUE=DATE:20250926
DTEND;VALUE=DATE:20250927
DTSTAMP:20260423T162831
CREATED:20250205T034213Z
LAST-MODIFIED:20250818T232903Z
UID:2938-1758844800-1758931199@camasfootball.com
SUMMARY:Varsity Game #4 at West Linn
DESCRIPTION:Varsity Game #4 \nat West Linn\, Oregon \nPlease visit Arbiter for all game updates including date\, time and location.
URL:https://camasfootball.com/event/varsity-game-4-2/
LOCATION:Washington
CATEGORIES:Football Games,Varsity/JV Schedule
END:VEVENT
BEGIN:VEVENT
DTSTART;TZID=America/Los_Angeles:20250926T154500
DTEND;TZID=America/Los_Angeles:20250926T180000
DTSTAMP:20260423T162831
CREATED:20250818T225605Z
LAST-MODIFIED:20250818T225605Z
UID:3780-1758901500-1758909600@camasfootball.com
SUMMARY:Frosh Practice
DESCRIPTION:Frosh Practice \nFull Pac
URL:https://camasfootball.com/event/frosh-practice-23/
LOCATION:Cardon Field\, 26900 SE 15th St.\, Camas\, Washington\, 98607
CATEGORIES:Frosh Calendar
END:VEVENT
END:VCALENDAR