BEGIN:VCALENDAR
VERSION:2.0
PRODID:-//Camas Football - ECPv6.15.3//NONSGML v1.0//EN
CALSCALE:GREGORIAN
METHOD:PUBLISH
X-ORIGINAL-URL:https://camasfootball.com
X-WR-CALDESC:Events for Camas Football
REFRESH-INTERVAL;VALUE=DURATION:PT1H
X-Robots-Tag:noindex
X-PUBLISHED-TTL:PT1H
BEGIN:VTIMEZONE
TZID:America/Los_Angeles
BEGIN:DAYLIGHT
TZOFFSETFROM:-0800
TZOFFSETTO:-0700
TZNAME:PDT
DTSTART:20250309T100000
END:DAYLIGHT
BEGIN:STANDARD
TZOFFSETFROM:-0700
TZOFFSETTO:-0800
TZNAME:PST
DTSTART:20251102T090000
END:STANDARD
END:VTIMEZONE
BEGIN:VEVENT
DTSTART;TZID=America/Los_Angeles:20250514T070000
DTEND;TZID=America/Los_Angeles:20250514T081500
DTSTAMP:20260423T215012
CREATED:20250204T193123Z
LAST-MODIFIED:20250321T201944Z
UID:2543-1747206000-1747210500@camasfootball.com
SUMMARY:SAQ Pass #15
DESCRIPTION:Speed Agility Quickness Pass #15\n7:00 AM – 8:15 AM\n(Field House)
URL:https://camasfootball.com/event/saq-pass-15/
LOCATION:Field House\, 26900 SE 15th St.\, Camas\, Washington\, 98607
CATEGORIES:Speed Agility Quickness,Varsity/JV Schedule
END:VEVENT
BEGIN:VEVENT
DTSTART;TZID=America/Los_Angeles:20250514T160000
DTEND;TZID=America/Los_Angeles:20250514T174500
DTSTAMP:20260423T215012
CREATED:20250320T170312Z
LAST-MODIFIED:20250320T170312Z
UID:3266-1747238400-1747244700@camasfootball.com
SUMMARY:Liberty (Practice)
DESCRIPTION:Liberty Middle School Football  \nPractice
URL:https://camasfootball.com/event/liberty-practice-21/
LOCATION:Liberty Middle School\, 1612 NE Garfield St\, Camas\, 98607\, United States
CATEGORIES:Middle School
END:VEVENT
BEGIN:VEVENT
DTSTART;TZID=America/Los_Angeles:20250514T160000
DTEND;TZID=America/Los_Angeles:20250514T174500
DTSTAMP:20260423T215012
CREATED:20250327T191903Z
LAST-MODIFIED:20250327T191903Z
UID:3404-1747238400-1747244700@camasfootball.com
SUMMARY:Skyridge (Practice)
DESCRIPTION:Skyridge Middle School Football  \nPractice
URL:https://camasfootball.com/event/skyridge-practice-23/
LOCATION:Skyridge Middle School\, 5220 NW Parker St\, Camas\, WA\, 98607\, United States
CATEGORIES:Middle School
END:VEVENT
END:VCALENDAR