BEGIN:VCALENDAR
VERSION:2.0
PRODID:-//Camas Football - ECPv6.15.3//NONSGML v1.0//EN
CALSCALE:GREGORIAN
METHOD:PUBLISH
X-WR-CALNAME:Camas Football
X-ORIGINAL-URL:https://camasfootball.com
X-WR-CALDESC:Events for Camas Football
REFRESH-INTERVAL;VALUE=DURATION:PT1H
X-Robots-Tag:noindex
X-PUBLISHED-TTL:PT1H
BEGIN:VTIMEZONE
TZID:America/Los_Angeles
BEGIN:DAYLIGHT
TZOFFSETFROM:-0800
TZOFFSETTO:-0700
TZNAME:PDT
DTSTART:20240310T100000
END:DAYLIGHT
BEGIN:STANDARD
TZOFFSETFROM:-0700
TZOFFSETTO:-0800
TZNAME:PST
DTSTART:20241103T090000
END:STANDARD
END:VTIMEZONE
BEGIN:VEVENT
DTSTART;TZID=America/Los_Angeles:20241130T130000
DTEND;TZID=America/Los_Angeles:20241130T160000
DTSTAMP:20260424T064857
CREATED:20240224T003947Z
LAST-MODIFIED:20241126T032404Z
UID:1242-1732971600-1732982400@camasfootball.com
SUMMARY:Varsity Game WIAA Semifinals
DESCRIPTION:Varsity\, Semifinals vs Gonzaga Prep \n1:00 pm at McKenzie Stadium\, Vancouver. \n 
URL:https://camasfootball.com/event/varsity-game-wiaa-semifinals/
LOCATION:McKenzie Stadium\, 2211 NE 138th Ave\, Vancouver\, Washington\, 98684
CATEGORIES:Football Games
END:VEVENT
END:VCALENDAR